BEGIN:VCALENDAR
VERSION:2.0
PRODID:-//Dorset Wiltshire Rugby Football Union - ECPv6.15.20//NONSGML v1.0//EN
CALSCALE:GREGORIAN
METHOD:PUBLISH
X-ORIGINAL-URL:https://dwrugby.co.uk
X-WR-CALDESC:Events for Dorset Wiltshire Rugby Football Union
REFRESH-INTERVAL;VALUE=DURATION:PT1H
X-Robots-Tag:noindex
X-PUBLISHED-TTL:PT1H
BEGIN:VTIMEZONE
TZID:UTC
BEGIN:STANDARD
TZOFFSETFROM:+0000
TZOFFSETTO:+0000
TZNAME:UTC
DTSTART:20210101T000000
END:STANDARD
END:VTIMEZONE
BEGIN:VEVENT
DTSTART;TZID=UTC:20220720T193000
DTEND;TZID=UTC:20220720T203000
DTSTAMP:20260425T200838
CREATED:20210412T100813Z
LAST-MODIFIED:20210412T100817Z
UID:29804-1658345400-1658349000@dwrugby.co.uk
SUMMARY:Annual General Meeting of Dorset & Wilts. RFU Ltd
DESCRIPTION:
URL:https://dwrugby.co.uk/event/annual-general-meeting-of-dorset-wilts-rfu-ltd-2/
LOCATION:TBA
END:VEVENT
END:VCALENDAR