BEGIN:VCALENDAR
VERSION:2.0
PRODID:-//Dorset Wiltshire Rugby Football Union - ECPv6.15.20//NONSGML v1.0//EN
CALSCALE:GREGORIAN
METHOD:PUBLISH
X-WR-CALNAME:Dorset Wiltshire Rugby Football Union
X-ORIGINAL-URL:https://dwrugby.co.uk
X-WR-CALDESC:Events for Dorset Wiltshire Rugby Football Union
REFRESH-INTERVAL;VALUE=DURATION:PT1H
X-Robots-Tag:noindex
X-PUBLISHED-TTL:PT1H
BEGIN:VTIMEZONE
TZID:UTC
BEGIN:STANDARD
TZOFFSETFROM:+0000
TZOFFSETTO:+0000
TZNAME:UTC
DTSTART:20210101T000000
END:STANDARD
END:VTIMEZONE
BEGIN:VEVENT
DTSTART;TZID=UTC:20220921T193000
DTEND;TZID=UTC:20220921T200000
DTSTAMP:20260425T151754
CREATED:20220908T101509Z
LAST-MODIFIED:20220908T101509Z
UID:33474-1663788600-1663790400@dwrugby.co.uk
SUMMARY:D&W RFU AGM
DESCRIPTION:
URL:https://dwrugby.co.uk/event/dw-rfu-agm/
LOCATION:Salisbury RFC\, Castle Road\, Salisbury\, SP1 3SA
END:VEVENT
END:VCALENDAR