BEGIN:VCALENDAR
VERSION:2.0
PRODID:-//Dorset Wiltshire Rugby Football Union - ECPv6.15.20//NONSGML v1.0//EN
CALSCALE:GREGORIAN
METHOD:PUBLISH
X-WR-CALNAME:Dorset Wiltshire Rugby Football Union
X-ORIGINAL-URL:https://dwrugby.co.uk
X-WR-CALDESC:Events for Dorset Wiltshire Rugby Football Union
REFRESH-INTERVAL;VALUE=DURATION:PT1H
X-Robots-Tag:noindex
X-PUBLISHED-TTL:PT1H
BEGIN:VTIMEZONE
TZID:UTC
BEGIN:STANDARD
TZOFFSETFROM:+0000
TZOFFSETTO:+0000
TZNAME:UTC
DTSTART:20240101T000000
END:STANDARD
END:VTIMEZONE
BEGIN:VEVENT
DTSTART;TZID=UTC:20250304T123000
DTEND;TZID=UTC:20250304T153000
DTSTAMP:20260419T203129
CREATED:20241209T211516Z
LAST-MODIFIED:20241209T211516Z
UID:1666523-1741091400-1741102200@dwrugby.co.uk
SUMMARY:CSU Boys Schools Rugby 7’s
DESCRIPTION:Year 8 \nRegistration by 12.30 pm. Pools start at 1.0 pm. Aim to get schools away by 3.15 pm
URL:https://dwrugby.co.uk/event/csu-boys-schools-rugby-7s-3/
LOCATION:Swanage & Wareham RFC
END:VEVENT
END:VCALENDAR