BEGIN:VCALENDAR
VERSION:2.0
PRODID:-//Dorset Wiltshire Rugby Football Union - ECPv6.15.20//NONSGML v1.0//EN
CALSCALE:GREGORIAN
METHOD:PUBLISH
X-WR-CALNAME:Dorset Wiltshire Rugby Football Union
X-ORIGINAL-URL:https://dwrugby.co.uk
X-WR-CALDESC:Events for Dorset Wiltshire Rugby Football Union
REFRESH-INTERVAL;VALUE=DURATION:PT1H
X-Robots-Tag:noindex
X-PUBLISHED-TTL:PT1H
BEGIN:VTIMEZONE
TZID:UTC
BEGIN:STANDARD
TZOFFSETFROM:+0000
TZOFFSETTO:+0000
TZNAME:UTC
DTSTART:20240101T000000
END:STANDARD
END:VTIMEZONE
BEGIN:VEVENT
DTSTART;VALUE=DATE:20250316
DTEND;VALUE=DATE:20250317
DTSTAMP:20260419T185320
CREATED:20250225T141842Z
LAST-MODIFIED:20250310T112112Z
UID:1666919-1742083200-1742169599@dwrugby.co.uk
SUMMARY:D&W RFU Under 18's County Girls.
DESCRIPTION:Dorset & Wilts RFU vs Buckinghamshire RFU Rearranged match \nKick off - 2.30 pm
URL:https://dwrugby.co.uk/event/dw-rfu-under-18s-county-girls/
LOCATION:North Dorset RFC Gillingham Dorset\, Longbury Hill Lane\, Gillingham\, SP8 5SY
END:VEVENT
END:VCALENDAR