BEGIN:VCALENDAR
VERSION:2.0
PRODID:-//Dorset Wiltshire Rugby Football Union - ECPv6.15.20//NONSGML v1.0//EN
CALSCALE:GREGORIAN
METHOD:PUBLISH
X-ORIGINAL-URL:https://dwrugby.co.uk
X-WR-CALDESC:Events for Dorset Wiltshire Rugby Football Union
REFRESH-INTERVAL;VALUE=DURATION:PT1H
X-Robots-Tag:noindex
X-PUBLISHED-TTL:PT1H
BEGIN:VTIMEZONE
TZID:UTC
BEGIN:STANDARD
TZOFFSETFROM:+0000
TZOFFSETTO:+0000
TZNAME:UTC
DTSTART:20240101T000000
END:STANDARD
END:VTIMEZONE
BEGIN:VEVENT
DTSTART;TZID=UTC:20250406T103000
DTEND;TZID=UTC:20250406T170000
DTSTAMP:20260419T185401
CREATED:20250402T075445Z
LAST-MODIFIED:20250402T075445Z
UID:1666972-1743935400-1743958800@dwrugby.co.uk
SUMMARY:Dorset & Wilts RFU  Under 14’s Finals
DESCRIPTION:The following D&W  U14’s Finals will take place at Sherborne Rugby Club on Sunday April 6th: \nCup- \nSalisbury v Bournemouth \nPlate - \nBradford V Dorchester \nBowl - \nSwindon v Chippenham \nTrophy - \nSwans v Wimborne \nThe Bowl and Trophy Final will KO at 11am \nThe Plate and Cup Final will KO at 12:30
URL:https://dwrugby.co.uk/event/dorset-wilts-rfu-under-14s-finals/
LOCATION:Sherborne RFC
END:VEVENT
END:VCALENDAR