BEGIN:VCALENDAR
VERSION:2.0
PRODID:-//Dorset Wiltshire Rugby Football Union - ECPv6.15.20//NONSGML v1.0//EN
CALSCALE:GREGORIAN
METHOD:PUBLISH
X-WR-CALNAME:Dorset Wiltshire Rugby Football Union
X-ORIGINAL-URL:https://dwrugby.co.uk
X-WR-CALDESC:Events for Dorset Wiltshire Rugby Football Union
REFRESH-INTERVAL;VALUE=DURATION:PT1H
X-Robots-Tag:noindex
X-PUBLISHED-TTL:PT1H
BEGIN:VTIMEZONE
TZID:UTC
BEGIN:STANDARD
TZOFFSETFROM:+0000
TZOFFSETTO:+0000
TZNAME:UTC
DTSTART:20230101T000000
END:STANDARD
END:VTIMEZONE
BEGIN:VEVENT
DTSTART;TZID=UTC:20250319T190000
DTEND;TZID=UTC:20250319T200000
DTSTAMP:20260420T060424
CREATED:20250127T155713Z
LAST-MODIFIED:20250127T155713Z
UID:1666799-1742410800-1742414400@dwrugby.co.uk
SUMMARY:Clubhouse Wins
DESCRIPTION:Clubhouse Wins - Boost Customer Numbers & Increase Spend  (Webinar) \nZoom Link  
URL:https://dwrugby.co.uk/event/clubhouse-wins/
LOCATION:Zoom
END:VEVENT
BEGIN:VEVENT
DTSTART;TZID=UTC:20250317T123000
DTEND;TZID=UTC:20250317T153000
DTSTAMP:20260420T060424
CREATED:20241209T211657Z
LAST-MODIFIED:20241209T211657Z
UID:1666525-1742214600-1742225400@dwrugby.co.uk
SUMMARY:CSU Boys Schools Rugby 7’s
DESCRIPTION:Year 10 \nRegistration by 12.30 pm. Pools start at 1.0 pm. Aim to get schools away by 3.15 pm
URL:https://dwrugby.co.uk/event/csu-boys-schools-rugby-7s-4/
LOCATION:Canford School
END:VEVENT
BEGIN:VEVENT
DTSTART;VALUE=DATE:20250316
DTEND;VALUE=DATE:20250317
DTSTAMP:20260420T060424
CREATED:20250225T141842Z
LAST-MODIFIED:20250310T112112Z
UID:1666919-1742083200-1742169599@dwrugby.co.uk
SUMMARY:D&W RFU Under 18's County Girls.
DESCRIPTION:Dorset & Wilts RFU vs Buckinghamshire RFU Rearranged match \nKick off - 2.30 pm
URL:https://dwrugby.co.uk/event/dw-rfu-under-18s-county-girls/
LOCATION:North Dorset RFC Gillingham Dorset\, Longbury Hill Lane\, Gillingham\, SP8 5SY
END:VEVENT
BEGIN:VEVENT
DTSTART;TZID=UTC:20250312T183000
DTEND;TZID=UTC:20250312T203000
DTSTAMP:20260420T060424
CREATED:20250127T155252Z
LAST-MODIFIED:20250127T155316Z
UID:1666797-1741804200-1741811400@dwrugby.co.uk
SUMMARY:Review your Club Structure (Virtual Workshop)
DESCRIPTION:Link to register your interest 
URL:https://dwrugby.co.uk/event/review-your-club-structure-virtual-workshop/
END:VEVENT
BEGIN:VEVENT
DTSTART;TZID=UTC:20250310T190000
DTEND;TZID=UTC:20250310T200000
DTSTAMP:20260420T060424
CREATED:20250127T154931Z
LAST-MODIFIED:20250127T154931Z
UID:1666795-1741633200-1741636800@dwrugby.co.uk
SUMMARY:Women & Girls (Webinar)
DESCRIPTION:Details to follow
URL:https://dwrugby.co.uk/event/women-girls-webinar/
LOCATION:Zoom
END:VEVENT
BEGIN:VEVENT
DTSTART;TZID=UTC:20250309T133000
DTEND;TZID=UTC:20250309T170000
DTSTAMP:20260420T060424
CREATED:20250115T202345Z
LAST-MODIFIED:20250115T202345Z
UID:1666746-1741527000-1741539600@dwrugby.co.uk
SUMMARY:Love Rugby Cluster
DESCRIPTION:More details to follow\, but open to all age groups U12-U18
URL:https://dwrugby.co.uk/event/love-rugby-cluster-2/
LOCATION:Wimborne RFC
END:VEVENT
BEGIN:VEVENT
DTSTART;TZID=UTC:20250306T190000
DTEND;TZID=UTC:20250306T200000
DTSTAMP:20260420T060424
CREATED:20250127T154730Z
LAST-MODIFIED:20250127T154730Z
UID:1666793-1741287600-1741291200@dwrugby.co.uk
SUMMARY:Safeguarding and Discipline
DESCRIPTION:When Safeguarding and Discipline overlap – dealing with incidents effectively \nZoom link \n 
URL:https://dwrugby.co.uk/event/safeguarding-and-discipline/
LOCATION:Zoom
END:VEVENT
BEGIN:VEVENT
DTSTART;TZID=UTC:20250305T183000
DTEND;TZID=UTC:20250305T200000
DTSTAMP:20260420T060424
CREATED:20250116T153939Z
LAST-MODIFIED:20250116T153939Z
UID:1666752-1741199400-1741204800@dwrugby.co.uk
SUMMARY:Workshops and Webinars
DESCRIPTION:Growing your Social Media – Women & Girls Audience  \nOnline event
URL:https://dwrugby.co.uk/event/workshops-and-webinars-3/
LOCATION:Online
END:VEVENT
BEGIN:VEVENT
DTSTART;TZID=UTC:20250304T123000
DTEND;TZID=UTC:20250304T153000
DTSTAMP:20260420T060424
CREATED:20241209T211516Z
LAST-MODIFIED:20241209T211516Z
UID:1666523-1741091400-1741102200@dwrugby.co.uk
SUMMARY:CSU Boys Schools Rugby 7’s
DESCRIPTION:Year 8 \nRegistration by 12.30 pm. Pools start at 1.0 pm. Aim to get schools away by 3.15 pm
URL:https://dwrugby.co.uk/event/csu-boys-schools-rugby-7s-3/
LOCATION:Swanage & Wareham RFC
END:VEVENT
BEGIN:VEVENT
DTSTART;TZID=UTC:20250225T123000
DTEND;TZID=UTC:20250225T153000
DTSTAMP:20260420T060424
CREATED:20241209T211340Z
LAST-MODIFIED:20241209T211340Z
UID:1666521-1740486600-1740497400@dwrugby.co.uk
SUMMARY:CSU Boys Schools Rugby 7’s
DESCRIPTION:Year 9 \nRegistration by 12.30 pm. Pools start at 1.0 pm. Aim to get schools away by 3.15 pm
URL:https://dwrugby.co.uk/event/csu-boys-schools-rugby-7s-2/
LOCATION:Swanage & Wareham RFC
END:VEVENT
BEGIN:VEVENT
DTSTART;TZID=UTC:20250224T190000
DTEND;TZID=UTC:20250224T200000
DTSTAMP:20260420T060424
CREATED:20250116T153700Z
LAST-MODIFIED:20250116T153700Z
UID:1666750-1740423600-1740427200@dwrugby.co.uk
SUMMARY:Workshops and Webinars
DESCRIPTION:Grant Funding  \nOnline event
URL:https://dwrugby.co.uk/event/workshops-and-webinars-2/
LOCATION:Online
END:VEVENT
BEGIN:VEVENT
DTSTART;TZID=UTC:20250223T143000
DTEND;TZID=UTC:20250223T170000
DTSTAMP:20260420T060424
CREATED:20250130T192358Z
LAST-MODIFIED:20250130T192358Z
UID:1666823-1740321000-1740330000@dwrugby.co.uk
SUMMARY:PDGFP Girls U16
DESCRIPTION:Devon RFU vs D&W RFU
URL:https://dwrugby.co.uk/event/pdgfp-girls-u16-2/
LOCATION:Exmouth RFC
END:VEVENT
BEGIN:VEVENT
DTSTART;TZID=UTC:20250222T090000
DTEND;TZID=UTC:20250222T170000
DTSTAMP:20260420T060424
CREATED:20250107T200958Z
LAST-MODIFIED:20250107T200958Z
UID:1666674-1740214800-1740243600@dwrugby.co.uk
SUMMARY:D&W RFU Senior Women’s County Trial
DESCRIPTION:Registration - 9.00 am \nStart 9.30 am
URL:https://dwrugby.co.uk/event/dw-rfu-senior-womens-county-trial-2/
LOCATION:North Dorset RFC Gillingham Dorset\, Longbury Hill Lane\, Gillingham\, SP8 5SY
END:VEVENT
BEGIN:VEVENT
DTSTART;TZID=UTC:20250217T180000
DTEND;TZID=UTC:20250217T210000
DTSTAMP:20260420T060424
CREATED:20250114T211603Z
LAST-MODIFIED:20250114T211627Z
UID:1666743-1739815200-1739826000@dwrugby.co.uk
SUMMARY:Taster session for new referees
DESCRIPTION:Introduction to referee courses to try to attract more referees to the game (both Male & Female) to help cover more games across the weekend. The aim is for the courses to be a ‘taster ’session for new referees\, with the hope that they will sign up for the full course next season. \nFor more information please email the Chair of the Referee Society
URL:https://dwrugby.co.uk/event/taster-session-for-new-referees-5/
LOCATION:Pewsey Vale RFC
END:VEVENT
BEGIN:VEVENT
DTSTART;TZID=UTC:20250213T180000
DTEND;TZID=UTC:20250213T210000
DTSTAMP:20260420T060424
CREATED:20250114T211257Z
LAST-MODIFIED:20250114T211257Z
UID:1666739-1739469600-1739480400@dwrugby.co.uk
SUMMARY:Taster session for new referees
DESCRIPTION:Introduction to referee courses to try to attract more referees to the game (both Male & Female) to help cover more games across the weekend. The aim is for the courses to be a ‘taster ’session for new referees\, with the hope that they will sign up for the full course next season. \nFor more information please email the Chair of the Referee Society
URL:https://dwrugby.co.uk/event/taster-session-for-new-referees-3/
LOCATION:Trowbridge RFC
END:VEVENT
BEGIN:VEVENT
DTSTART;TZID=UTC:20250211T190000
DTEND;TZID=UTC:20250211T203000
DTSTAMP:20260420T060424
CREATED:20241207T145719Z
LAST-MODIFIED:20241207T145812Z
UID:1666499-1739300400-1739305800@dwrugby.co.uk
SUMMARY:D&W Council
DESCRIPTION:Via Zoom
URL:https://dwrugby.co.uk/event/dw-council-2/
END:VEVENT
BEGIN:VEVENT
DTSTART;TZID=UTC:20250211T123000
DTEND;TZID=UTC:20250211T153000
DTSTAMP:20260420T060424
CREATED:20241209T210843Z
LAST-MODIFIED:20241209T211120Z
UID:1666519-1739277000-1739287800@dwrugby.co.uk
SUMMARY:CSU Boys Schools Rugby 7's
DESCRIPTION:Year 7 \nRegistration by 12.30 pm. Pools start at 1.0 pm. Aim to get schools away by 3.15 pm
URL:https://dwrugby.co.uk/event/csu-boys-schools-rugby-7s/
LOCATION:Swanage & Wareham RFC
END:VEVENT
BEGIN:VEVENT
DTSTART;TZID=UTC:20250210T180000
DTEND;TZID=UTC:20250210T210000
DTSTAMP:20260420T060424
CREATED:20250114T211443Z
LAST-MODIFIED:20250114T211443Z
UID:1666741-1739210400-1739221200@dwrugby.co.uk
SUMMARY:Taster session for new referees
DESCRIPTION:Introduction to referee courses to try to attract more referees to the game (both Male & Female) to help cover more games across the weekend. The aim is for the courses to be a ‘taster ’session for new referees\, with the hope that they will sign up for the full course next season. \nFor more information please email the Chair of the Referee Society
URL:https://dwrugby.co.uk/event/taster-session-for-new-referees-4/
LOCATION:Royal Wootton Bassett RFC
END:VEVENT
BEGIN:VEVENT
DTSTART;TZID=UTC:20250208T090000
DTEND;TZID=UTC:20250208T170000
DTSTAMP:20260420T060424
CREATED:20250107T200755Z
LAST-MODIFIED:20250107T200755Z
UID:1666671-1739005200-1739034000@dwrugby.co.uk
SUMMARY:D&W RFU Senior Women's County Trial
DESCRIPTION:Registration - 9.00 am \nStart - 9.30 am
URL:https://dwrugby.co.uk/event/dw-rfu-senior-womens-county-trial/
LOCATION:North Dorset RFC Gillingham Dorset\, Longbury Hill Lane\, Gillingham\, SP8 5SY
END:VEVENT
BEGIN:VEVENT
DTSTART;TZID=UTC:20250206T180000
DTEND;TZID=UTC:20250206T210000
DTSTAMP:20260420T060424
CREATED:20250114T211138Z
LAST-MODIFIED:20250114T211138Z
UID:1666737-1738864800-1738875600@dwrugby.co.uk
SUMMARY:Taster session for new referees
DESCRIPTION:Introduction to referee courses to try to attract more referees to the game (both Male & Female) to help cover more games across the weekend. The aim is for the courses to be a ‘taster ’session for new referees\, with the hope that they will sign up for the full course next season. \nFor more information please email the Chair of the Referee Society \n 
URL:https://dwrugby.co.uk/event/taster-session-for-new-referees-2/
LOCATION:TBC
END:VEVENT
BEGIN:VEVENT
DTSTART;TZID=UTC:20250203T183000
DTEND;TZID=UTC:20250203T200000
DTSTAMP:20260420T060424
CREATED:20250116T153407Z
LAST-MODIFIED:20250116T153407Z
UID:1666748-1738607400-1738612800@dwrugby.co.uk
SUMMARY:Workshops and Webinars
DESCRIPTION:Growing Your Social Media Audience  \nWill need to book on as limited places.  \n 
URL:https://dwrugby.co.uk/event/workshops-and-webinars/
LOCATION:Online
END:VEVENT
BEGIN:VEVENT
DTSTART;TZID=UTC:20250203T180000
DTEND;TZID=UTC:20250203T210000
DTSTAMP:20260420T060424
CREATED:20250114T210807Z
LAST-MODIFIED:20250114T210807Z
UID:1666735-1738605600-1738616400@dwrugby.co.uk
SUMMARY:Taster session for new referees
DESCRIPTION:Introduction to referee courses to try to attract more referees to the game (both Male & Female) to help cover more games across the weekend. The aim is for the courses to be a ‘taster ’session for new referees\, with the hope that they will sign up for the full course next season. \nFor more information please email the Chair of the Referee Society \n 
URL:https://dwrugby.co.uk/event/taster-session-for-new-referees/
LOCATION:Dorchester RFC
END:VEVENT
BEGIN:VEVENT
DTSTART;TZID=UTC:20250202T133000
DTEND;TZID=UTC:20250202T170000
DTSTAMP:20260420T060424
CREATED:20250130T192220Z
LAST-MODIFIED:20250130T192220Z
UID:1666821-1738503000-1738515600@dwrugby.co.uk
SUMMARY:PDGFP Girls U16
DESCRIPTION:D&W RFU vs Oxfordshire
URL:https://dwrugby.co.uk/event/pdgfp-girls-u16/
LOCATION:Melksham RFC
END:VEVENT
BEGIN:VEVENT
DTSTART;TZID=UTC:20250120T193000
DTEND;TZID=UTC:20250120T203000
DTSTAMP:20260420T060424
CREATED:20250107T201308Z
LAST-MODIFIED:20250107T201308Z
UID:1666676-1737401400-1737405000@dwrugby.co.uk
SUMMARY:South Wiltshire Huddle
DESCRIPTION:for more information please contact Dave Wookey
URL:https://dwrugby.co.uk/event/south-wiltshire-huddle-8/
LOCATION:Zoom
END:VEVENT
BEGIN:VEVENT
DTSTART;TZID=UTC:20250119T120000
DTEND;TZID=UTC:20250119T170000
DTSTAMP:20260420T060424
CREATED:20250107T201738Z
LAST-MODIFIED:20250107T201738Z
UID:1666678-1737288000-1737306000@dwrugby.co.uk
SUMMARY:Jason Leonard County Championship Under 20’s Men
DESCRIPTION:For more information please contact \nMark Adams - D&W U20s Manager \nm.m.adams@hotmail.co.uk \n07795 313 889
URL:https://dwrugby.co.uk/event/jason-leonard-county-championship-under-20s-men-3/
LOCATION:Warminster RFC\, Folly Lane\, Warminster\, BA12 7RG
END:VEVENT
BEGIN:VEVENT
DTSTART;TZID=UTC:20250119T113000
DTEND;TZID=UTC:20250119T143000
DTSTAMP:20260420T060424
CREATED:20250114T205919Z
LAST-MODIFIED:20250114T205919Z
UID:1666733-1737286200-1737297000@dwrugby.co.uk
SUMMARY:Love Rugby Cluster
DESCRIPTION:Timings: 1130 -1145 registration for 12pm start. End at 2pm.\nFormat: skills zones taking advantage of larger numbers of players e.g. scrum clinic; contact games for each age group.\nAge groups:\nU12 run by Salisbury (additional volunteers very welcome)\nU14\nU16\nU18\nPoint of contact - (Jonny) 07827 084 632
URL:https://dwrugby.co.uk/event/love-rugby-cluster/
LOCATION:Salisbury RFC\, Castle Road\, Salisbury\, SP1 3SA
END:VEVENT
BEGIN:VEVENT
DTSTART;TZID=UTC:20250105T120000
DTEND;TZID=UTC:20250105T170000
DTSTAMP:20260420T060424
CREATED:20241207T144233Z
LAST-MODIFIED:20241207T150837Z
UID:1666488-1736078400-1736096400@dwrugby.co.uk
SUMMARY:Jason Leonard County Championship Under 20's Men
DESCRIPTION:Dear All \nFor the third season in a row I will be in the management team for Dorset & Wiltshire u20s\, this time as team manager. \nU20s county sides from all over England will compete against each other in The Jason Leonard u20s County Championships\, by the way of regional leagues\, then looking to progress into the knockout stages\,  which conclude in a final at The Allianz stadium\, Twickenham. \nIn the 2022/23 season our lads won the SW England final\, but unfortunately narrowly lost in the South of England final\, preventing progressing to Twickenham.  Last season\, 2023/24\, we improved and were finalists at Twickenham\, but lost to a penalty with the clock in the red past 80 minutes! Heartbreaking for all involved\, but memories that will be treasured forever. \nThis coming campaign of 2024/25\, we are determined to try and go that one step further and return from Twickenham as champions! Games themselves don't start until March with the final in June\, but up until March there is lot's happening with trials\, training etc. \nPlease can I ask you to promote this at your club and activity encourage lads to attend the trial at Warminster RFC on Sunday January 5th start time of 12:00pm. \nI have attached some flyers that you can use on social media and around the club and below are the rules for eligibility. \nThe registration link is below\, together with a registration word document that can be emailed back to me. \nThere is also a Facebook group\, if you can encourage eligible guys to join - https://www.facebook.com/groups/210660555653624 \nYours in rugby\, \nMark \nMark Adams \nD&W U20s manager \nm.m.adams@hotmail.co.uk \n07795 313 889 \nFor players who are looking to represent D&W U20s men in training and County Championship matches in the 2024-25 season. \nThe rules for 2024-2025 season in the County Championship have been clarified: \nTo play in the Jason Leonard Men’s National U20s Competition;\na. The Player must be under 20 years of age at midnight on 31st of August 2024;\nb. The Player must be a minimum of 18 years of age unless otherwise permitted to play adult rugby in accordance with RFU Regulation 15.6; and\nc. The Player must be Resident in the County. A player is deemed to be resident in a County in which:\na) the Player was born; and/or\nb) the Player current resides; and/or\nc) the Player has played or been selected in a match-day squad for the County in a previous County\nsquad (Men’s or Women’s U16\, U17\, U18\, U20s); and/or\nd) the Player is Registered with an Eligible Club within the County on the date of the applicable Match \nThe following are not eligible to play in the competition;\na. Any Player who during the 2024-25 season is or has been selected in a match day squad in a\nleague above Regional 1\, as specified on the relevant Electronic Match Card;\nb. Any England Academy Player (EAP) who is or has been involved since reaching their 18th\nbirthday; and/or\nc. Any Player who has participated in the following BUCS Rugby competitions: (a) BUCS\nSuper Rugby; (b) BUCS Rugby Premier North 1; and/or (c) BUCS Rugby Premier South 1\, in\nthe current season. \nDon't forget players who are members of a National League club\, but who play for its lower XV team (at Regional 1/Level 5 or below) are now eligible to play in this championship. \nRegistration link: \nhttps://forms.office.com/Pages/ResponsePage.aspx?id=DQSIkWdsW0yxEjajBLZtrQAAAAAAAAAAAAa__ddZWAZUQUYzRUpJT0xJNkQwTDNXR0o5M0NaMEVMRi4u \n  \n 
URL:https://dwrugby.co.uk/event/jason-leonard-county-championship/
LOCATION:Warminster RFC\, Folly Lane\, Warminster\, BA12 7RG
END:VEVENT
BEGIN:VEVENT
DTSTART;VALUE=DATE:20250105
DTEND;VALUE=DATE:20250106
DTSTAMP:20260420T060424
CREATED:20241207T145531Z
LAST-MODIFIED:20241207T151133Z
UID:1666497-1736035200-1736121599@dwrugby.co.uk
SUMMARY:Under 18’s Boys Representative Rugby
DESCRIPTION:Dorset & Wilts vs Cornwall
URL:https://dwrugby.co.uk/event/under-18s-boys-representative-rugby-2/
LOCATION:Hartpury University\, Hartpury\, GL19 3BE
END:VEVENT
BEGIN:VEVENT
DTSTART;TZID=UTC:20250102T190000
DTEND;TZID=UTC:20250102T210000
DTSTAMP:20260420T060424
CREATED:20241207T145320Z
LAST-MODIFIED:20241207T145320Z
UID:1666495-1735844400-1735851600@dwrugby.co.uk
SUMMARY:Under 18's Boys Representative Rugby
DESCRIPTION:Training
URL:https://dwrugby.co.uk/event/under-18s-boys-representative-rugby/
LOCATION:TBC
END:VEVENT
BEGIN:VEVENT
DTSTART;TZID=UTC:20241210T190000
DTEND;TZID=UTC:20241210T203000
DTSTAMP:20260420T060424
CREATED:20241207T142508Z
LAST-MODIFIED:20241207T142508Z
UID:1666477-1733857200-1733862600@dwrugby.co.uk
SUMMARY:D&W Council
DESCRIPTION:Via Zoom
URL:https://dwrugby.co.uk/event/dw-council/
END:VEVENT
END:VCALENDAR