BEGIN:VCALENDAR
VERSION:2.0
PRODID:-//Dorset Wiltshire Rugby Football Union - ECPv6.15.20//NONSGML v1.0//EN
CALSCALE:GREGORIAN
METHOD:PUBLISH
X-WR-CALNAME:Dorset Wiltshire Rugby Football Union
X-ORIGINAL-URL:https://dwrugby.co.uk
X-WR-CALDESC:Events for Dorset Wiltshire Rugby Football Union
REFRESH-INTERVAL;VALUE=DURATION:PT1H
X-Robots-Tag:noindex
X-PUBLISHED-TTL:PT1H
BEGIN:VTIMEZONE
TZID:UTC
BEGIN:STANDARD
TZOFFSETFROM:+0000
TZOFFSETTO:+0000
TZNAME:UTC
DTSTART:20240101T000000
END:STANDARD
END:VTIMEZONE
BEGIN:VEVENT
DTSTART;TZID=UTC:20250317T123000
DTEND;TZID=UTC:20250317T153000
DTSTAMP:20260419T204401
CREATED:20241209T211657Z
LAST-MODIFIED:20241209T211657Z
UID:1666525-1742214600-1742225400@dwrugby.co.uk
SUMMARY:CSU Boys Schools Rugby 7’s
DESCRIPTION:Year 10 \nRegistration by 12.30 pm. Pools start at 1.0 pm. Aim to get schools away by 3.15 pm
URL:https://dwrugby.co.uk/event/csu-boys-schools-rugby-7s-4/
LOCATION:Canford School
END:VEVENT
BEGIN:VEVENT
DTSTART;TZID=UTC:20250319T190000
DTEND;TZID=UTC:20250319T200000
DTSTAMP:20260419T204401
CREATED:20250127T155713Z
LAST-MODIFIED:20250127T155713Z
UID:1666799-1742410800-1742414400@dwrugby.co.uk
SUMMARY:Clubhouse Wins
DESCRIPTION:Clubhouse Wins - Boost Customer Numbers & Increase Spend  (Webinar) \nZoom Link  
URL:https://dwrugby.co.uk/event/clubhouse-wins/
LOCATION:Zoom
END:VEVENT
BEGIN:VEVENT
DTSTART;TZID=UTC:20250331T183000
DTEND;TZID=UTC:20250331T200000
DTSTAMP:20260419T204401
CREATED:20250127T160155Z
LAST-MODIFIED:20250127T160216Z
UID:1666801-1743445800-1743451200@dwrugby.co.uk
SUMMARY:Sponsorship Success
DESCRIPTION:How to Achieve Greater Sponsorship Success (Virtual Workshop) \nLink to register your interest
URL:https://dwrugby.co.uk/event/sponsorship-success/
END:VEVENT
BEGIN:VEVENT
DTSTART;TZID=UTC:20250402T190000
DTEND;TZID=UTC:20250402T200000
DTSTAMP:20260419T204401
CREATED:20250127T160535Z
LAST-MODIFIED:20250127T160535Z
UID:1666803-1743620400-1743624000@dwrugby.co.uk
SUMMARY:Safeguarding
DESCRIPTION:Safeguarding - Managing poor practice / low level concerns in rugby union (Webinar) \nZoom link
URL:https://dwrugby.co.uk/event/safeguarding-2/
LOCATION:Zoom
END:VEVENT
BEGIN:VEVENT
DTSTART;TZID=UTC:20250406T103000
DTEND;TZID=UTC:20250406T170000
DTSTAMP:20260419T204401
CREATED:20250402T075445Z
LAST-MODIFIED:20250402T075445Z
UID:1666972-1743935400-1743958800@dwrugby.co.uk
SUMMARY:Dorset & Wilts RFU  Under 14’s Finals
DESCRIPTION:The following D&W  U14’s Finals will take place at Sherborne Rugby Club on Sunday April 6th: \nCup- \nSalisbury v Bournemouth \nPlate - \nBradford V Dorchester \nBowl - \nSwindon v Chippenham \nTrophy - \nSwans v Wimborne \nThe Bowl and Trophy Final will KO at 11am \nThe Plate and Cup Final will KO at 12:30
URL:https://dwrugby.co.uk/event/dorset-wilts-rfu-under-14s-finals/
LOCATION:Sherborne RFC
END:VEVENT
BEGIN:VEVENT
DTSTART;VALUE=DATE:20250426
DTEND;VALUE=DATE:20250427
DTSTAMP:20260419T204401
CREATED:20241207T144739Z
LAST-MODIFIED:20241207T144828Z
UID:1666479-1745625600-1745711999@dwrugby.co.uk
SUMMARY:Jason Leonard County Championship Under 20's Men
DESCRIPTION:Berkshire vs Dorset & Wilts
URL:https://dwrugby.co.uk/event/jason-leonard-county-championship-under-20s-men/
LOCATION:TBC
END:VEVENT
BEGIN:VEVENT
DTSTART;TZID=UTC:20250430T190000
DTEND;TZID=UTC:20250430T200000
DTSTAMP:20260419T204401
CREATED:20250127T160901Z
LAST-MODIFIED:20250127T160901Z
UID:1666805-1746039600-1746043200@dwrugby.co.uk
SUMMARY:Volunteer Experience
DESCRIPTION:Delivering a positive volunteer experience: Tools for Success (Virtual workshop) \nLink to register your interest
URL:https://dwrugby.co.uk/event/volunteer-experience/
END:VEVENT
BEGIN:VEVENT
DTSTART;VALUE=DATE:20250510
DTEND;VALUE=DATE:20250511
DTSTAMP:20260419T204401
CREATED:20241207T144943Z
LAST-MODIFIED:20241207T144943Z
UID:1666492-1746835200-1746921599@dwrugby.co.uk
SUMMARY:Jason Leonard County Championship Under 20's Men
DESCRIPTION:Oxfordshire vs Dorset & Wilts
URL:https://dwrugby.co.uk/event/jason-leonard-county-championship-under-20s-men-2/
LOCATION:TBC
END:VEVENT
BEGIN:VEVENT
DTSTART;VALUE=DATE:20250517
DTEND;VALUE=DATE:20250518
DTSTAMP:20260419T204401
CREATED:20241207T142302Z
LAST-MODIFIED:20241207T143008Z
UID:1666475-1747440000-1747526399@dwrugby.co.uk
SUMMARY:Bill Beaumont County Championship - Senior men's
DESCRIPTION:Berkshire vs Dorset & Wilts
URL:https://dwrugby.co.uk/event/bill-beaumont-county-championship-senior-mens/
LOCATION:TBC
END:VEVENT
BEGIN:VEVENT
DTSTART;VALUE=DATE:20250518
DTEND;VALUE=DATE:20250519
DTSTAMP:20260419T204401
CREATED:20241207T143423Z
LAST-MODIFIED:20241207T143606Z
UID:1666484-1747526400-1747612799@dwrugby.co.uk
SUMMARY:Gill Burns County Championship
DESCRIPTION:Dorset & Wilts vs Somerset
URL:https://dwrugby.co.uk/event/gill-burns-county-championship/
LOCATION:TBC
END:VEVENT
BEGIN:VEVENT
DTSTART;TZID=UTC:20250524T080000
DTEND;TZID=UTC:20250524T170000
DTSTAMP:20260419T204401
CREATED:20241207T142813Z
LAST-MODIFIED:20241207T142813Z
UID:1666480-1748073600-1748106000@dwrugby.co.uk
SUMMARY:Bill Beaumont County Championship – Senior men’s
DESCRIPTION:Dorset & Wilts vs Sussex
URL:https://dwrugby.co.uk/event/bill-beaumont-county-championship-senior-mens-2/
LOCATION:TBC
END:VEVENT
BEGIN:VEVENT
DTSTART;VALUE=DATE:20250525
DTEND;VALUE=DATE:20250526
DTSTAMP:20260419T204401
CREATED:20241207T143658Z
LAST-MODIFIED:20241207T143658Z
UID:1666486-1748131200-1748217599@dwrugby.co.uk
SUMMARY:Gill Burns County Championship
DESCRIPTION:Oxfordshire vs Dorset & Wilts
URL:https://dwrugby.co.uk/event/gill-burns-county-championship-2/
END:VEVENT
BEGIN:VEVENT
DTSTART;VALUE=DATE:20250531
DTEND;VALUE=DATE:20250601
DTSTAMP:20260419T204401
CREATED:20241207T143145Z
LAST-MODIFIED:20241207T143204Z
UID:1666482-1748649600-1748735999@dwrugby.co.uk
SUMMARY:Bill Beaumont County Championship – Senior men’s
DESCRIPTION:Dorset & Wilts vs Surrey
URL:https://dwrugby.co.uk/event/bill-beaumont-county-championship-senior-mens-3/
LOCATION:TBC
END:VEVENT
BEGIN:VEVENT
DTSTART;TZID=UTC:20250613T190000
DTEND;TZID=UTC:20250613T210000
DTSTAMP:20260419T204401
CREATED:20241207T150624Z
LAST-MODIFIED:20241207T150624Z
UID:1666501-1749841200-1749848400@dwrugby.co.uk
SUMMARY:Volunteers Awards Evening
DESCRIPTION:Honda Volunteer of the Year 2025 \nTribute League Presentation
URL:https://dwrugby.co.uk/event/volunteers-awards-evening/
LOCATION:Udder Farm Shop\, Manor Farm\, Front St\, East Stour\, Gillingham\, SP8 5LQ
END:VEVENT
END:VCALENDAR