BEGIN:VCALENDAR
VERSION:2.0
PRODID:-//Dorset Wiltshire Rugby Football Union - ECPv6.15.20//NONSGML v1.0//EN
CALSCALE:GREGORIAN
METHOD:PUBLISH
X-WR-CALNAME:Dorset Wiltshire Rugby Football Union
X-ORIGINAL-URL:https://dwrugby.co.uk
X-WR-CALDESC:Events for Dorset Wiltshire Rugby Football Union
REFRESH-INTERVAL;VALUE=DURATION:PT1H
X-Robots-Tag:noindex
X-PUBLISHED-TTL:PT1H
BEGIN:VTIMEZONE
TZID:UTC
BEGIN:STANDARD
TZOFFSETFROM:+0000
TZOFFSETTO:+0000
TZNAME:UTC
DTSTART:20200101T000000
END:STANDARD
END:VTIMEZONE
BEGIN:VEVENT
DTSTART;VALUE=DATE:20220123
DTEND;VALUE=DATE:20220124
DTSTAMP:20260420T185156
CREATED:20220104T170640Z
LAST-MODIFIED:20220107T132223Z
UID:32165-1642896000-1642982399@dwrugby.co.uk
SUMMARY:D&W Girls U15 and U18 Trials
DESCRIPTION:Dorset & Wilts RFU would like to invite you to nominate any Under 15 / Under 18 girls\, that fit the criteria below\, to attend a Player Assessment Day / County Trials on Sunday January 23rd 2022 at Sherborne RFC [DT9 5NS]. \nAll players must arrive dressed ready for the assessment. Registration is at 11am for a 11:30 start\, it is due to finish at approximately 15:00 - please do not send girls to the trials without having sent through their details on a nomination form\n \nUnder 15's - School years 9 and 10\nUnder 18's - School years 11 - 13\n \nPlease nominate players that : \n\n\nyou feel are capable of playing at a high standard\, if they are reasonably new but capable - please nominate\nhave a good working knowledge / experience of tackling\n\nPlease ensure that:\n\n\nthe nomination form is correctly completed - especially the parent/guardian email address for each girl\nforms should be emailed to dwgirlsrugby@gmail.com by  Monday 17th January 2022.\nany late nominations will only be accepted in exceptional circumstances in consultation with the coaching and management team.\nthe girls know that they MUST bring the signed Player Contact and Consent form with them to the trials (It will be emailed to the parent / guardian on receipt of the nomination form\, hence the importance of the correct email) \n\nIf you have any questions about the trials\, or if any girls you wish to nominate cannot make the selection day of 23rd January 2022\, PLEASE contact us (dwgirlsrugby@gmail.com)\n \nIf you have girls that are not ready for trials or need more opportunities to play / train in larger groups\, please come along to one of our "D&W Super Clusters"\, details will be sent to clubs / schools - or contact us for more information.\n\nNomination forms: Under 15's Nominations  |  Under 18's Nominations
URL:https://dwrugby.co.uk/event/dw-girls-u15-and-u18-trials/
LOCATION:Sherborne RFC
END:VEVENT
BEGIN:VEVENT
DTSTART;TZID=UTC:20220118T193000
DTEND;TZID=UTC:20220118T203000
DTSTAMP:20260420T185156
CREATED:20210412T094519Z
LAST-MODIFIED:20210730T093026Z
UID:29782-1642534200-1642537800@dwrugby.co.uk
SUMMARY:Council meeting
DESCRIPTION:
URL:https://dwrugby.co.uk/event/council-meeting-4/
LOCATION:Zoom
END:VEVENT
BEGIN:VEVENT
DTSTART;TZID=UTC:20220111T193000
DTEND;TZID=UTC:20220111T203000
DTSTAMP:20260420T185156
CREATED:20210412T100103Z
LAST-MODIFIED:20210730T093131Z
UID:29794-1641929400-1641933000@dwrugby.co.uk
SUMMARY:Management Board
DESCRIPTION:
URL:https://dwrugby.co.uk/event/management-board-25/
LOCATION:Zoom
END:VEVENT
BEGIN:VEVENT
DTSTART;TZID=UTC:20220110T193000
DTEND;TZID=UTC:20220110T203000
DTSTAMP:20260420T185156
CREATED:20211217T080548Z
LAST-MODIFIED:20211217T080548Z
UID:32125-1641843000-1641846600@dwrugby.co.uk
SUMMARY:West Dorset Huddle
DESCRIPTION:
URL:https://dwrugby.co.uk/event/west-dorset-huddle-5/
LOCATION:Zoom
END:VEVENT
BEGIN:VEVENT
DTSTART;TZID=UTC:20220105T180000
DTEND;TZID=UTC:20220105T190000
DTSTAMP:20260420T185156
CREATED:20210809T091652Z
LAST-MODIFIED:20210809T091658Z
UID:30693-1641405600-1641409200@dwrugby.co.uk
SUMMARY:RFU & CB Comms liaison meeting
DESCRIPTION:
URL:https://dwrugby.co.uk/event/rfu-cb-comms-liaison-meeting-5/
LOCATION:Zoom
END:VEVENT
BEGIN:VEVENT
DTSTART;TZID=UTC:20211201T180000
DTEND;TZID=UTC:20211201T190000
DTSTAMP:20260420T185156
CREATED:20210809T091611Z
LAST-MODIFIED:20210809T091611Z
UID:30691-1638381600-1638385200@dwrugby.co.uk
SUMMARY:RFU & CB Comms liaison meeting
DESCRIPTION:
URL:https://dwrugby.co.uk/event/rfu-cb-comms-liaison-meeting-4/
LOCATION:Zoom
END:VEVENT
BEGIN:VEVENT
DTSTART;TZID=UTC:20211130T190000
DTEND;TZID=UTC:20211130T200000
DTSTAMP:20260420T185156
CREATED:20210505T095750Z
LAST-MODIFIED:20210505T095750Z
UID:30107-1638298800-1638302400@dwrugby.co.uk
SUMMARY:South West DOC
DESCRIPTION:
URL:https://dwrugby.co.uk/event/south-west-doc/
LOCATION:Zoom
END:VEVENT
BEGIN:VEVENT
DTSTART;TZID=UTC:20211116T193000
DTEND;TZID=UTC:20211116T203000
DTSTAMP:20260420T185156
CREATED:20210412T100019Z
LAST-MODIFIED:20210730T093736Z
UID:29792-1637091000-1637094600@dwrugby.co.uk
SUMMARY:Management Board
DESCRIPTION:
URL:https://dwrugby.co.uk/event/management-board-24/
LOCATION:Zoom
END:VEVENT
BEGIN:VEVENT
DTSTART;TZID=UTC:20211103T180000
DTEND;TZID=UTC:20211103T190000
DTSTAMP:20260420T185156
CREATED:20210809T092017Z
LAST-MODIFIED:20210809T092021Z
UID:30695-1635962400-1635966000@dwrugby.co.uk
SUMMARY:RFU & CB Comms liaison meeting
DESCRIPTION:
URL:https://dwrugby.co.uk/event/rfu-cb-comms-liaison-meeting-3/
LOCATION:Zoom
END:VEVENT
BEGIN:VEVENT
DTSTART;TZID=UTC:20211026T190000
DTEND;TZID=UTC:20211026T210000
DTSTAMP:20260420T185156
CREATED:20210809T093401Z
LAST-MODIFIED:20210809T093405Z
UID:30708-1635274800-1635282000@dwrugby.co.uk
SUMMARY:Principles of Scrummaging
DESCRIPTION:This course explores the England Rugby principles of scrummaging and is designed to help coaches\, match officials and volunteers explore recent developments in scrum coaching. \nMin age               14 \nCost £10.00 \nBooking link        https://bit.ly/3hbCdw1
URL:https://dwrugby.co.uk/event/principles-of-scrummaging-4/
LOCATION:Chippenham RFC
END:VEVENT
BEGIN:VEVENT
DTSTART;TZID=UTC:20211025T190000
DTEND;TZID=UTC:20211025T210000
DTSTAMP:20260420T185156
CREATED:20210809T161222Z
LAST-MODIFIED:20210809T161225Z
UID:30743-1635188400-1635195600@dwrugby.co.uk
SUMMARY:PRINCIPLES OF SCRUMMAGING
DESCRIPTION:This course explores the England Rugby principles of scrummaging and is designed to help coaches\, match officials and volunteers explore recent developments in scrum coaching. \nMin age               14 \nCost £10.00
URL:https://dwrugby.co.uk/event/principles-of-scrummaging-7/
LOCATION:Dorchester RFC
END:VEVENT
BEGIN:VEVENT
DTSTART;TZID=UTC:20211025T190000
DTEND;TZID=UTC:20211025T210000
DTSTAMP:20260420T185156
CREATED:20210809T093249Z
LAST-MODIFIED:20210809T093253Z
UID:30706-1635188400-1635195600@dwrugby.co.uk
SUMMARY:Principles of Scrummaging
DESCRIPTION:This course explores the England Rugby principles of scrummaging and is designed to help coaches\, match officials and volunteers explore recent developments in scrum coaching. \nMin age               14 \nCost £10.00 \nBooking link        https://bit.ly/3f6Isj1
URL:https://dwrugby.co.uk/event/principles-of-scrummaging-3/
LOCATION:Royal Wootton Bassett RFC
END:VEVENT
BEGIN:VEVENT
DTSTART;TZID=UTC:20211025T190000
DTEND;TZID=UTC:20211025T200000
DTSTAMP:20260420T185156
CREATED:20211008T130150Z
LAST-MODIFIED:20211008T130150Z
UID:31428-1635188400-1635192000@dwrugby.co.uk
SUMMARY:Safeguarding Zoom Meeting
DESCRIPTION:
URL:https://dwrugby.co.uk/event/safeguarding-zoom-meeting-2/
LOCATION:Zoom
END:VEVENT
BEGIN:VEVENT
DTSTART;TZID=UTC:20211020T190000
DTEND;TZID=UTC:20211020T210000
DTSTAMP:20260420T185156
CREATED:20210809T093120Z
LAST-MODIFIED:20210809T093123Z
UID:30703-1634756400-1634763600@dwrugby.co.uk
SUMMARY:Principles of Scrummaging
DESCRIPTION:This course explores the England Rugby principles of scrummaging and is designed to help coaches\, match officials and volunteers explore recent developments in scrum coaching. \nMin age               14 \nCost £10.00 \nBooking link        https://bit.ly/2Uj5ax2
URL:https://dwrugby.co.uk/event/principles-of-scrummaging-2/
LOCATION:Cirencester RFC
END:VEVENT
BEGIN:VEVENT
DTSTART;TZID=UTC:20211019T193000
DTEND;TZID=UTC:20211019T203000
DTSTAMP:20260420T185156
CREATED:20210412T094347Z
LAST-MODIFIED:20210412T094404Z
UID:29780-1634671800-1634675400@dwrugby.co.uk
SUMMARY:Council meeting
DESCRIPTION:
URL:https://dwrugby.co.uk/event/council-meeting-3/
LOCATION:Zoom
END:VEVENT
BEGIN:VEVENT
DTSTART;TZID=UTC:20211012T193000
DTEND;TZID=UTC:20211012T203000
DTSTAMP:20260420T185156
CREATED:20210412T095927Z
LAST-MODIFIED:20210412T095933Z
UID:29790-1634067000-1634070600@dwrugby.co.uk
SUMMARY:Management Board
DESCRIPTION:
URL:https://dwrugby.co.uk/event/management-board-23/
LOCATION:Zoom
END:VEVENT
BEGIN:VEVENT
DTSTART;TZID=UTC:20211012T190000
DTEND;TZID=UTC:20211012T210000
DTSTAMP:20260420T185156
CREATED:20210809T092858Z
LAST-MODIFIED:20210809T092949Z
UID:30700-1634065200-1634072400@dwrugby.co.uk
SUMMARY:Principles of Scrummaging
DESCRIPTION:This course explores the England Rugby principles of scrummaging and is designed to help coaches\, match officials and volunteers explore recent developments in scrum coaching. \nMin age               14 \nCost £10.00 \nBooking link        https://bit.ly/3jyzSgc
URL:https://dwrugby.co.uk/event/30700/
LOCATION:Devizes RFC\, The Sports Club London Road\, Devizes\, SN10 2DL
END:VEVENT
BEGIN:VEVENT
DTSTART;TZID=UTC:20211011T190000
DTEND;TZID=UTC:20211011T210000
DTSTAMP:20260420T185156
CREATED:20210809T161043Z
LAST-MODIFIED:20210809T161046Z
UID:30741-1633978800-1633986000@dwrugby.co.uk
SUMMARY:PRINCIPLES OF SCRUMMAGING
DESCRIPTION:This course explores the England Rugby principles of scrummaging and is designed to help coaches\, match officials and volunteers explore recent developments in scrum coaching. \nMin age               14 \nCost £10.00
URL:https://dwrugby.co.uk/event/principles-of-scrummaging-6/
LOCATION:Wimborne RFC
END:VEVENT
BEGIN:VEVENT
DTSTART;TZID=UTC:20211011T190000
DTEND;TZID=UTC:20211011T200000
DTSTAMP:20260420T185156
CREATED:20211008T130300Z
LAST-MODIFIED:20211008T130300Z
UID:31430-1633978800-1633982400@dwrugby.co.uk
SUMMARY:West Dorset Huddle
DESCRIPTION:
URL:https://dwrugby.co.uk/event/west-dorset-huddle-4/
LOCATION:Zoom
END:VEVENT
BEGIN:VEVENT
DTSTART;TZID=UTC:20211006T190000
DTEND;TZID=UTC:20211006T210000
DTSTAMP:20260420T185156
CREATED:20210809T150904Z
LAST-MODIFIED:20210809T160906Z
UID:30739-1633546800-1633554000@dwrugby.co.uk
SUMMARY:Principles of Scrummaging
DESCRIPTION:This course explores the England Rugby principles of scrummaging and is designed to help coaches\, match officials and volunteers explore recent developments in scrum coaching. \nMin age               14 \nCost £10.00
URL:https://dwrugby.co.uk/event/principles-of-scrummaging-5/
LOCATION:Salisbury RFC\, Castle Road\, Salisbury\, SP1 3SA
END:VEVENT
BEGIN:VEVENT
DTSTART;TZID=UTC:20211006T190000
DTEND;TZID=UTC:20211006T200000
DTSTAMP:20260420T185156
CREATED:20210414T200317Z
LAST-MODIFIED:20210414T200519Z
UID:29837-1633546800-1633550400@dwrugby.co.uk
SUMMARY:South West Counties meeting
DESCRIPTION:
URL:https://dwrugby.co.uk/event/south-west-rugby-meeting/
LOCATION:Zoom
END:VEVENT
BEGIN:VEVENT
DTSTART;TZID=UTC:20211006T180000
DTEND;TZID=UTC:20211006T190000
DTSTAMP:20260420T185156
CREATED:20210809T091432Z
LAST-MODIFIED:20210809T091435Z
UID:30687-1633543200-1633546800@dwrugby.co.uk
SUMMARY:RFU & CB Comms liaison meeting
DESCRIPTION:
URL:https://dwrugby.co.uk/event/rfu-cb-comms-liaison-meeting-2/
LOCATION:Zoom
END:VEVENT
BEGIN:VEVENT
DTSTART;TZID=UTC:20211004T190000
DTEND;TZID=UTC:20211004T210000
DTSTAMP:20260420T185156
CREATED:20210809T092717Z
LAST-MODIFIED:20210809T092721Z
UID:30697-1633374000-1633381200@dwrugby.co.uk
SUMMARY:Principles of Scrummaging
DESCRIPTION:This course explores the England Rugby principles of scrummaging and is designed to help coaches\, match officials and volunteers explore recent developments in scrum coaching. \nMin age               14 \nCost £10.00 \nBooking link        https://bit.ly/2UMrQWv
URL:https://dwrugby.co.uk/event/principles-of-scrummaging/
LOCATION:Keynsham RFC
END:VEVENT
BEGIN:VEVENT
DTSTART;TZID=UTC:20210928T190000
DTEND;TZID=UTC:20210928T220000
DTSTAMP:20260420T185156
CREATED:20210809T094731Z
LAST-MODIFIED:20210809T094735Z
UID:30713-1632855600-1632866400@dwrugby.co.uk
SUMMARY:Kids First Contact Rugby - Part Two
DESCRIPTION:2 x 3-hour sessions \nThis course is for Coaches\, Referees and Teachers new to contact rugby. It will help participants to safely coach and referee the contact areas of the game and it is recommended that everyone coaching or refereeing contact rugby has completed this course. \nMin age               14 \nCost £50.00 \nBooking link        https://bit.ly/34vAeeT
URL:https://dwrugby.co.uk/event/kids-first-contact-rugby-part-two/
LOCATION:Bradford on Avon RFC
END:VEVENT
BEGIN:VEVENT
DTSTART;TZID=UTC:20210922T190000
DTEND;TZID=UTC:20210922T210000
DTSTAMP:20260420T185156
CREATED:20210809T095831Z
LAST-MODIFIED:20210809T095834Z
UID:30719-1632337200-1632344400@dwrugby.co.uk
SUMMARY:Kids First Tag Rugby
DESCRIPTION:2 hours \nFor those coaching and refereeing U6-U8 players. This course supports the development of active\, purposeful\, enjoyable and safe tag rugby environments for children. Participants will also learn the rules and practice refereeing tag rugby. \nMin age               14 \nCost £20.00 \nBooking link        https://bit.ly/3yShq7i
URL:https://dwrugby.co.uk/event/kids-first-tag-rugby/
LOCATION:Bradford on Avon RFC
END:VEVENT
BEGIN:VEVENT
DTSTART;TZID=UTC:20210921T193000
DTEND;TZID=UTC:20210921T203000
DTSTAMP:20260420T185156
CREATED:20210412T095837Z
LAST-MODIFIED:20210910T141605Z
UID:29788-1632252600-1632256200@dwrugby.co.uk
SUMMARY:Management Board
DESCRIPTION:
URL:https://dwrugby.co.uk/event/management-board-22/
LOCATION:Zoom
END:VEVENT
BEGIN:VEVENT
DTSTART;TZID=UTC:20210920T190000
DTEND;TZID=UTC:20210920T220000
DTSTAMP:20260420T185156
CREATED:20210809T094903Z
LAST-MODIFIED:20210809T094924Z
UID:30715-1632164400-1632175200@dwrugby.co.uk
SUMMARY:Kids First Contact Rugby - Part Two
DESCRIPTION:2 x 3-hour sessions \nThis course is for Coaches\, Referees and Teachers new to contact rugby. It will help participants to safely coach and referee the contact areas of the game and it is recommended that everyone coaching or refereeing contact rugby has completed this course. \nMin age               14 \nCost £50.00 \nBooking link        https://bit.ly/2VjFfWf
URL:https://dwrugby.co.uk/event/kids-first-contact-rugby-part-two-2/
LOCATION:Keynsham RFC
END:VEVENT
BEGIN:VEVENT
DTSTART;TZID=UTC:20210920T190000
DTEND;TZID=UTC:20210920T200000
DTSTAMP:20260420T185156
CREATED:20210712T192217Z
LAST-MODIFIED:20210712T192217Z
UID:30607-1632164400-1632168000@dwrugby.co.uk
SUMMARY:South Wiltshire Huddle
DESCRIPTION:
URL:https://dwrugby.co.uk/event/south-wiltshire-huddle-4/
LOCATION:Zoom
END:VEVENT
BEGIN:VEVENT
DTSTART;TZID=UTC:20210914T190000
DTEND;TZID=UTC:20210914T210000
DTSTAMP:20260420T185156
CREATED:20210809T100045Z
LAST-MODIFIED:20210809T100049Z
UID:30721-1631646000-1631653200@dwrugby.co.uk
SUMMARY:Kids First Tag Rugby
DESCRIPTION:2 hours \nFor those coaching and refereeing U6-U8 players. This course supports the development of active\, purposeful\, enjoyable and safe tag rugby environments for children. Participants will also learn the rules and practice refereeing tag rugby. \nMin age               14 \nCost £20.00 \nBooking link        https://bit.ly/2UVSv3H
URL:https://dwrugby.co.uk/event/kids-first-tag-rugby-2/
LOCATION:Keynsham RFC
END:VEVENT
BEGIN:VEVENT
DTSTART;TZID=UTC:20210907T190000
DTEND;TZID=UTC:20210907T220000
DTSTAMP:20260420T185156
CREATED:20210809T095035Z
LAST-MODIFIED:20210809T095039Z
UID:30717-1631041200-1631052000@dwrugby.co.uk
SUMMARY:Kids First Contact Rugby - Part One
DESCRIPTION:2 x 3-hour sessions \nThis course is for Coaches\, Referees and Teachers new to contact rugby. It will help participants to safely coach and referee the contact areas of the game and it is recommended that everyone coaching or refereeing contact rugby has completed this course. \nMin age               14 \nCost £50.00 \nBooking link        https://bit.ly/2VjFfWf
URL:https://dwrugby.co.uk/event/kids-first-contact-rugby-part-one-2/
LOCATION:Keynsham RFC
END:VEVENT
END:VCALENDAR