BEGIN:VCALENDAR
VERSION:2.0
PRODID:-//Dorset Wiltshire Rugby Football Union - ECPv6.15.20//NONSGML v1.0//EN
CALSCALE:GREGORIAN
METHOD:PUBLISH
X-WR-CALNAME:Dorset Wiltshire Rugby Football Union
X-ORIGINAL-URL:https://dwrugby.co.uk
X-WR-CALDESC:Events for Dorset Wiltshire Rugby Football Union
REFRESH-INTERVAL;VALUE=DURATION:PT1H
X-Robots-Tag:noindex
X-PUBLISHED-TTL:PT1H
BEGIN:VTIMEZONE
TZID:UTC
BEGIN:STANDARD
TZOFFSETFROM:+0000
TZOFFSETTO:+0000
TZNAME:UTC
DTSTART:20200101T000000
END:STANDARD
END:VTIMEZONE
BEGIN:VEVENT
DTSTART;TZID=UTC:20210901T180000
DTEND;TZID=UTC:20210901T190000
DTSTAMP:20260421T022739
CREATED:20210809T091227Z
LAST-MODIFIED:20210809T091358Z
UID:30685-1630519200-1630522800@dwrugby.co.uk
SUMMARY:RFU & CB Comms liaison meeting
DESCRIPTION:
URL:https://dwrugby.co.uk/event/rfu-cb-comms-liaison-meeting/
LOCATION:Zoom
END:VEVENT
BEGIN:VEVENT
DTSTART;TZID=UTC:20210819T190000
DTEND;TZID=UTC:20210819T213000
DTSTAMP:20260421T022739
CREATED:20210809T091017Z
LAST-MODIFIED:20210809T091017Z
UID:30683-1629399600-1629408600@dwrugby.co.uk
SUMMARY:CB August Drop in
DESCRIPTION:
URL:https://dwrugby.co.uk/event/cb-august-drop-in/
LOCATION:Zoom
END:VEVENT
BEGIN:VEVENT
DTSTART;TZID=UTC:20210810T193000
DTEND;TZID=UTC:20210810T203000
DTSTAMP:20260421T022739
CREATED:20210412T095740Z
LAST-MODIFIED:20210730T094257Z
UID:29786-1628623800-1628627400@dwrugby.co.uk
SUMMARY:Management Board
DESCRIPTION:
URL:https://dwrugby.co.uk/event/management-board-21/
LOCATION:Zoom
END:VEVENT
BEGIN:VEVENT
DTSTART;TZID=UTC:20210810T193000
DTEND;TZID=UTC:20210810T203000
DTSTAMP:20260421T022739
CREATED:20210412T094254Z
LAST-MODIFIED:20210730T094328Z
UID:29778-1628623800-1628627400@dwrugby.co.uk
SUMMARY:Council meeting
DESCRIPTION:
URL:https://dwrugby.co.uk/event/council-meeting-2/
LOCATION:Zoom
END:VEVENT
BEGIN:VEVENT
DTSTART;TZID=UTC:20210802T190000
DTEND;TZID=UTC:20210802T200000
DTSTAMP:20260421T022739
CREATED:20210523T154116Z
LAST-MODIFIED:20210523T154119Z
UID:30359-1627930800-1627934400@dwrugby.co.uk
SUMMARY:West Dorset Huddle
DESCRIPTION:
URL:https://dwrugby.co.uk/event/west-dorset-huddle-3/
LOCATION:Zoom
END:VEVENT
BEGIN:VEVENT
DTSTART;TZID=UTC:20210727T190000
DTEND;TZID=UTC:20210727T200000
DTSTAMP:20260421T022739
CREATED:20210621T195717Z
LAST-MODIFIED:20210621T195838Z
UID:30525-1627412400-1627416000@dwrugby.co.uk
SUMMARY:Principles of Lineout
DESCRIPTION:This course explores the England Rugby principles of line out and is designed to help coaches\, match officials and volunteers explore recent developments in lineout coaching. \nDuration               2 hours \nCost                        £20.00 \nRegister
URL:https://dwrugby.co.uk/event/principles-of-lineout-3/
LOCATION:Chippenham RFC
END:VEVENT
BEGIN:VEVENT
DTSTART;TZID=UTC:20210726T190000
DTEND;TZID=UTC:20210726T210000
DTSTAMP:20260421T022739
CREATED:20210621T195613Z
LAST-MODIFIED:20210621T195613Z
UID:30523-1627326000-1627333200@dwrugby.co.uk
SUMMARY:Principles of Lineout
DESCRIPTION:This course explores the England Rugby principles of line out and is designed to help coaches\, match officials and volunteers explore recent developments in lineout coaching. \nDuration               2 hours \nCost                        £20.00
URL:https://dwrugby.co.uk/event/principles-of-lineout-2/
LOCATION:Devizes RFC\, The Sports Club London Road\, Devizes\, SN10 2DL
END:VEVENT
BEGIN:VEVENT
DTSTART;TZID=UTC:20210726T190000
DTEND;TZID=UTC:20210726T200000
DTSTAMP:20260421T022739
CREATED:20210427T202702Z
LAST-MODIFIED:20210427T202702Z
UID:30024-1627326000-1627329600@dwrugby.co.uk
SUMMARY:West Wiltshire Huddle
DESCRIPTION:
URL:https://dwrugby.co.uk/event/west-wiltshire-huddle-3/
LOCATION:Zoom
END:VEVENT
BEGIN:VEVENT
DTSTART;VALUE=DATE:20210724
DTEND;VALUE=DATE:20210725
DTSTAMP:20260421T022739
CREATED:20210615T091038Z
LAST-MODIFIED:20210621T180851Z
UID:30464-1627084800-1627171199@dwrugby.co.uk
SUMMARY:Wiltshire Coaching Conference - Cancelled
DESCRIPTION:For more details please contact Chris Burton or Frank Bulter via email \nFor Chris - Please click here \nFor Frank - Please click here
URL:https://dwrugby.co.uk/event/wiltshire-couching-conference/
LOCATION:TBC
END:VEVENT
BEGIN:VEVENT
DTSTART;TZID=UTC:20210722T190000
DTEND;TZID=UTC:20210722T210000
DTSTAMP:20260421T022739
CREATED:20210621T195352Z
LAST-MODIFIED:20210621T195959Z
UID:30521-1626980400-1626987600@dwrugby.co.uk
SUMMARY:Principles of Lineout
DESCRIPTION:This course explores the England Rugby principles of line out and is designed to help coaches\, match officials and volunteers explore recent developments in lineout coaching. \nDuration               2 hours \nCost                        £20.00 \nRegister
URL:https://dwrugby.co.uk/event/principles-of-lineout/
LOCATION:Royal Wootton Bassett RFC
END:VEVENT
BEGIN:VEVENT
DTSTART;TZID=UTC:20210721T193000
DTEND;TZID=UTC:20210721T203000
DTSTAMP:20260421T022739
CREATED:20210412T091722Z
LAST-MODIFIED:20210412T091728Z
UID:29774-1626895800-1626899400@dwrugby.co.uk
SUMMARY:Annual General Meeting of Dorset & Wilts. RFU Ltd
DESCRIPTION:Due to the current situation regarding the Coronavirus outbreak\, this planned Annual General Meeting will be held by electronic means.
URL:https://dwrugby.co.uk/event/annual-general-meeting-of-dorset-wilts-rfu-ltd/
LOCATION:Zoom
END:VEVENT
BEGIN:VEVENT
DTSTART;TZID=UTC:20210721T190000
DTEND;TZID=UTC:20210721T210000
DTSTAMP:20260421T022739
CREATED:20210608T085209Z
LAST-MODIFIED:20210608T085209Z
UID:30440-1626894000-1626901200@dwrugby.co.uk
SUMMARY:Principles of Lineout Courses
DESCRIPTION:
URL:https://dwrugby.co.uk/event/principles-of-lineout-courses/
LOCATION:Salisbury RFC\, Castle Road\, Salisbury\, SP1 3SA
END:VEVENT
BEGIN:VEVENT
DTSTART;TZID=UTC:20210720T190000
DTEND;TZID=UTC:20210720T210000
DTSTAMP:20260421T022739
CREATED:20210608T085102Z
LAST-MODIFIED:20210608T085102Z
UID:30438-1626807600-1626814800@dwrugby.co.uk
SUMMARY:Principles of Lineout Course
DESCRIPTION:
URL:https://dwrugby.co.uk/event/principles-of-lineout-course/
LOCATION:Wimborne RFC
END:VEVENT
BEGIN:VEVENT
DTSTART;VALUE=DATE:20210717
DTEND;VALUE=DATE:20210718
DTSTAMP:20260421T022739
CREATED:20210615T090837Z
LAST-MODIFIED:20210621T180740Z
UID:30462-1626480000-1626566399@dwrugby.co.uk
SUMMARY:Dorset Coaching Conference - Cancelled
DESCRIPTION:For more details please contact Chris Burton or Frank Bulter via email \nFor Chris - Please click here \nFor Frank - Please click here \n 
URL:https://dwrugby.co.uk/event/dorset-coaching-conference/
LOCATION:TBC
END:VEVENT
BEGIN:VEVENT
DTSTART;TZID=UTC:20210714T193000
DTEND;TZID=UTC:20210714T203000
DTSTAMP:20260421T022739
CREATED:20210614T150142Z
LAST-MODIFIED:20210705T192339Z
UID:30455-1626291000-1626294600@dwrugby.co.uk
SUMMARY:D&W Clubs Review meeting
DESCRIPTION:
URL:https://dwrugby.co.uk/event/dw-clubs-review-meeting/
LOCATION:Zoom
END:VEVENT
BEGIN:VEVENT
DTSTART;TZID=UTC:20210714T180000
DTEND;TZID=UTC:20210714T190000
DTSTAMP:20260421T022739
CREATED:20210712T081822Z
LAST-MODIFIED:20210712T081822Z
UID:30605-1626285600-1626289200@dwrugby.co.uk
SUMMARY:CB Comms Liaison Monthly meeting
DESCRIPTION:
URL:https://dwrugby.co.uk/event/cb-comms-liaison-monthly-meeting/
LOCATION:Zoom
END:VEVENT
BEGIN:VEVENT
DTSTART;TZID=UTC:20210713T190000
DTEND;TZID=UTC:20210713T200000
DTSTAMP:20260421T022739
CREATED:20210703T080631Z
LAST-MODIFIED:20210712T180011Z
UID:30592-1626202800-1626206400@dwrugby.co.uk
SUMMARY:GMS Training
DESCRIPTION:
URL:https://dwrugby.co.uk/event/gms-training/
END:VEVENT
BEGIN:VEVENT
DTSTART;TZID=UTC:20210712T190000
DTEND;TZID=UTC:20210712T200000
DTSTAMP:20260421T022739
CREATED:20210703T081049Z
LAST-MODIFIED:20210703T081049Z
UID:30594-1626116400-1626120000@dwrugby.co.uk
SUMMARY:South Wiltshire Huddle
DESCRIPTION:
URL:https://dwrugby.co.uk/event/south-wiltshire-huddle-3/
LOCATION:Zoom
END:VEVENT
BEGIN:VEVENT
DTSTART;TZID=UTC:20210706T190000
DTEND;TZID=UTC:20210706T200000
DTSTAMP:20260421T022739
CREATED:20210619T093620Z
LAST-MODIFIED:20210619T093719Z
UID:30499-1625598000-1625601600@dwrugby.co.uk
SUMMARY:Safeguarding Zoom Meeting
DESCRIPTION:
URL:https://dwrugby.co.uk/event/safeguarding-zoom-meeting/
LOCATION:Zoom
END:VEVENT
BEGIN:VEVENT
DTSTART;TZID=UTC:20210706T190000
DTEND;TZID=UTC:20210706T200000
DTSTAMP:20260421T022739
CREATED:20210510T094733Z
LAST-MODIFIED:20210510T094738Z
UID:30120-1625598000-1625601600@dwrugby.co.uk
SUMMARY:South West ‘Competitive Playing opportunities’
DESCRIPTION:CB structure and management of competition and playing opportunities – sharing Models of Good Practice and challenges.\nOpportunity for CBs to share their approach to Age Grade Competitions and learn from others.\nOpportunity for CBs to outline their approach to Adult Competitions and learn from others.\nThis will be supported by our South West Competition Development Officer: Katie Oldrieve\nWe would recommend that attendees (2/3) should be the individuals within the CB that have responsibility and strategic overview for their competitions and playing opportunities.
URL:https://dwrugby.co.uk/event/south-west-competitive-playing-opportunities/
END:VEVENT
BEGIN:VEVENT
DTSTART;TZID=UTC:20210705T190000
DTEND;TZID=UTC:20210705T200000
DTSTAMP:20260421T022739
CREATED:20210602T100441Z
LAST-MODIFIED:20210602T100441Z
UID:30419-1625511600-1625515200@dwrugby.co.uk
SUMMARY:East Dorset Huddle
DESCRIPTION:
URL:https://dwrugby.co.uk/event/east-dorset-huddle-3/
LOCATION:Zoom
END:VEVENT
BEGIN:VEVENT
DTSTART;TZID=UTC:20210701T190000
DTEND;TZID=UTC:20210701T203000
DTSTAMP:20260421T022739
CREATED:20210526T085854Z
LAST-MODIFIED:20210526T085854Z
UID:30405-1625166000-1625171400@dwrugby.co.uk
SUMMARY:Workshop – The Art of the Tackle
DESCRIPTION:Deliverer: Magic Academy led by Rusty Earnshaw & John Fletcher. \nMaking the tackle safer Using it across the pitch to help gameplay \nRegister
URL:https://dwrugby.co.uk/event/workshop-the-art-of-the-tackle/
END:VEVENT
BEGIN:VEVENT
DTSTART;TZID=UTC:20210701T190000
DTEND;TZID=UTC:20210701T200000
DTSTAMP:20260421T022739
CREATED:20210619T095140Z
LAST-MODIFIED:20210619T095140Z
UID:30514-1625166000-1625169600@dwrugby.co.uk
SUMMARY:Play it safe Course
DESCRIPTION:
URL:https://dwrugby.co.uk/event/play-it-safe-course-6/
LOCATION:Swanage & Wareham RFC
END:VEVENT
BEGIN:VEVENT
DTSTART;TZID=UTC:20210701T190000
DTEND;TZID=UTC:20210701T200000
DTSTAMP:20260421T022739
CREATED:20210519T132511Z
LAST-MODIFIED:20210519T132514Z
UID:30319-1625166000-1625169600@dwrugby.co.uk
SUMMARY:Swindon & North Wiltshire Huddle
DESCRIPTION:
URL:https://dwrugby.co.uk/event/swindon-north-wiltshire-huddle-2/
LOCATION:Zoom
END:VEVENT
BEGIN:VEVENT
DTSTART;TZID=UTC:20210630T190000
DTEND;TZID=UTC:20210630T200000
DTSTAMP:20260421T022739
CREATED:20210615T124422Z
LAST-MODIFIED:20210615T124439Z
UID:30470-1625079600-1625083200@dwrugby.co.uk
SUMMARY:First Aid & Immediate Care Provision
DESCRIPTION:To Register - Click here
URL:https://dwrugby.co.uk/event/first-aid-immediate-care-provision/
END:VEVENT
BEGIN:VEVENT
DTSTART;TZID=UTC:20210630T190000
DTEND;TZID=UTC:20210630T190000
DTSTAMP:20260421T022739
CREATED:20210619T095103Z
LAST-MODIFIED:20210619T095103Z
UID:30511-1625079600-1625079600@dwrugby.co.uk
SUMMARY:Play it safe Course
DESCRIPTION:
URL:https://dwrugby.co.uk/event/play-it-safe-course-5/
LOCATION:Swindon RFC
END:VEVENT
BEGIN:VEVENT
DTSTART;TZID=UTC:20210629T190000
DTEND;TZID=UTC:20210629T220000
DTSTAMP:20260421T022739
CREATED:20210325T092025Z
LAST-MODIFIED:20210325T092052Z
UID:29683-1624993200-1625004000@dwrugby.co.uk
SUMMARY:Safeguarding Courses - Play it Safe
DESCRIPTION:For more information\, please contact your club Safeguarding Officer.
URL:https://dwrugby.co.uk/event/safeguarding-courses-play-it-safe-7/
LOCATION:Weymouth & Portland RFC
END:VEVENT
BEGIN:VEVENT
DTSTART;TZID=UTC:20210629T190000
DTEND;TZID=UTC:20210629T203000
DTSTAMP:20260421T022739
CREATED:20210618T103334Z
LAST-MODIFIED:20210618T103334Z
UID:30495-1624993200-1624998600@dwrugby.co.uk
SUMMARY:Developing Links and Recruiting Players from Education virtual workshop
DESCRIPTION:This workshop is intended to provide clubs\, schools\, colleges and universities with ideas and the tools to deliver high quality links that benefits both partners and the young people involved. \nYour club is invited to a RFU South-West virtual workshop that will look at providing advice and guidance on how your club can engage with the education sector within your local community; to enhance your opportunities to create sustainable relationships with education institutions to support your well-balanced club model of People | Business | Environment. \nRegister for the webinar: Click here
URL:https://dwrugby.co.uk/event/developing-links-and-recruiting-players-from-education-virtual-workshop/
END:VEVENT
BEGIN:VEVENT
DTSTART;TZID=UTC:20210629T190000
DTEND;TZID=UTC:20210629T203000
DTSTAMP:20260421T022739
CREATED:20210526T085741Z
LAST-MODIFIED:20210526T085741Z
UID:30403-1624993200-1624998600@dwrugby.co.uk
SUMMARY:Workshop – Safe and effective rucking and mauling
DESCRIPTION:Deliverer: Magic Academy \, led by Rusty Earnshaw & John Fletcher \nPrinciples of the breakdown How to introduce the breakdown to novice players Building up rucks and mauls. \nRegister
URL:https://dwrugby.co.uk/event/workshop-safe-and-effective-rucking-and-mauling/
END:VEVENT
BEGIN:VEVENT
DTSTART;TZID=UTC:20210629T190000
DTEND;TZID=UTC:20210629T200000
DTSTAMP:20260421T022739
CREATED:20210619T095019Z
LAST-MODIFIED:20210619T095019Z
UID:30509-1624993200-1624996800@dwrugby.co.uk
SUMMARY:Play it safe Course
DESCRIPTION:
URL:https://dwrugby.co.uk/event/play-it-safe-course-4/
LOCATION:Weymouth & Portland RFC
END:VEVENT
END:VCALENDAR