BEGIN:VCALENDAR
VERSION:2.0
PRODID:-//Dorset Wiltshire Rugby Football Union - ECPv6.15.20//NONSGML v1.0//EN
CALSCALE:GREGORIAN
METHOD:PUBLISH
X-WR-CALNAME:Dorset Wiltshire Rugby Football Union
X-ORIGINAL-URL:https://dwrugby.co.uk
X-WR-CALDESC:Events for Dorset Wiltshire Rugby Football Union
REFRESH-INTERVAL;VALUE=DURATION:PT1H
X-Robots-Tag:noindex
X-PUBLISHED-TTL:PT1H
BEGIN:VTIMEZONE
TZID:UTC
BEGIN:STANDARD
TZOFFSETFROM:+0000
TZOFFSETTO:+0000
TZNAME:UTC
DTSTART:20200101T000000
END:STANDARD
END:VTIMEZONE
BEGIN:VEVENT
DTSTART;TZID=UTC:20210524T190000
DTEND;TZID=UTC:20210524T200000
DTSTAMP:20260421T055012
CREATED:20210413T181727Z
LAST-MODIFIED:20210413T181733Z
UID:29825-1621882800-1621886400@dwrugby.co.uk
SUMMARY:South Wilts Huddle
DESCRIPTION:
URL:https://dwrugby.co.uk/event/south-wilts-huddle/
LOCATION:Zoom
END:VEVENT
BEGIN:VEVENT
DTSTART;TZID=UTC:20210518T193000
DTEND;TZID=UTC:20210518T203000
DTSTAMP:20260421T055012
CREATED:20201015T133703Z
LAST-MODIFIED:20201015T133703Z
UID:28673-1621366200-1621369800@dwrugby.co.uk
SUMMARY:Management Board
DESCRIPTION:Via Zoom
URL:https://dwrugby.co.uk/event/management-board-19/
LOCATION:Zoom
END:VEVENT
BEGIN:VEVENT
DTSTART;TZID=UTC:20210518T190000
DTEND;TZID=UTC:20210518T220000
DTSTAMP:20260421T055012
CREATED:20210323T151359Z
LAST-MODIFIED:20210323T151409Z
UID:29598-1621364400-1621375200@dwrugby.co.uk
SUMMARY:Kids First Contact - Dorset
DESCRIPTION:
URL:https://dwrugby.co.uk/event/kids-first-contact-dorset-3/
LOCATION:Dorchester RFC
END:VEVENT
BEGIN:VEVENT
DTSTART;TZID=UTC:20210518T180000
DTEND;TZID=UTC:20210518T190000
DTSTAMP:20260421T055012
CREATED:20210512T101403Z
LAST-MODIFIED:20210512T101403Z
UID:30132-1621360800-1621364400@dwrugby.co.uk
SUMMARY:County Championship Review - Focus Group
DESCRIPTION:
URL:https://dwrugby.co.uk/event/county-championship-review-focus-group-2/
LOCATION:Zoom
END:VEVENT
BEGIN:VEVENT
DTSTART;TZID=UTC:20210517T190000
DTEND;TZID=UTC:20210517T210000
DTSTAMP:20260421T055012
CREATED:20210323T154751Z
LAST-MODIFIED:20210323T154756Z
UID:29616-1621278000-1621285200@dwrugby.co.uk
SUMMARY:Kids First Tag - Wiltshire
DESCRIPTION:
URL:https://dwrugby.co.uk/event/kids-first-tag-wiltshire-3/
LOCATION:Supermarine RFC
END:VEVENT
BEGIN:VEVENT
DTSTART;TZID=UTC:20210517T190000
DTEND;TZID=UTC:20210517T203000
DTSTAMP:20260421T055012
CREATED:20210415T125056Z
LAST-MODIFIED:20210415T125102Z
UID:29847-1621278000-1621283400@dwrugby.co.uk
SUMMARY:South West CB Forum
DESCRIPTION:
URL:https://dwrugby.co.uk/event/south-west-cb-forum/
LOCATION:Teams
END:VEVENT
BEGIN:VEVENT
DTSTART;TZID=UTC:20210517T180000
DTEND;TZID=UTC:20210517T190000
DTSTAMP:20260421T055012
CREATED:20210505T101202Z
LAST-MODIFIED:20210505T101413Z
UID:30109-1621274400-1621278000@dwrugby.co.uk
SUMMARY:Age Grade Discipline Meeting
DESCRIPTION:
URL:https://dwrugby.co.uk/event/age-grade-discipline-meeting/
LOCATION:Teams
END:VEVENT
BEGIN:VEVENT
DTSTART;VALUE=DATE:20210517
DTEND;VALUE=DATE:20210518
DTSTAMP:20260421T055012
CREATED:20210412T113519Z
LAST-MODIFIED:20210412T113524Z
UID:29813-1621209600-1621295999@dwrugby.co.uk
SUMMARY:# Ask Age Grade sessions
DESCRIPTION:Please keep an eye on @AgeGradeRugby and the Return to Rugby Page for further information. \nRegister
URL:https://dwrugby.co.uk/event/ask-age-grade-sessions-3/
LOCATION:Twitter
END:VEVENT
BEGIN:VEVENT
DTSTART;TZID=UTC:20210513T080000
DTEND;TZID=UTC:20210513T170000
DTSTAMP:20260421T055012
CREATED:20210415T124953Z
LAST-MODIFIED:20210415T124959Z
UID:29845-1620892800-1620925200@dwrugby.co.uk
SUMMARY:National CB Call with Steve Grainger
DESCRIPTION:
URL:https://dwrugby.co.uk/event/national-cb-call-with-steve-grainger/
LOCATION:Teams
END:VEVENT
BEGIN:VEVENT
DTSTART;TZID=UTC:20210511T190000
DTEND;TZID=UTC:20210511T220000
DTSTAMP:20260421T055012
CREATED:20210323T151527Z
LAST-MODIFIED:20210323T151716Z
UID:29600-1620759600-1620770400@dwrugby.co.uk
SUMMARY:Kids First Contact - Dorset
DESCRIPTION:
URL:https://dwrugby.co.uk/event/kids-first-contact-dorset-4/
LOCATION:Wimborne RFC
END:VEVENT
BEGIN:VEVENT
DTSTART;TZID=UTC:20210511T170000
DTEND;TZID=UTC:20210511T170000
DTSTAMP:20260421T055012
CREATED:20210428T073713Z
LAST-MODIFIED:20210428T073721Z
UID:30029-1620752400-1620752400@dwrugby.co.uk
SUMMARY:RUWSF Asset Improvement Loan Applications deadline
DESCRIPTION:5pm on Tuesday 11 May\, don't miss the closing date for clubs to submit applications for Rugby Union Winter Survival Fund Asset Improvement Loan. \nYou can watch the on-demand webinar explaining the opportunities this presents to clubs and how to make an application below. We hope that this will help anyone thinking of applying and give some ideas about the type of project that could be supported through the loans programme. \nThe loans are a chance for clubs to improve their facilities to assist their recovery from Covid and support long term sustainability either by diversifying revenue\, reducing costs or protecting and growing memberships \nThe application form is available on our loans page below\, alongside eligibility criteria and documents that will help you through the end-to-end process. \nPlease read all documents before completing the application form. \nLoans Page \nIntroduction Video
URL:https://dwrugby.co.uk/event/ruwsf-asset-improvement-loan-applications-deadline/
END:VEVENT
BEGIN:VEVENT
DTSTART;TZID=UTC:20210510T190000
DTEND;TZID=UTC:20210510T220000
DTSTAMP:20260421T055012
CREATED:20210323T151319Z
LAST-MODIFIED:20210323T151319Z
UID:29596-1620673200-1620684000@dwrugby.co.uk
SUMMARY:Kids First Contact - Dorset
DESCRIPTION:
URL:https://dwrugby.co.uk/event/kids-first-contact-dorset-2/
LOCATION:Dorchester RFC
END:VEVENT
BEGIN:VEVENT
DTSTART;TZID=UTC:20210510T190000
DTEND;TZID=UTC:20210510T210000
DTSTAMP:20260421T055012
CREATED:20210325T093016Z
LAST-MODIFIED:20210507T083122Z
UID:29689-1620673200-1620680400@dwrugby.co.uk
SUMMARY:England Rugby - Club Development South West (Revenue)
DESCRIPTION:Review your revenue streams and look at diversifying your offer. \nCANCELLED
URL:https://dwrugby.co.uk/event/england-rugby-club-development-south-west-revenue/
LOCATION:Zoom
END:VEVENT
BEGIN:VEVENT
DTSTART;TZID=UTC:20210510T180000
DTEND;TZID=UTC:20210510T190000
DTSTAMP:20260421T055012
CREATED:20210429T162715Z
LAST-MODIFIED:20210429T162715Z
UID:30059-1620669600-1620673200@dwrugby.co.uk
SUMMARY:Discipline CB Drop in call
DESCRIPTION:
URL:https://dwrugby.co.uk/event/discipline-cb-drop-in-call/
LOCATION:Zoom
END:VEVENT
BEGIN:VEVENT
DTSTART;TZID=UTC:20210506T190000
DTEND;TZID=UTC:20210506T200000
DTSTAMP:20260421T055012
CREATED:20210428T074224Z
LAST-MODIFIED:20210428T074224Z
UID:30035-1620327600-1620331200@dwrugby.co.uk
SUMMARY:Safety Solutions – Risk Assessments\, Incident Reporting\, First Aid Provision and Insurance.
DESCRIPTION:Our expert panel\, including our insurance broker Howden\, Proactive and Rachel Faull-Brown\, RFU Player Welfare Manager talk about our offers to help your clubs to implement new Risk Assessment incident reporting and manage the safety of your players\, volunteers and visitors. These safety solutions will help your club to provide a safe environment.\nRegister
URL:https://dwrugby.co.uk/event/safety-solutions-risk-assessments-incident-reporting-first-aid-provision-and-insurance/
END:VEVENT
BEGIN:VEVENT
DTSTART;TZID=UTC:20210505T190000
DTEND;TZID=UTC:20210505T220000
DTSTAMP:20260421T055012
CREATED:20210325T091636Z
LAST-MODIFIED:20210325T091641Z
UID:29677-1620241200-1620252000@dwrugby.co.uk
SUMMARY:Safeguarding Courses - Play it Safe
DESCRIPTION:For more information\, please contact your club Safeguarding Officer.
URL:https://dwrugby.co.uk/event/safeguarding-courses-play-it-safe-4/
LOCATION:Wimborne RFC
END:VEVENT
BEGIN:VEVENT
DTSTART;TZID=UTC:20210505T190000
DTEND;TZID=UTC:20210505T220000
DTSTAMP:20260421T055012
CREATED:20210323T152107Z
LAST-MODIFIED:20210323T152113Z
UID:29605-1620241200-1620252000@dwrugby.co.uk
SUMMARY:Kids First Contact - Wiltshire
DESCRIPTION:
URL:https://dwrugby.co.uk/event/kids-first-contact-wiltshire/
LOCATION:Salisbury RFC\, Castle Road\, Salisbury\, SP1 3SA
END:VEVENT
BEGIN:VEVENT
DTSTART;TZID=UTC:20210505T190000
DTEND;TZID=UTC:20210505T203000
DTSTAMP:20260421T055012
CREATED:20210415T124833Z
LAST-MODIFIED:20210416T095807Z
UID:29843-1620241200-1620246600@dwrugby.co.uk
SUMMARY:Develop Your Membership Game Plan Workshop
DESCRIPTION:Develop your Membership Game Plan Workshop – 7:00 – 8:30pm \nFocusing on increasing clubs memberships through reviewing current model\, highlighting ideas from other clubs and how clubs give more value for their members money. We are targeting club membership secretaries as a primary focus with one other key role if needed. The world café approach will allow them to experience all the topics in breakout rooms so one volunteer will see all the content. This will be delivered by Alex Thompson and the South West club developers. This will go out to the clubs tomorrow but wanted to give you the heads up\, no expectation that any CB personnel need to be present but anyone is very welcome to observe and wanted to ensure you knew they were happening. \nFor more details please contact your Club Developer. \n 
URL:https://dwrugby.co.uk/event/club-focused-south-west-wide/
LOCATION:Zoom
END:VEVENT
BEGIN:VEVENT
DTSTART;TZID=UTC:20210504T193000
DTEND;TZID=UTC:20210504T203000
DTSTAMP:20260421T055012
CREATED:20201015T133003Z
LAST-MODIFIED:20201015T133003Z
UID:28663-1620156600-1620160200@dwrugby.co.uk
SUMMARY:Council
DESCRIPTION:Via Zoom
URL:https://dwrugby.co.uk/event/council-7/
LOCATION:Zoom
END:VEVENT
BEGIN:VEVENT
DTSTART;TZID=UTC:20210504T190000
DTEND;TZID=UTC:20210504T220000
DTSTAMP:20260421T055012
CREATED:20210323T145559Z
LAST-MODIFIED:20210323T150627Z
UID:29586-1620154800-1620165600@dwrugby.co.uk
SUMMARY:Kids First Contact - Dorset
DESCRIPTION:
URL:https://dwrugby.co.uk/event/kids-first-contact-3/
LOCATION:Swanage & Wareham RFC
END:VEVENT
BEGIN:VEVENT
DTSTART;TZID=UTC:20210504T190000
DTEND;TZID=UTC:20210504T220000
DTSTAMP:20260421T055012
CREATED:20210323T145400Z
LAST-MODIFIED:20210323T151100Z
UID:29584-1620154800-1620165600@dwrugby.co.uk
SUMMARY:Kids First Contact - Wiltshire
DESCRIPTION:
URL:https://dwrugby.co.uk/event/kids-first-contact-2/
LOCATION:Trowbridge RFC
END:VEVENT
BEGIN:VEVENT
DTSTART;TZID=UTC:20210504T190000
DTEND;TZID=UTC:20210504T200000
DTSTAMP:20260421T055012
CREATED:20210414T200208Z
LAST-MODIFIED:20210414T200213Z
UID:29835-1620154800-1620158400@dwrugby.co.uk
SUMMARY:South West DOC - AGM
DESCRIPTION:
URL:https://dwrugby.co.uk/event/south-west-doc-agm/
END:VEVENT
BEGIN:VEVENT
DTSTART;TZID=UTC:20210504T180000
DTEND;TZID=UTC:20210504T193000
DTSTAMP:20260421T055012
CREATED:20210426T105756Z
LAST-MODIFIED:20210503T084634Z
UID:29954-1620151200-1620156600@dwrugby.co.uk
SUMMARY:County Championship Review - Focus Group
DESCRIPTION:Cancelled.
URL:https://dwrugby.co.uk/event/county-championship-review-focus-group/
LOCATION:Zoom
END:VEVENT
BEGIN:VEVENT
DTSTART;VALUE=DATE:20210503
DTEND;VALUE=DATE:20210504
DTSTAMP:20260421T055012
CREATED:20210412T113355Z
LAST-MODIFIED:20210412T113355Z
UID:29811-1620000000-1620086399@dwrugby.co.uk
SUMMARY:# Ask Age Grade sessions
DESCRIPTION:Please keep an eye on @AgeGradeRugby and the Return to Rugby Page for further information \nRegister
URL:https://dwrugby.co.uk/event/ask-age-grade-sessions-2/
LOCATION:Twitter
END:VEVENT
BEGIN:VEVENT
DTSTART;VALUE=DATE:20210502
DTEND;VALUE=DATE:20210503
DTSTAMP:20260421T055012
CREATED:20210428T073925Z
LAST-MODIFIED:20210428T073925Z
UID:30031-1619913600-1619999999@dwrugby.co.uk
SUMMARY:Nominate your Mitsubishi Motors Volunteer of the Year
DESCRIPTION:Remember you have until Sunday 2 May to submit your nominees for the Mitsubishi Motors Volunteer of the Year Awards 2021. \nThis season there are three national award categories: \n• Resilience in Rugby Award\n• Beyond Rugby Award\n• Diversity & Inclusion Award \nThese awards have been created to recognise the exceptional work that volunteers have put in to keep their local communities as well as their rugby clubs going. \nYou can find out more about how to nominate by using the link below. \nVolunteer Nominations
URL:https://dwrugby.co.uk/event/nominate-your-mitsubishi-motors-volunteer-of-the-year/
END:VEVENT
BEGIN:VEVENT
DTSTART;TZID=UTC:20210429T190000
DTEND;TZID=UTC:20210429T220000
DTSTAMP:20260421T055012
CREATED:20210325T091529Z
LAST-MODIFIED:20210325T091535Z
UID:29675-1619722800-1619733600@dwrugby.co.uk
SUMMARY:Safeguarding Courses - Play it Safe
DESCRIPTION:For more information\, please contact your club Safeguarding Officer.
URL:https://dwrugby.co.uk/event/safeguarding-courses-play-it-safe-3/
LOCATION:Bournemouth RFC
END:VEVENT
BEGIN:VEVENT
DTSTART;TZID=UTC:20210428T190000
DTEND;TZID=UTC:20210428T220000
DTSTAMP:20260421T055012
CREATED:20210325T091420Z
LAST-MODIFIED:20210325T091427Z
UID:29672-1619636400-1619647200@dwrugby.co.uk
SUMMARY:Safeguarding Courses - Play it Safe
DESCRIPTION:For more information\, please contact your club Safeguarding Officer.
URL:https://dwrugby.co.uk/event/safeguarding-courses-play-it-safe-2/
LOCATION:Weymouth & Portland RFC
END:VEVENT
BEGIN:VEVENT
DTSTART;TZID=UTC:20210428T190000
DTEND;TZID=UTC:20210428T210000
DTSTAMP:20260421T055012
CREATED:20210325T092823Z
LAST-MODIFIED:20210325T092829Z
UID:29687-1619636400-1619643600@dwrugby.co.uk
SUMMARY:England Rugby - Club Development South West (Business Planning)
DESCRIPTION:Create or evaluate your overall plan to reflect your business needs.
URL:https://dwrugby.co.uk/event/england-rugby-club-development-south-west-business-planning/
LOCATION:Zoom
END:VEVENT
BEGIN:VEVENT
DTSTART;TZID=UTC:20210428T190000
DTEND;TZID=UTC:20210428T203000
DTSTAMP:20260421T055012
CREATED:20210415T122207Z
LAST-MODIFIED:20210415T122213Z
UID:29841-1619636400-1619641800@dwrugby.co.uk
SUMMARY:CB Player retention drop in
DESCRIPTION:London and South East region
URL:https://dwrugby.co.uk/event/cb-player-retention-drop-in/
LOCATION:Teams
END:VEVENT
BEGIN:VEVENT
DTSTART;TZID=UTC:20210428T190000
DTEND;TZID=UTC:20210428T200000
DTSTAMP:20260421T055012
CREATED:20210428T074056Z
LAST-MODIFIED:20210428T074102Z
UID:30033-1619636400-1619640000@dwrugby.co.uk
SUMMARY:Mental Wellbeing – Keeping The Rugby Community Healthy
DESCRIPTION:As a follow up to our Player Mental Health Webinar\, we will welcome RugbySafe Leads to a discussion about mental wellbeing\, creating kinder cultures and spotting the signs of mental wellbeing issues in your clubs. We are joined again by\, David Beeney and former England Rugby captain Dylan Hartley. With the help of our trusted healthcare partner Simplyhealth we are putting player welfare at the heart of the game to keep the rugby community healthy.\nRegister
URL:https://dwrugby.co.uk/event/mental-wellbeing-keeping-the-rugby-community-healthy/
END:VEVENT
END:VCALENDAR