BEGIN:VCALENDAR
VERSION:2.0
PRODID:-//Dorset Wiltshire Rugby Football Union - ECPv6.15.20//NONSGML v1.0//EN
CALSCALE:GREGORIAN
METHOD:PUBLISH
X-WR-CALNAME:Dorset Wiltshire Rugby Football Union
X-ORIGINAL-URL:https://dwrugby.co.uk
X-WR-CALDESC:Events for Dorset Wiltshire Rugby Football Union
REFRESH-INTERVAL;VALUE=DURATION:PT1H
X-Robots-Tag:noindex
X-PUBLISHED-TTL:PT1H
BEGIN:VTIMEZONE
TZID:UTC
BEGIN:STANDARD
TZOFFSETFROM:+0000
TZOFFSETTO:+0000
TZNAME:UTC
DTSTART:20200101T000000
END:STANDARD
END:VTIMEZONE
BEGIN:VEVENT
DTSTART;TZID=UTC:20210428T190000
DTEND;TZID=UTC:20210428T200000
DTSTAMP:20260423T025518
CREATED:20210428T074056Z
LAST-MODIFIED:20210428T074102Z
UID:30033-1619636400-1619640000@dwrugby.co.uk
SUMMARY:Mental Wellbeing – Keeping The Rugby Community Healthy
DESCRIPTION:As a follow up to our Player Mental Health Webinar\, we will welcome RugbySafe Leads to a discussion about mental wellbeing\, creating kinder cultures and spotting the signs of mental wellbeing issues in your clubs. We are joined again by\, David Beeney and former England Rugby captain Dylan Hartley. With the help of our trusted healthcare partner Simplyhealth we are putting player welfare at the heart of the game to keep the rugby community healthy.\nRegister
URL:https://dwrugby.co.uk/event/mental-wellbeing-keeping-the-rugby-community-healthy/
END:VEVENT
BEGIN:VEVENT
DTSTART;TZID=UTC:20210428T190000
DTEND;TZID=UTC:20210428T200000
DTSTAMP:20260423T025518
CREATED:20210426T104501Z
LAST-MODIFIED:20210426T104512Z
UID:29952-1619636400-1619640000@dwrugby.co.uk
SUMMARY:Youth Leadership Academy Session 3
DESCRIPTION:Volunteering
URL:https://dwrugby.co.uk/event/youth-leadership-academy-session-3/
LOCATION:Zoom
END:VEVENT
BEGIN:VEVENT
DTSTART;TZID=UTC:20210428T180000
DTEND;TZID=UTC:20210428T190000
DTSTAMP:20260423T025518
CREATED:20210412T110723Z
LAST-MODIFIED:20210412T110729Z
UID:29806-1619632800-1619636400@dwrugby.co.uk
SUMMARY:English Rugby Counties Association
DESCRIPTION:
URL:https://dwrugby.co.uk/event/english-rugby-counties-association/
LOCATION:Zoom
END:VEVENT
BEGIN:VEVENT
DTSTART;TZID=UTC:20210428T173000
DTEND;TZID=UTC:20210428T180000
DTSTAMP:20260423T025518
CREATED:20210422T100403Z
LAST-MODIFIED:20210422T100409Z
UID:29936-1619631000-1619632800@dwrugby.co.uk
SUMMARY:D&W Pre ERCA Implementation Group Meeting:
DESCRIPTION:
URL:https://dwrugby.co.uk/event/dw-pre-erca-implementation-group-meeting/
LOCATION:Zoom
END:VEVENT
BEGIN:VEVENT
DTSTART;TZID=UTC:20210427T190000
DTEND;TZID=UTC:20210427T200000
DTSTAMP:20260423T025518
CREATED:20210426T111119Z
LAST-MODIFIED:20210426T111125Z
UID:29956-1619550000-1619553600@dwrugby.co.uk
SUMMARY:Safeguarding meeting
DESCRIPTION:
URL:https://dwrugby.co.uk/event/safeguarding-meeting-3/
LOCATION:Zoom
END:VEVENT
BEGIN:VEVENT
DTSTART;TZID=UTC:20210426T190000
DTEND;TZID=UTC:20210426T220000
DTSTAMP:20260423T025518
CREATED:20210325T091258Z
LAST-MODIFIED:20210325T091305Z
UID:29670-1619463600-1619474400@dwrugby.co.uk
SUMMARY:Safeguarding Courses - Play it Safe
DESCRIPTION:For more information\, please contact your club Safeguarding Officer.
URL:https://dwrugby.co.uk/event/safeguarding-courses-play-it-safe/
LOCATION:North Dorset RFC Gillingham Dorset\, Longbury Hill Lane\, Gillingham\, SP8 5SY
END:VEVENT
BEGIN:VEVENT
DTSTART;TZID=UTC:20210426T190000
DTEND;TZID=UTC:20210426T200000
DTSTAMP:20260423T025518
CREATED:20210305T150227Z
LAST-MODIFIED:20210305T150227Z
UID:29479-1619463600-1619467200@dwrugby.co.uk
SUMMARY:West Wiltshire Huddle
DESCRIPTION:
URL:https://dwrugby.co.uk/event/west-wiltshire-huddle-2/
END:VEVENT
BEGIN:VEVENT
DTSTART;VALUE=DATE:20210426
DTEND;VALUE=DATE:20210427
DTSTAMP:20260423T025518
CREATED:20210325T094429Z
LAST-MODIFIED:20210325T094436Z
UID:29697-1619395200-1619481599@dwrugby.co.uk
SUMMARY:RETURN TO RUGBY ROAD MAP – COMMUNITY GAME
DESCRIPTION:Contact training (Still Excluding Scrum & Maul) \nAdult & Age Grade matches with Adapted Laws (No Scrum & Maul)
URL:https://dwrugby.co.uk/event/return-to-rugby-road-map-community-game-2/
END:VEVENT
BEGIN:VEVENT
DTSTART;TZID=UTC:20210422T190000
DTEND;TZID=UTC:20210422T203000
DTSTAMP:20260423T025518
CREATED:20210418T153726Z
LAST-MODIFIED:20210418T153732Z
UID:29897-1619118000-1619123400@dwrugby.co.uk
SUMMARY:D&W Senior Competitions meeting
DESCRIPTION:
URL:https://dwrugby.co.uk/event/dw-senior-competitions-meeting/
END:VEVENT
BEGIN:VEVENT
DTSTART;TZID=UTC:20210420T190000
DTEND;TZID=UTC:20210420T200000
DTSTAMP:20260423T025518
CREATED:20210416T100016Z
LAST-MODIFIED:20210416T100022Z
UID:29890-1618945200-1618948800@dwrugby.co.uk
SUMMARY:East Dorset Huddle
DESCRIPTION:
URL:https://dwrugby.co.uk/event/east-dorset-huddle-2/
LOCATION:Zoom
END:VEVENT
BEGIN:VEVENT
DTSTART;TZID=UTC:20210419T190000
DTEND;TZID=UTC:20210419T200000
DTSTAMP:20260423T025518
CREATED:20210305T150140Z
LAST-MODIFIED:20210305T150140Z
UID:29477-1618858800-1618862400@dwrugby.co.uk
SUMMARY:West Dorset Huddle
DESCRIPTION:
URL:https://dwrugby.co.uk/event/west-dorset-huddle-2/
LOCATION:Zoom
END:VEVENT
BEGIN:VEVENT
DTSTART;VALUE=DATE:20210419
DTEND;VALUE=DATE:20210420
DTSTAMP:20260423T025518
CREATED:20210412T113224Z
LAST-MODIFIED:20210412T114345Z
UID:29808-1618790400-1618876799@dwrugby.co.uk
SUMMARY:# Ask Age Grade sessions
DESCRIPTION:Please keep an eye on @AgeGradeRugby and the Return to Rugby Page for further information \nRegister
URL:https://dwrugby.co.uk/event/ask-age-grade-sessions/
LOCATION:Twitter
END:VEVENT
BEGIN:VEVENT
DTSTART;TZID=UTC:20210414T190000
DTEND;TZID=UTC:20210414T203000
DTSTAMP:20260423T025518
CREATED:20210325T092331Z
LAST-MODIFIED:20210325T092336Z
UID:29685-1618426800-1618432200@dwrugby.co.uk
SUMMARY:South West Counties
DESCRIPTION:
URL:https://dwrugby.co.uk/event/south-west-counties/
LOCATION:Zoom
END:VEVENT
BEGIN:VEVENT
DTSTART;TZID=UTC:20210413T193000
DTEND;TZID=UTC:20210413T203000
DTSTAMP:20260423T025518
CREATED:20210411T110937Z
LAST-MODIFIED:20210411T110942Z
UID:29766-1618342200-1618345800@dwrugby.co.uk
SUMMARY:Referees Training and Development evening
DESCRIPTION:We are very fortunate that we will be joined by Dr Ralph Mitchell\, the Head Doctor and Team GP at Wasps Rugby\, who will give us a presentation on dealing with and recognising serious injuries\, especially head injuries and concussion.  Ralph is not only a sports science specialist\, but also an ex-community referee who rose up through the Midlands Group to the National Panel\, and so he is uniquely positioned to give us a fascinating talk focussing on our challenges in the grassroots game. \nThe subsequent short session will focus on the “new” high tackle framework published by World Rugby.
URL:https://dwrugby.co.uk/event/referees-training-and-development-evening/
LOCATION:Zoom
END:VEVENT
BEGIN:VEVENT
DTSTART;TZID=UTC:20210413T193000
DTEND;TZID=UTC:20210413T203000
DTSTAMP:20260423T025518
CREATED:20201015T133600Z
LAST-MODIFIED:20201015T133600Z
UID:28671-1618342200-1618345800@dwrugby.co.uk
SUMMARY:Management Board
DESCRIPTION:Via Zoom
URL:https://dwrugby.co.uk/event/management-board-18/
LOCATION:Zoom
END:VEVENT
BEGIN:VEVENT
DTSTART;TZID=UTC:20210412T190000
DTEND;TZID=UTC:20210412T200000
DTSTAMP:20260423T025518
CREATED:20210305T150052Z
LAST-MODIFIED:20210305T150052Z
UID:29475-1618254000-1618257600@dwrugby.co.uk
SUMMARY:South Wiltshire Huddle
DESCRIPTION:
URL:https://dwrugby.co.uk/event/south-wiltshire-huddle-2/
LOCATION:Zoom
END:VEVENT
BEGIN:VEVENT
DTSTART;TZID=UTC:20210407T193000
DTEND;TZID=UTC:20210407T203000
DTSTAMP:20260423T025518
CREATED:20210305T145903Z
LAST-MODIFIED:20210305T145903Z
UID:29473-1617823800-1617827400@dwrugby.co.uk
SUMMARY:D&W Young Player Development Subcommittee Meeting
DESCRIPTION:
URL:https://dwrugby.co.uk/event/dw-young-player-development-subcommittee-meeting/
LOCATION:Zoom
END:VEVENT
BEGIN:VEVENT
DTSTART;TZID=UTC:20210401T190000
DTEND;TZID=UTC:20210401T200000
DTSTAMP:20260423T025518
CREATED:20210306T204652Z
LAST-MODIFIED:20210306T204652Z
UID:29487-1617303600-1617307200@dwrugby.co.uk
SUMMARY:Swindon & West Wiltshire Huddle
DESCRIPTION:
URL:https://dwrugby.co.uk/event/swindon-west-wiltshire-huddle/
LOCATION:Zoom
END:VEVENT
BEGIN:VEVENT
DTSTART;VALUE=DATE:20210329
DTEND;VALUE=DATE:20210330
DTSTAMP:20260423T025518
CREATED:20210325T093917Z
LAST-MODIFIED:20210325T093923Z
UID:29694-1616976000-1617062399@dwrugby.co.uk
SUMMARY:Return to Rugby Road Map - Community Game
DESCRIPTION:Contact training (Excluding Scrum & Maul) \nReady4Rugby - O2 - Touch & Tag matches against other clubs.
URL:https://dwrugby.co.uk/event/return-to-rugby-road-map-community-game/
END:VEVENT
BEGIN:VEVENT
DTSTART;TZID=UTC:20210322T190000
DTEND;TZID=UTC:20210322T200000
DTSTAMP:20260423T025518
CREATED:20210305T150811Z
LAST-MODIFIED:20210305T150811Z
UID:29481-1616439600-1616443200@dwrugby.co.uk
SUMMARY:D&W Clubs Huddle- Reboot/Retain/Reengage
DESCRIPTION:
URL:https://dwrugby.co.uk/event/dw-clubs-huddle-reboot-retain-reengage/
LOCATION:Zoom
END:VEVENT
BEGIN:VEVENT
DTSTART;TZID=UTC:20210316T193000
DTEND;TZID=UTC:20210316T203000
DTSTAMP:20260423T025518
CREATED:20201015T133456Z
LAST-MODIFIED:20201015T133456Z
UID:28669-1615923000-1615926600@dwrugby.co.uk
SUMMARY:Management Board
DESCRIPTION:Via Zoom
URL:https://dwrugby.co.uk/event/management-board-17/
LOCATION:Zoom
END:VEVENT
BEGIN:VEVENT
DTSTART;TZID=UTC:20210315T190000
DTEND;TZID=UTC:20210315T200000
DTSTAMP:20260423T025518
CREATED:20210306T204527Z
LAST-MODIFIED:20210306T204527Z
UID:29485-1615834800-1615838400@dwrugby.co.uk
SUMMARY:Safeguarding Meeting
DESCRIPTION:
URL:https://dwrugby.co.uk/event/safeguarding-meeting-2/
LOCATION:Zoom
END:VEVENT
BEGIN:VEVENT
DTSTART;TZID=UTC:20210208T190000
DTEND;TZID=UTC:20210208T200000
DTSTAMP:20260423T025518
CREATED:20210122T095803Z
LAST-MODIFIED:20210122T095803Z
UID:29366-1612810800-1612814400@dwrugby.co.uk
SUMMARY:Safeguarding Meeting
DESCRIPTION:Hoisted by Julie Boddington
URL:https://dwrugby.co.uk/event/safeguarding-meeting/
LOCATION:Zoom
END:VEVENT
BEGIN:VEVENT
DTSTART;TZID=UTC:20210128T190000
DTEND;TZID=UTC:20210128T200000
DTSTAMP:20260423T025518
CREATED:20210122T095316Z
LAST-MODIFIED:20210122T095424Z
UID:29363-1611860400-1611864000@dwrugby.co.uk
SUMMARY:Coaching Update
DESCRIPTION:Hoisted by Chris Burton and Frank Butler \n  \n 
URL:https://dwrugby.co.uk/event/coaching-update/
LOCATION:Zoom
END:VEVENT
BEGIN:VEVENT
DTSTART;TZID=UTC:20210125T193000
DTEND;TZID=UTC:20210125T203000
DTSTAMP:20260423T025518
CREATED:20201214T145957Z
LAST-MODIFIED:20201214T145957Z
UID:29229-1611603000-1611606600@dwrugby.co.uk
SUMMARY:West Wiltshire Huddle
DESCRIPTION:
URL:https://dwrugby.co.uk/event/west-wiltshire-huddle/
END:VEVENT
BEGIN:VEVENT
DTSTART;TZID=UTC:20210119T193000
DTEND;TZID=UTC:20210119T203000
DTSTAMP:20260423T025518
CREATED:20201015T133341Z
LAST-MODIFIED:20201015T133341Z
UID:28667-1611084600-1611088200@dwrugby.co.uk
SUMMARY:Management Board
DESCRIPTION:Via Zoom
URL:https://dwrugby.co.uk/event/management-board-16/
LOCATION:Zoom
END:VEVENT
BEGIN:VEVENT
DTSTART;TZID=UTC:20210118T193000
DTEND;TZID=UTC:20210118T203000
DTSTAMP:20260423T025518
CREATED:20201214T145909Z
LAST-MODIFIED:20201214T145909Z
UID:29227-1610998200-1611001800@dwrugby.co.uk
SUMMARY:Swindon & North Wiltshire Huddle
DESCRIPTION:
URL:https://dwrugby.co.uk/event/swindon-north-wiltshire-huddle/
END:VEVENT
BEGIN:VEVENT
DTSTART;TZID=UTC:20210113T193000
DTEND;TZID=UTC:20210113T203000
DTSTAMP:20260423T025518
CREATED:20201214T145744Z
LAST-MODIFIED:20201214T145744Z
UID:29225-1610566200-1610569800@dwrugby.co.uk
SUMMARY:East Dorset Huddle
DESCRIPTION:
URL:https://dwrugby.co.uk/event/east-dorset-huddle/
LOCATION:Zoom
END:VEVENT
BEGIN:VEVENT
DTSTART;TZID=UTC:20210112T193000
DTEND;TZID=UTC:20210112T203000
DTSTAMP:20260423T025518
CREATED:20201214T145649Z
LAST-MODIFIED:20201214T145649Z
UID:29223-1610479800-1610483400@dwrugby.co.uk
SUMMARY:South Wiltshire Huddle
DESCRIPTION:
URL:https://dwrugby.co.uk/event/south-wiltshire-huddle/
LOCATION:Zoom
END:VEVENT
BEGIN:VEVENT
DTSTART;TZID=UTC:20210111T193000
DTEND;TZID=UTC:20210111T203000
DTSTAMP:20260423T025518
CREATED:20201214T145518Z
LAST-MODIFIED:20201214T145518Z
UID:29221-1610393400-1610397000@dwrugby.co.uk
SUMMARY:West Dorset Huddle
DESCRIPTION:
URL:https://dwrugby.co.uk/event/west-dorset-huddle/
LOCATION:Zoom
END:VEVENT
END:VCALENDAR