BEGIN:VCALENDAR
VERSION:2.0
PRODID:-//Dorset Wiltshire Rugby Football Union - ECPv6.15.20//NONSGML v1.0//EN
CALSCALE:GREGORIAN
METHOD:PUBLISH
X-WR-CALNAME:Dorset Wiltshire Rugby Football Union
X-ORIGINAL-URL:https://dwrugby.co.uk
X-WR-CALDESC:Events for Dorset Wiltshire Rugby Football Union
REFRESH-INTERVAL;VALUE=DURATION:PT1H
X-Robots-Tag:noindex
X-PUBLISHED-TTL:PT1H
BEGIN:VTIMEZONE
TZID:UTC
BEGIN:STANDARD
TZOFFSETFROM:+0000
TZOFFSETTO:+0000
TZNAME:UTC
DTSTART:20210101T000000
END:STANDARD
END:VTIMEZONE
BEGIN:VEVENT
DTSTART;TZID=UTC:20250203T183000
DTEND;TZID=UTC:20250203T200000
DTSTAMP:20260420T061629
CREATED:20250116T153407Z
LAST-MODIFIED:20250116T153407Z
UID:1666748-1738607400-1738612800@dwrugby.co.uk
SUMMARY:Workshops and Webinars
DESCRIPTION:Growing Your Social Media Audience  \nWill need to book on as limited places.  \n 
URL:https://dwrugby.co.uk/event/workshops-and-webinars/
LOCATION:Online
END:VEVENT
BEGIN:VEVENT
DTSTART;TZID=UTC:20250203T180000
DTEND;TZID=UTC:20250203T210000
DTSTAMP:20260420T061629
CREATED:20250114T210807Z
LAST-MODIFIED:20250114T210807Z
UID:1666735-1738605600-1738616400@dwrugby.co.uk
SUMMARY:Taster session for new referees
DESCRIPTION:Introduction to referee courses to try to attract more referees to the game (both Male & Female) to help cover more games across the weekend. The aim is for the courses to be a ‘taster ’session for new referees\, with the hope that they will sign up for the full course next season. \nFor more information please email the Chair of the Referee Society \n 
URL:https://dwrugby.co.uk/event/taster-session-for-new-referees/
LOCATION:Dorchester RFC
END:VEVENT
BEGIN:VEVENT
DTSTART;TZID=UTC:20250202T133000
DTEND;TZID=UTC:20250202T170000
DTSTAMP:20260420T061629
CREATED:20250130T192220Z
LAST-MODIFIED:20250130T192220Z
UID:1666821-1738503000-1738515600@dwrugby.co.uk
SUMMARY:PDGFP Girls U16
DESCRIPTION:D&W RFU vs Oxfordshire
URL:https://dwrugby.co.uk/event/pdgfp-girls-u16/
LOCATION:Melksham RFC
END:VEVENT
BEGIN:VEVENT
DTSTART;TZID=UTC:20250120T193000
DTEND;TZID=UTC:20250120T203000
DTSTAMP:20260420T061629
CREATED:20250107T201308Z
LAST-MODIFIED:20250107T201308Z
UID:1666676-1737401400-1737405000@dwrugby.co.uk
SUMMARY:South Wiltshire Huddle
DESCRIPTION:for more information please contact Dave Wookey
URL:https://dwrugby.co.uk/event/south-wiltshire-huddle-8/
LOCATION:Zoom
END:VEVENT
BEGIN:VEVENT
DTSTART;TZID=UTC:20250119T120000
DTEND;TZID=UTC:20250119T170000
DTSTAMP:20260420T061629
CREATED:20250107T201738Z
LAST-MODIFIED:20250107T201738Z
UID:1666678-1737288000-1737306000@dwrugby.co.uk
SUMMARY:Jason Leonard County Championship Under 20’s Men
DESCRIPTION:For more information please contact \nMark Adams - D&W U20s Manager \nm.m.adams@hotmail.co.uk \n07795 313 889
URL:https://dwrugby.co.uk/event/jason-leonard-county-championship-under-20s-men-3/
LOCATION:Warminster RFC\, Folly Lane\, Warminster\, BA12 7RG
END:VEVENT
BEGIN:VEVENT
DTSTART;TZID=UTC:20250119T113000
DTEND;TZID=UTC:20250119T143000
DTSTAMP:20260420T061629
CREATED:20250114T205919Z
LAST-MODIFIED:20250114T205919Z
UID:1666733-1737286200-1737297000@dwrugby.co.uk
SUMMARY:Love Rugby Cluster
DESCRIPTION:Timings: 1130 -1145 registration for 12pm start. End at 2pm.\nFormat: skills zones taking advantage of larger numbers of players e.g. scrum clinic; contact games for each age group.\nAge groups:\nU12 run by Salisbury (additional volunteers very welcome)\nU14\nU16\nU18\nPoint of contact - (Jonny) 07827 084 632
URL:https://dwrugby.co.uk/event/love-rugby-cluster/
LOCATION:Salisbury RFC\, Castle Road\, Salisbury\, SP1 3SA
END:VEVENT
BEGIN:VEVENT
DTSTART;TZID=UTC:20250105T120000
DTEND;TZID=UTC:20250105T170000
DTSTAMP:20260420T061629
CREATED:20241207T144233Z
LAST-MODIFIED:20241207T150837Z
UID:1666488-1736078400-1736096400@dwrugby.co.uk
SUMMARY:Jason Leonard County Championship Under 20's Men
DESCRIPTION:Dear All \nFor the third season in a row I will be in the management team for Dorset & Wiltshire u20s\, this time as team manager. \nU20s county sides from all over England will compete against each other in The Jason Leonard u20s County Championships\, by the way of regional leagues\, then looking to progress into the knockout stages\,  which conclude in a final at The Allianz stadium\, Twickenham. \nIn the 2022/23 season our lads won the SW England final\, but unfortunately narrowly lost in the South of England final\, preventing progressing to Twickenham.  Last season\, 2023/24\, we improved and were finalists at Twickenham\, but lost to a penalty with the clock in the red past 80 minutes! Heartbreaking for all involved\, but memories that will be treasured forever. \nThis coming campaign of 2024/25\, we are determined to try and go that one step further and return from Twickenham as champions! Games themselves don't start until March with the final in June\, but up until March there is lot's happening with trials\, training etc. \nPlease can I ask you to promote this at your club and activity encourage lads to attend the trial at Warminster RFC on Sunday January 5th start time of 12:00pm. \nI have attached some flyers that you can use on social media and around the club and below are the rules for eligibility. \nThe registration link is below\, together with a registration word document that can be emailed back to me. \nThere is also a Facebook group\, if you can encourage eligible guys to join - https://www.facebook.com/groups/210660555653624 \nYours in rugby\, \nMark \nMark Adams \nD&W U20s manager \nm.m.adams@hotmail.co.uk \n07795 313 889 \nFor players who are looking to represent D&W U20s men in training and County Championship matches in the 2024-25 season. \nThe rules for 2024-2025 season in the County Championship have been clarified: \nTo play in the Jason Leonard Men’s National U20s Competition;\na. The Player must be under 20 years of age at midnight on 31st of August 2024;\nb. The Player must be a minimum of 18 years of age unless otherwise permitted to play adult rugby in accordance with RFU Regulation 15.6; and\nc. The Player must be Resident in the County. A player is deemed to be resident in a County in which:\na) the Player was born; and/or\nb) the Player current resides; and/or\nc) the Player has played or been selected in a match-day squad for the County in a previous County\nsquad (Men’s or Women’s U16\, U17\, U18\, U20s); and/or\nd) the Player is Registered with an Eligible Club within the County on the date of the applicable Match \nThe following are not eligible to play in the competition;\na. Any Player who during the 2024-25 season is or has been selected in a match day squad in a\nleague above Regional 1\, as specified on the relevant Electronic Match Card;\nb. Any England Academy Player (EAP) who is or has been involved since reaching their 18th\nbirthday; and/or\nc. Any Player who has participated in the following BUCS Rugby competitions: (a) BUCS\nSuper Rugby; (b) BUCS Rugby Premier North 1; and/or (c) BUCS Rugby Premier South 1\, in\nthe current season. \nDon't forget players who are members of a National League club\, but who play for its lower XV team (at Regional 1/Level 5 or below) are now eligible to play in this championship. \nRegistration link: \nhttps://forms.office.com/Pages/ResponsePage.aspx?id=DQSIkWdsW0yxEjajBLZtrQAAAAAAAAAAAAa__ddZWAZUQUYzRUpJT0xJNkQwTDNXR0o5M0NaMEVMRi4u \n  \n 
URL:https://dwrugby.co.uk/event/jason-leonard-county-championship/
LOCATION:Warminster RFC\, Folly Lane\, Warminster\, BA12 7RG
END:VEVENT
BEGIN:VEVENT
DTSTART;VALUE=DATE:20250105
DTEND;VALUE=DATE:20250106
DTSTAMP:20260420T061629
CREATED:20241207T145531Z
LAST-MODIFIED:20241207T151133Z
UID:1666497-1736035200-1736121599@dwrugby.co.uk
SUMMARY:Under 18’s Boys Representative Rugby
DESCRIPTION:Dorset & Wilts vs Cornwall
URL:https://dwrugby.co.uk/event/under-18s-boys-representative-rugby-2/
LOCATION:Hartpury University\, Hartpury\, GL19 3BE
END:VEVENT
BEGIN:VEVENT
DTSTART;TZID=UTC:20250102T190000
DTEND;TZID=UTC:20250102T210000
DTSTAMP:20260420T061629
CREATED:20241207T145320Z
LAST-MODIFIED:20241207T145320Z
UID:1666495-1735844400-1735851600@dwrugby.co.uk
SUMMARY:Under 18's Boys Representative Rugby
DESCRIPTION:Training
URL:https://dwrugby.co.uk/event/under-18s-boys-representative-rugby/
LOCATION:TBC
END:VEVENT
BEGIN:VEVENT
DTSTART;TZID=UTC:20241210T190000
DTEND;TZID=UTC:20241210T203000
DTSTAMP:20260420T061629
CREATED:20241207T142508Z
LAST-MODIFIED:20241207T142508Z
UID:1666477-1733857200-1733862600@dwrugby.co.uk
SUMMARY:D&W Council
DESCRIPTION:Via Zoom
URL:https://dwrugby.co.uk/event/dw-council/
LOCATION:SP1 3SA
END:VEVENT
BEGIN:VEVENT
DTSTART;TZID=UTC:20240212T190000
DTEND;TZID=UTC:20240212T190000
DTSTAMP:20260420T061629
CREATED:20230907T111459Z
LAST-MODIFIED:20230907T111459Z
UID:300598-1707764400-1707764400@dwrugby.co.uk
SUMMARY:Safeguarding Call
DESCRIPTION:
URL:https://dwrugby.co.uk/event/safeguarding-call-5/
LOCATION:Zoom
END:VEVENT
BEGIN:VEVENT
DTSTART;TZID=UTC:20240109T190000
DTEND;TZID=UTC:20240109T190000
DTSTAMP:20260420T061629
CREATED:20230907T111407Z
LAST-MODIFIED:20230907T111407Z
UID:300592-1704826800-1704826800@dwrugby.co.uk
SUMMARY:Safeguarding Call
DESCRIPTION:
URL:https://dwrugby.co.uk/event/safeguarding-call-4/
LOCATION:Zoom
END:VEVENT
BEGIN:VEVENT
DTSTART;TZID=UTC:20231204T190000
DTEND;TZID=UTC:20231204T190000
DTSTAMP:20260420T061629
CREATED:20230907T111314Z
LAST-MODIFIED:20230907T111314Z
UID:300586-1701716400-1701716400@dwrugby.co.uk
SUMMARY:Safeguarding Call
DESCRIPTION:
URL:https://dwrugby.co.uk/event/safeguarding-call-3/
LOCATION:Zoom
END:VEVENT
BEGIN:VEVENT
DTSTART;TZID=UTC:20231023T190000
DTEND;TZID=UTC:20231023T190000
DTSTAMP:20260420T061629
CREATED:20230907T111151Z
LAST-MODIFIED:20230907T111151Z
UID:300580-1698087600-1698087600@dwrugby.co.uk
SUMMARY:Safeguarding Call
DESCRIPTION:
URL:https://dwrugby.co.uk/event/safeguarding-call-2/
LOCATION:Zoom
END:VEVENT
BEGIN:VEVENT
DTSTART;TZID=UTC:20230926T190000
DTEND;TZID=UTC:20230926T190000
DTSTAMP:20260420T061629
CREATED:20230907T110953Z
LAST-MODIFIED:20230907T110953Z
UID:300570-1695754800-1695754800@dwrugby.co.uk
SUMMARY:Council
DESCRIPTION:
URL:https://dwrugby.co.uk/event/council-11/
LOCATION:In person – TBC
END:VEVENT
BEGIN:VEVENT
DTSTART;TZID=UTC:20230919T190000
DTEND;TZID=UTC:20230919T190000
DTSTAMP:20260420T061629
CREATED:20230907T110647Z
LAST-MODIFIED:20230907T110647Z
UID:300553-1695150000-1695150000@dwrugby.co.uk
SUMMARY:Safeguarding Call
DESCRIPTION:
URL:https://dwrugby.co.uk/event/safeguarding-call/
LOCATION:Zoom
END:VEVENT
BEGIN:VEVENT
DTSTART;TZID=UTC:20230918T190000
DTEND;TZID=UTC:20230918T190000
DTSTAMP:20260420T061629
CREATED:20230907T110758Z
LAST-MODIFIED:20230907T110758Z
UID:300562-1695063600-1695063600@dwrugby.co.uk
SUMMARY:Age Grade Call
DESCRIPTION:
URL:https://dwrugby.co.uk/event/age-grade-call/
LOCATION:Zoom
END:VEVENT
BEGIN:VEVENT
DTSTART;TZID=UTC:20230719T193000
DTEND;TZID=UTC:20230719T203000
DTSTAMP:20260420T061629
CREATED:20230711T084140Z
LAST-MODIFIED:20230711T084140Z
UID:134966-1689795000-1689798600@dwrugby.co.uk
SUMMARY:AGM 2022-23
DESCRIPTION:2022-2023 AGM First Calling notice2022-2023 AGM First Calling notice
URL:https://dwrugby.co.uk/event/agm-2022-23/
LOCATION:SalisburyRFC
END:VEVENT
BEGIN:VEVENT
DTSTART;TZID=UTC:20230711T193000
DTEND;TZID=UTC:20230711T210000
DTSTAMP:20260420T061629
CREATED:20230711T085859Z
LAST-MODIFIED:20230711T085909Z
UID:134970-1689103800-1689109200@dwrugby.co.uk
SUMMARY:Council meeting
DESCRIPTION:
URL:https://dwrugby.co.uk/event/council-meeting-7/
LOCATION:Zoom
END:VEVENT
BEGIN:VEVENT
DTSTART;TZID=UTC:20230109T193000
DTEND;TZID=UTC:20230109T203000
DTSTAMP:20260420T061629
CREATED:20221118T091543Z
LAST-MODIFIED:20221118T091543Z
UID:33889-1673292600-1673296200@dwrugby.co.uk
SUMMARY:West Dorset Huddle
DESCRIPTION:
URL:https://dwrugby.co.uk/event/west-dorset-huddle-10/
LOCATION:Zoom
END:VEVENT
BEGIN:VEVENT
DTSTART;VALUE=DATE:20230108
DTEND;VALUE=DATE:20230109
DTSTAMP:20260420T061629
CREATED:20220908T102534Z
LAST-MODIFIED:20220908T102534Z
UID:33491-1673136000-1673222399@dwrugby.co.uk
SUMMARY:South West Training
DESCRIPTION:
URL:https://dwrugby.co.uk/event/south-west-training/
LOCATION:TBC
END:VEVENT
BEGIN:VEVENT
DTSTART;VALUE=DATE:20221217
DTEND;VALUE=DATE:20221219
DTSTAMP:20260420T061629
CREATED:20220908T102452Z
LAST-MODIFIED:20220908T102452Z
UID:33489-1671235200-1671407999@dwrugby.co.uk
SUMMARY:Under 18's South West Trial Match
DESCRIPTION:
URL:https://dwrugby.co.uk/event/under-18s-south-west-trial-match/
LOCATION:Hartpury
END:VEVENT
BEGIN:VEVENT
DTSTART;TZID=UTC:20221214T180000
DTEND;TZID=UTC:20221214T200000
DTSTAMP:20260420T061629
CREATED:20220908T102308Z
LAST-MODIFIED:20220908T102308Z
UID:33487-1671040800-1671048000@dwrugby.co.uk
SUMMARY:Under 18's Training
DESCRIPTION:
URL:https://dwrugby.co.uk/event/under-18s-training-2/
LOCATION:North Dorset RFC Gillingham Dorset\, Longbury Hill Lane\, Gillingham\, SP8 5SY
END:VEVENT
BEGIN:VEVENT
DTSTART;TZID=UTC:20221204T150000
DTEND;TZID=UTC:20221204T170000
DTSTAMP:20260420T061629
CREATED:20220908T102215Z
LAST-MODIFIED:20220908T102215Z
UID:33484-1670166000-1670173200@dwrugby.co.uk
SUMMARY:Under 18's South West Trial
DESCRIPTION:Against Cornwall
URL:https://dwrugby.co.uk/event/under-18s-south-west-trial/
LOCATION:Hartpury
END:VEVENT
BEGIN:VEVENT
DTSTART;TZID=UTC:20221130T180000
DTEND;TZID=UTC:20221130T200000
DTSTAMP:20260420T061629
CREATED:20220908T102027Z
LAST-MODIFIED:20220908T102027Z
UID:33482-1669831200-1669838400@dwrugby.co.uk
SUMMARY:Under 18's Training
DESCRIPTION:
URL:https://dwrugby.co.uk/event/under-18s-training/
LOCATION:North Dorset RFC Gillingham Dorset\, Longbury Hill Lane\, Gillingham\, SP8 5SY
END:VEVENT
BEGIN:VEVENT
DTSTART;VALUE=DATE:20221106
DTEND;VALUE=DATE:20221107
DTSTAMP:20260420T061629
CREATED:20220908T101918Z
LAST-MODIFIED:20220908T101918Z
UID:33479-1667692800-1667779199@dwrugby.co.uk
SUMMARY:Under 18's
DESCRIPTION:Three way match against Cornwall and Gloucestershire
URL:https://dwrugby.co.uk/event/under-18s/
LOCATION:Locklease Sports Centre BX7 9XF
END:VEVENT
BEGIN:VEVENT
DTSTART;VALUE=DATE:20221030
DTEND;VALUE=DATE:20221031
DTSTAMP:20260420T061629
CREATED:20220908T101704Z
LAST-MODIFIED:20220908T101704Z
UID:33476-1667088000-1667174399@dwrugby.co.uk
SUMMARY:Under 18's Development Day
DESCRIPTION:
URL:https://dwrugby.co.uk/event/under-18s-development-day/
LOCATION:Canford School
END:VEVENT
BEGIN:VEVENT
DTSTART;TZID=UTC:20220926T193000
DTEND;TZID=UTC:20220926T203000
DTSTAMP:20260420T061629
CREATED:20220908T102722Z
LAST-MODIFIED:20220912T091404Z
UID:33493-1664220600-1664224200@dwrugby.co.uk
SUMMARY:South Wiltshire Huddle
DESCRIPTION:
URL:https://dwrugby.co.uk/event/south-wiltshire-huddle-6/
LOCATION:Pewsey Vale RFC
END:VEVENT
BEGIN:VEVENT
DTSTART;TZID=UTC:20220921T193000
DTEND;TZID=UTC:20220921T200000
DTSTAMP:20260420T061629
CREATED:20220908T101509Z
LAST-MODIFIED:20220908T101509Z
UID:33474-1663788600-1663790400@dwrugby.co.uk
SUMMARY:D&W RFU AGM
DESCRIPTION:
URL:https://dwrugby.co.uk/event/dw-rfu-agm/
LOCATION:Salisbury RFC\, Castle Road\, Salisbury\, SP1 3SA
END:VEVENT
BEGIN:VEVENT
DTSTART;TZID=UTC:20220920T193000
DTEND;TZID=UTC:20220920T203000
DTSTAMP:20260420T061629
CREATED:20220908T101406Z
LAST-MODIFIED:20220912T091445Z
UID:33472-1663702200-1663705800@dwrugby.co.uk
SUMMARY:Rugby Safe Meeting
DESCRIPTION:
URL:https://dwrugby.co.uk/event/rugby-safe-meeting/
LOCATION:Zoom
END:VEVENT
END:VCALENDAR