BEGIN:VCALENDAR
VERSION:2.0
PRODID:-//Dorset Wiltshire Rugby Football Union - ECPv6.15.20//NONSGML v1.0//EN
CALSCALE:GREGORIAN
METHOD:PUBLISH
X-WR-CALNAME:Dorset Wiltshire Rugby Football Union
X-ORIGINAL-URL:https://dwrugby.co.uk
X-WR-CALDESC:Events for Dorset Wiltshire Rugby Football Union
REFRESH-INTERVAL;VALUE=DURATION:PT1H
X-Robots-Tag:noindex
X-PUBLISHED-TTL:PT1H
BEGIN:VTIMEZONE
TZID:UTC
BEGIN:STANDARD
TZOFFSETFROM:+0000
TZOFFSETTO:+0000
TZNAME:UTC
DTSTART:20170101T000000
END:STANDARD
END:VTIMEZONE
BEGIN:VEVENT
DTSTART;TZID=UTC:20190223T140000
DTEND;TZID=UTC:20190223T170000
DTSTAMP:20260422T215116
CREATED:20180614T081604Z
LAST-MODIFIED:20190102T152215Z
UID:11979-1550930400-1550941200@dwrugby.co.uk
SUMMARY:D&WRFU 3rd XV Senior Cup Final
DESCRIPTION:
URL:https://dwrugby.co.uk/event/3rd-xv-senior-cup-final/
END:VEVENT
BEGIN:VEVENT
DTSTART;TZID=UTC:20190223T080000
DTEND;TZID=UTC:20190223T170000
DTSTAMP:20260422T215116
CREATED:20190102T093939Z
LAST-MODIFIED:20190102T093939Z
UID:13341-1550908800-1550941200@dwrugby.co.uk
SUMMARY:D&WRFU 2nd XV SHIELD - FINAL
DESCRIPTION:
URL:https://dwrugby.co.uk/event/dwrfu-2nd-xv-shield-final/
LOCATION:TBC
END:VEVENT
BEGIN:VEVENT
DTSTART;TZID=UTC:20190217T103000
DTEND;TZID=UTC:20190217T153000
DTSTAMP:20260422T215116
CREATED:20190215T232951Z
LAST-MODIFIED:20190215T233117Z
UID:13778-1550399400-1550417400@dwrugby.co.uk
SUMMARY:D&W U18 & U15 Girls Training Session
DESCRIPTION:Changed Venue - now North Dorset RFC \nRegistration will be at 11:30 - 12:00 in the Phoenix Room and the session is due to end at 15:30.
URL:https://dwrugby.co.uk/event/girls-training-session/
LOCATION:North Dorset RFC Gillingham Dorset\, Longbury Hill Lane\, Gillingham\, SP8 5SY
END:VEVENT
BEGIN:VEVENT
DTSTART;TZID=UTC:20190210T103000
DTEND;TZID=UTC:20190210T150000
DTSTAMP:20260422T215116
CREATED:20190204T153707Z
LAST-MODIFIED:20190204T153707Z
UID:13744-1549794600-1549810800@dwrugby.co.uk
SUMMARY:U15 & U18 Girls Trials
DESCRIPTION: Sunday 10th February\n\n@ Warminster RFC [ Folly Ln\, Warminster BA12 7RG ]\n\n10:30 - Registration
URL:https://dwrugby.co.uk/event/u15-u18-girls-trials/
LOCATION:Warminster RFC\, Folly Lane\, Warminster\, BA12 7RG
END:VEVENT
BEGIN:VEVENT
DTSTART;TZID=UTC:20190205T190000
DTEND;TZID=UTC:20190205T213000
DTSTAMP:20260422T215116
CREATED:20180608T102210Z
LAST-MODIFIED:20180608T102210Z
UID:11894-1549393200-1549402200@dwrugby.co.uk
SUMMARY:D&WRFU Council
DESCRIPTION:
URL:https://dwrugby.co.uk/event/dwrfu-council-5/
LOCATION:Salisbury and South Wilts Sports Club\, Wilton Rd\, Salisbury \, SP2 9NY\, United Kingdom
END:VEVENT
BEGIN:VEVENT
DTSTART;TZID=UTC:20190203T140000
DTEND;TZID=UTC:20190203T170000
DTSTAMP:20260422T215116
CREATED:20181101T160503Z
LAST-MODIFIED:20181101T160503Z
UID:12742-1549202400-1549213200@dwrugby.co.uk
SUMMARY:D&W vs Somerset U16's
DESCRIPTION:
URL:https://dwrugby.co.uk/event/dw-vs-somerset-u16s/
LOCATION:Melksham RFC
END:VEVENT
BEGIN:VEVENT
DTSTART;TZID=UTC:20190202T140000
DTEND;TZID=UTC:20190202T170000
DTSTAMP:20260422T215116
CREATED:20190102T094117Z
LAST-MODIFIED:20190102T094117Z
UID:13343-1549116000-1549126800@dwrugby.co.uk
SUMMARY:D&WRFU 3rd XV CUP - SEMI FINALS
DESCRIPTION:WIMBORNE 3  V  BOURNEMOUTH 3 \nSALISBURY 3  V  TROWBRIDGE 3
URL:https://dwrugby.co.uk/event/dwrfu-3rd-xv-cup-semi-finals/
END:VEVENT
BEGIN:VEVENT
DTSTART;TZID=UTC:20190202T140000
DTEND;TZID=UTC:20190202T170000
DTSTAMP:20260422T215116
CREATED:20190102T093826Z
LAST-MODIFIED:20190102T151815Z
UID:13339-1549116000-1549126800@dwrugby.co.uk
SUMMARY:D&WRFU 2nd XV SHIELD - SEMI FINAL
DESCRIPTION:MELKSHAM 2  V   CORSHAM 2 
URL:https://dwrugby.co.uk/event/dwrfu-2nd-xv-shield-semi-final/
LOCATION:Melksham RFC
END:VEVENT
BEGIN:VEVENT
DTSTART;TZID=UTC:20190202T140000
DTEND;TZID=UTC:20190202T170000
DTSTAMP:20260422T215116
CREATED:20190102T093557Z
LAST-MODIFIED:20190102T094528Z
UID:13337-1549116000-1549126800@dwrugby.co.uk
SUMMARY:D&WRFU 2nd XV CUP FINAL
DESCRIPTION:Bournemouth  v  Trowbridge
URL:https://dwrugby.co.uk/event/dwrfu-2nd-xv-cup/
LOCATION:TBC
END:VEVENT
BEGIN:VEVENT
DTSTART;TZID=UTC:20190127T140000
DTEND;TZID=UTC:20190127T170000
DTSTAMP:20260422T215116
CREATED:20181101T165157Z
LAST-MODIFIED:20181101T165157Z
UID:12771-1548597600-1548608400@dwrugby.co.uk
SUMMARY:D&W vs Hampshire U20's
DESCRIPTION:
URL:https://dwrugby.co.uk/event/dw-vs-hampshire-u20s/
LOCATION:Salisbury RFC\, Castle Road\, Salisbury\, SP1 3SA
END:VEVENT
BEGIN:VEVENT
DTSTART;TZID=UTC:20190122T190000
DTEND;TZID=UTC:20190122T213000
DTSTAMP:20260422T215116
CREATED:20180608T102843Z
LAST-MODIFIED:20180608T102857Z
UID:11906-1548183600-1548192600@dwrugby.co.uk
SUMMARY:D&WRFU Management Board
DESCRIPTION:
URL:https://dwrugby.co.uk/event/dwrfu-management-board-6/
LOCATION:Salisbury and South Wilts Sports Club\, Wilton Rd\, Salisbury \, SP2 9NY\, United Kingdom
END:VEVENT
BEGIN:VEVENT
DTSTART;TZID=UTC:20190120T140000
DTEND;TZID=UTC:20190120T170000
DTSTAMP:20260422T215116
CREATED:20181101T160044Z
LAST-MODIFIED:20181101T160200Z
UID:12736-1547992800-1548003600@dwrugby.co.uk
SUMMARY:D&W vs Cornwall U16's
DESCRIPTION:
URL:https://dwrugby.co.uk/event/dw-vs-berkshire-u16s/
END:VEVENT
BEGIN:VEVENT
DTSTART;TZID=UTC:20190113T140000
DTEND;TZID=UTC:20190113T170000
DTSTAMP:20260422T215116
CREATED:20181101T162158Z
LAST-MODIFIED:20181101T162158Z
UID:12755-1547388000-1547398800@dwrugby.co.uk
SUMMARY:D&W vs Gloucestershire U17's
DESCRIPTION:
URL:https://dwrugby.co.uk/event/dw-vs-gloucestershire-u17s/
LOCATION:TBC
END:VEVENT
BEGIN:VEVENT
DTSTART;TZID=UTC:20190106T140000
DTEND;TZID=UTC:20190106T170000
DTSTAMP:20260422T215116
CREATED:20181101T160328Z
LAST-MODIFIED:20181101T160328Z
UID:12740-1546783200-1546794000@dwrugby.co.uk
SUMMARY:D&W vs  Berkshire U16's
DESCRIPTION:
URL:https://dwrugby.co.uk/event/dw-vs-berkshire-u16s-2/
LOCATION:Trowbridge RFC
END:VEVENT
BEGIN:VEVENT
DTSTART;TZID=UTC:20181208T140000
DTEND;TZID=UTC:20181208T170000
DTSTAMP:20260422T215116
CREATED:20181205T101958Z
LAST-MODIFIED:20181205T101958Z
UID:12924-1544277600-1544288400@dwrugby.co.uk
SUMMARY:D&WRFU Senior 1st XV Cup Final 
DESCRIPTION:
URL:https://dwrugby.co.uk/event/dwrfu-senior-1st-xv-cup-final/
LOCATION:Sherborne RFC
END:VEVENT
BEGIN:VEVENT
DTSTART;TZID=UTC:20181204T190000
DTEND;TZID=UTC:20181204T213000
DTSTAMP:20260422T215116
CREATED:20180608T102744Z
LAST-MODIFIED:20180608T102744Z
UID:11904-1543950000-1543959000@dwrugby.co.uk
SUMMARY:D&WRFU Management Board
DESCRIPTION:
URL:https://dwrugby.co.uk/event/dwrfu-management-board-5/
LOCATION:Salisbury and South Wilts Sports Club\, Wilton Rd\, Salisbury \, SP2 9NY\, United Kingdom
END:VEVENT
BEGIN:VEVENT
DTSTART;TZID=UTC:20181203T190000
DTEND;TZID=UTC:20181203T203000
DTSTAMP:20260422T215116
CREATED:20181106T124810Z
LAST-MODIFIED:20181106T124810Z
UID:12798-1543863600-1543869000@dwrugby.co.uk
SUMMARY:Under 16's Training Evening.
DESCRIPTION:For more details pleasse contact Richard Bourne on dwu16rugby@gmail.com
URL:https://dwrugby.co.uk/event/16s-training-evening/
LOCATION:Sherborne School
END:VEVENT
BEGIN:VEVENT
DTSTART;TZID=UTC:20181202T123000
DTEND;TZID=UTC:20181202T150000
DTSTAMP:20260422T215116
CREATED:20181102T194348Z
LAST-MODIFIED:20181102T194348Z
UID:12779-1543753800-1543762800@dwrugby.co.uk
SUMMARY:GIRLS SUPER CLUSTER TRAIN & PLAY EVENT
DESCRIPTION:
URL:https://dwrugby.co.uk/event/girls-super-cluster-train-play-event/
LOCATION:Warminster RFC\, Folly Lane\, Warminster\, BA12 7RG
END:VEVENT
BEGIN:VEVENT
DTSTART;TZID=UTC:20181201T140000
DTEND;TZID=UTC:20181201T170000
DTSTAMP:20260422T215116
CREATED:20180614T080721Z
LAST-MODIFIED:20180614T080721Z
UID:11959-1543672800-1543683600@dwrugby.co.uk
SUMMARY:1st XV Senior Plate Final
DESCRIPTION:
URL:https://dwrugby.co.uk/event/1st-xv-senior-plate-final/
END:VEVENT
BEGIN:VEVENT
DTSTART;TZID=UTC:20181124T140000
DTEND;TZID=UTC:20181124T170000
DTSTAMP:20260422T215116
CREATED:20180614T080404Z
LAST-MODIFIED:20180614T080404Z
UID:11953-1543068000-1543078800@dwrugby.co.uk
SUMMARY:1st XV Senior Vase Final
DESCRIPTION:
URL:https://dwrugby.co.uk/event/1st-xv-senior-vase-final/
END:VEVENT
BEGIN:VEVENT
DTSTART;TZID=UTC:20181124T140000
DTEND;TZID=UTC:20181124T170000
DTSTAMP:20260422T215116
CREATED:20180614T080030Z
LAST-MODIFIED:20180614T080030Z
UID:11945-1543068000-1543078800@dwrugby.co.uk
SUMMARY:1st XV Senior Cup Final
DESCRIPTION:
URL:https://dwrugby.co.uk/event/1st-xv-senior-cup-final/
END:VEVENT
BEGIN:VEVENT
DTSTART;VALUE=DATE:20181124
DTEND;VALUE=DATE:20181125
DTSTAMP:20260422T215116
CREATED:20170914T202039Z
LAST-MODIFIED:20170914T202039Z
UID:9339-1543017600-1543103999@dwrugby.co.uk
SUMMARY:2018 Old Mutual Wealth fixture
DESCRIPTION:England vs Australia
URL:https://dwrugby.co.uk/event/2018-old-mutual-wealth-fixture-4/
LOCATION:Twickenham
END:VEVENT
BEGIN:VEVENT
DTSTART;TZID=UTC:20181118T123000
DTEND;TZID=UTC:20181118T150000
DTSTAMP:20260422T215116
CREATED:20181102T194527Z
LAST-MODIFIED:20181102T194527Z
UID:12781-1542544200-1542553200@dwrugby.co.uk
SUMMARY:DORSET GIRLS CLUSTER TRAIN & PLAY EVENT
DESCRIPTION:
URL:https://dwrugby.co.uk/event/dorset-girls-cluster-train-play-event/
LOCATION:Dorchester RFC
END:VEVENT
BEGIN:VEVENT
DTSTART;TZID=UTC:20181118T100000
DTEND;TZID=UTC:20181118T150000
DTSTAMP:20260422T215116
CREATED:20181102T194706Z
LAST-MODIFIED:20181102T194706Z
UID:12783-1542535200-1542553200@dwrugby.co.uk
SUMMARY:WILTSHIRE GIRLS CLUSTER TRAIN & PLAY EVENT
DESCRIPTION:
URL:https://dwrugby.co.uk/event/wiltshire-girls-cluster-train-play-event/
LOCATION:Warminster RFC\, Folly Lane\, Warminster\, BA12 7RG
END:VEVENT
BEGIN:VEVENT
DTSTART;VALUE=DATE:20181117
DTEND;VALUE=DATE:20181118
DTSTAMP:20260422T215116
CREATED:20170914T201920Z
LAST-MODIFIED:20170914T201920Z
UID:9337-1542412800-1542499199@dwrugby.co.uk
SUMMARY:2018 Old Mutual Wealth fixture
DESCRIPTION:England vs Japan
URL:https://dwrugby.co.uk/event/2018-old-mutual-wealth-fixture-3/
LOCATION:Twickenham
END:VEVENT
BEGIN:VEVENT
DTSTART;TZID=UTC:20181110T140000
DTEND;TZID=UTC:20181110T170000
DTSTAMP:20260422T215116
CREATED:20180614T080321Z
LAST-MODIFIED:20181107T094045Z
UID:11951-1541858400-1541869200@dwrugby.co.uk
SUMMARY:1st XV Senior Vase Semi Final
DESCRIPTION:Puddletown vs Dorset Dockers AWO
URL:https://dwrugby.co.uk/event/1st-xv-senior-vase-semi-final/
END:VEVENT
BEGIN:VEVENT
DTSTART;VALUE=DATE:20181110
DTEND;VALUE=DATE:20181111
DTSTAMP:20260422T215116
CREATED:20170914T201429Z
LAST-MODIFIED:20170914T201429Z
UID:9333-1541808000-1541894399@dwrugby.co.uk
SUMMARY:2018 Old Mutual Wealth fixture
DESCRIPTION:England vs New Zealand
URL:https://dwrugby.co.uk/event/2018-old-mutual-wealth-fixture-2/
LOCATION:Twickenham
END:VEVENT
BEGIN:VEVENT
DTSTART;TZID=UTC:20181104T140000
DTEND;TZID=UTC:20181104T170000
DTSTAMP:20260422T215116
CREATED:20181101T154055Z
LAST-MODIFIED:20181101T155026Z
UID:12734-1541340000-1541350800@dwrugby.co.uk
SUMMARY:D&W v Royal Air force U23s
DESCRIPTION:
URL:https://dwrugby.co.uk/event/dw-v-royal-air-force-u23s/
LOCATION:Trowbridge RFC
END:VEVENT
BEGIN:VEVENT
DTSTART;TZID=UTC:20181104T140000
DTEND;TZID=UTC:20181104T170000
DTSTAMP:20260422T215116
CREATED:20181101T152648Z
LAST-MODIFIED:20181101T153802Z
UID:12722-1541340000-1541350800@dwrugby.co.uk
SUMMARY:Berkshire U18's v D&W
DESCRIPTION:
URL:https://dwrugby.co.uk/event/12722/
LOCATION:Maidenhead RFC
END:VEVENT
BEGIN:VEVENT
DTSTART;VALUE=DATE:20181103
DTEND;VALUE=DATE:20181104
DTSTAMP:20260422T215116
CREATED:20170914T201115Z
LAST-MODIFIED:20170914T201802Z
UID:9330-1541203200-1541289599@dwrugby.co.uk
SUMMARY:2018 Old Mutual Wealth fixture
DESCRIPTION:England vs South Africa
URL:https://dwrugby.co.uk/event/2018-old-mutual-wealth-fixture/
LOCATION:Twickenham
END:VEVENT
END:VCALENDAR