BEGIN:VCALENDAR
VERSION:2.0
PRODID:-//Dorset Wiltshire Rugby Football Union - ECPv6.15.20//NONSGML v1.0//EN
CALSCALE:GREGORIAN
METHOD:PUBLISH
X-WR-CALNAME:Dorset Wiltshire Rugby Football Union
X-ORIGINAL-URL:https://dwrugby.co.uk
X-WR-CALDESC:Events for Dorset Wiltshire Rugby Football Union
REFRESH-INTERVAL;VALUE=DURATION:PT1H
X-Robots-Tag:noindex
X-PUBLISHED-TTL:PT1H
BEGIN:VTIMEZONE
TZID:UTC
BEGIN:STANDARD
TZOFFSETFROM:+0000
TZOFFSETTO:+0000
TZNAME:UTC
DTSTART:20170101T000000
END:STANDARD
END:VTIMEZONE
BEGIN:VTIMEZONE
TZID:Europe/Paris
BEGIN:DAYLIGHT
TZOFFSETFROM:+0100
TZOFFSETTO:+0200
TZNAME:CEST
DTSTART:20170326T010000
END:DAYLIGHT
BEGIN:STANDARD
TZOFFSETFROM:+0200
TZOFFSETTO:+0100
TZNAME:CET
DTSTART:20171029T010000
END:STANDARD
BEGIN:DAYLIGHT
TZOFFSETFROM:+0100
TZOFFSETTO:+0200
TZNAME:CEST
DTSTART:20180325T010000
END:DAYLIGHT
BEGIN:STANDARD
TZOFFSETFROM:+0200
TZOFFSETTO:+0100
TZNAME:CET
DTSTART:20181028T010000
END:STANDARD
BEGIN:DAYLIGHT
TZOFFSETFROM:+0100
TZOFFSETTO:+0200
TZNAME:CEST
DTSTART:20190331T010000
END:DAYLIGHT
BEGIN:STANDARD
TZOFFSETFROM:+0200
TZOFFSETTO:+0100
TZNAME:CET
DTSTART:20191027T010000
END:STANDARD
END:VTIMEZONE
BEGIN:VEVENT
DTSTART;TZID=UTC:20180612T190000
DTEND;TZID=UTC:20180612T213000
DTSTAMP:20260422T214926
CREATED:20170827T201803Z
LAST-MODIFIED:20170827T202330Z
UID:8765-1528830000-1528839000@dwrugby.co.uk
SUMMARY:D&WRFU Management Board
DESCRIPTION:
URL:https://dwrugby.co.uk/event/management-board-5/
LOCATION:Salisbury and South Wilts Sports Club\, Wilton Rd\, Salisbury \, SP2 9NY\, United Kingdom
END:VEVENT
BEGIN:VEVENT
DTSTART;TZID=UTC:20180527T120000
DTEND;TZID=UTC:20180527T133000
DTSTAMP:20260422T214926
CREATED:20170827T193617Z
LAST-MODIFIED:20180523T122110Z
UID:8724-1527422400-1527427800@dwrugby.co.uk
SUMMARY:Bill Beaumont Div 3 - Senior Mens XV
DESCRIPTION:Final
URL:https://dwrugby.co.uk/event/bill-beaumont-div-3-senior-mens-xv/
LOCATION:Richmond RFC
END:VEVENT
BEGIN:VEVENT
DTSTART;TZID=UTC:20180527T100000
DTEND;TZID=UTC:20180527T113000
DTSTAMP:20260422T214926
CREATED:20170827T201215Z
LAST-MODIFIED:20180523T122215Z
UID:8757-1527415200-1527420600@dwrugby.co.uk
SUMMARY:GILL BURNS – SENIOR WOMANS XV
DESCRIPTION:Final
URL:https://dwrugby.co.uk/event/gill-burns-senior-womans-xv-2/
LOCATION:Richmond RFC
END:VEVENT
BEGIN:VEVENT
DTSTART;TZID=UTC:20180523T190000
DTEND;TZID=UTC:20180523T213000
DTSTAMP:20260422T214926
CREATED:20180110T113452Z
LAST-MODIFIED:20180110T195353Z
UID:10670-1527102000-1527111000@dwrugby.co.uk
SUMMARY:FINANCIAL COMMITTEE MEETING
DESCRIPTION:
URL:https://dwrugby.co.uk/event/financial-committe-meeting-4/
LOCATION:North Dorset RFC Gillingham Dorset\, Longbury Hill Lane\, Gillingham\, SP8 5SY
END:VEVENT
BEGIN:VEVENT
DTSTART;TZID=UTC:20180523T190000
DTEND;TZID=UTC:20180523T210000
DTSTAMP:20260422T214926
CREATED:20180208T150147Z
LAST-MODIFIED:20180208T150147Z
UID:10870-1527102000-1527109200@dwrugby.co.uk
SUMMARY:D&WRFU Senior Womans
DESCRIPTION:Training
URL:https://dwrugby.co.uk/event/dwrfu-senior-womans-6/
LOCATION:Warminster RFC\, Folly Lane\, Warminster\, BA12 7RG
END:VEVENT
BEGIN:VEVENT
DTSTART;VALUE=DATE:20180520
DTEND;VALUE=DATE:20180521
DTSTAMP:20260422T214926
CREATED:20170827T201106Z
LAST-MODIFIED:20170827T201106Z
UID:8755-1526774400-1526860799@dwrugby.co.uk
SUMMARY:GILL BURNS – SENIOR WOMANS XV
DESCRIPTION:Semi-final
URL:https://dwrugby.co.uk/event/gill-burns-senior-womans-xv/
LOCATION:TBC
END:VEVENT
BEGIN:VEVENT
DTSTART;TZID=UTC:20180519T150000
DTEND;TZID=UTC:20180519T170000
DTSTAMP:20260422T214926
CREATED:20170827T193444Z
LAST-MODIFIED:20180507T160021Z
UID:8722-1526742000-1526749200@dwrugby.co.uk
SUMMARY:Bill Beaumont Div 3 - Senior Mens XV (Pool 2)
DESCRIPTION:Berkshire RFU vs Dorset & Wilts RFU
URL:https://dwrugby.co.uk/event/bill-beaumont-div-3-senior-mens-xv-pool-2-2/
LOCATION:Reading RFC\, Holme Park Sonning La\, Reading\, Berkshire\, RG4 6ST\, United Kingdom
END:VEVENT
BEGIN:VEVENT
DTSTART;TZID=UTC:20180516T190000
DTEND;TZID=UTC:20180516T210000
DTSTAMP:20260422T214926
CREATED:20180208T145941Z
LAST-MODIFIED:20180208T145941Z
UID:10868-1526497200-1526504400@dwrugby.co.uk
SUMMARY:D&WRFU Senior Womans
DESCRIPTION:Training
URL:https://dwrugby.co.uk/event/dwrfu-senior-womans-7/
LOCATION:Warminster RFC\, Folly Lane\, Warminster\, BA12 7RG
END:VEVENT
BEGIN:VEVENT
DTSTART;TZID=UTC:20180512T013000
DTEND;TZID=UTC:20180512T040000
DTSTAMP:20260422T214927
CREATED:20170827T200418Z
LAST-MODIFIED:20180507T155644Z
UID:8751-1526088600-1526097600@dwrugby.co.uk
SUMMARY:D&WRFU Senior Womans
DESCRIPTION:Somerset RFU vs Dorset & Wilts RFU
URL:https://dwrugby.co.uk/event/gill-burns-senior-womens-xv-div-2-pool-3/
LOCATION:Taunton RFC\, Commsplus Stadium\, Hyde Ln Taunton\, Somerset\, TA2 8BU\, United Kingdom
END:VEVENT
BEGIN:VEVENT
DTSTART;TZID=UTC:20180509T190000
DTEND;TZID=UTC:20180509T210000
DTSTAMP:20260422T214927
CREATED:20180208T145332Z
LAST-MODIFIED:20180208T145425Z
UID:10861-1525892400-1525899600@dwrugby.co.uk
SUMMARY:D&WRFU Senior Womans
DESCRIPTION:Training
URL:https://dwrugby.co.uk/event/dwrfu-senior-womans-5/
END:VEVENT
BEGIN:VEVENT
DTSTART;TZID=UTC:20180506T133000
DTEND;TZID=UTC:20180506T170000
DTSTAMP:20260422T214927
CREATED:20170827T200207Z
LAST-MODIFIED:20180503T105651Z
UID:8749-1525613400-1525626000@dwrugby.co.uk
SUMMARY:D&WRFU Senior Womans
DESCRIPTION:Dorset & Wilts RFU vs Hertfordshire RFU
URL:https://dwrugby.co.uk/event/gill-burns-senior-womans-xv-div-2-pool-3-2/
LOCATION:Warminster RFC\, Folly Lane\, Warminster\, BA12 7RG
END:VEVENT
BEGIN:VEVENT
DTSTART;VALUE=DATE:20180505
DTEND;VALUE=DATE:20180506
DTSTAMP:20260422T214927
CREATED:20170827T193310Z
LAST-MODIFIED:20180501T132701Z
UID:8720-1525478400-1525564799@dwrugby.co.uk
SUMMARY:Bill Beaumont Div 3 - Senior Mens XV (Pool 2)
DESCRIPTION:Dorset & Wilts RFU vs Sussex RFU
URL:https://dwrugby.co.uk/event/bill-beaumont-div-3-senior-mens-xv-pool-2/
LOCATION:Melksham RFC
END:VEVENT
BEGIN:VEVENT
DTSTART;TZID=UTC:20180502T190000
DTEND;TZID=UTC:20180502T210000
DTSTAMP:20260422T214927
CREATED:20180208T145036Z
LAST-MODIFIED:20180208T145156Z
UID:10858-1525287600-1525294800@dwrugby.co.uk
SUMMARY:D&WRFU Senior Womans
DESCRIPTION:Training
URL:https://dwrugby.co.uk/event/dwrfu-senior-womans-4/
LOCATION:Warminster RFC\, Folly Lane\, Warminster\, BA12 7RG
END:VEVENT
BEGIN:VEVENT
DTSTART;TZID=UTC:20180429T140000
DTEND;TZID=UTC:20180429T170000
DTSTAMP:20260422T214927
CREATED:20170827T200024Z
LAST-MODIFIED:20180426T105342Z
UID:8747-1525010400-1525021200@dwrugby.co.uk
SUMMARY:Senior Womans
DESCRIPTION:Dorset & Wilts RFU vs Cornwall RFU
URL:https://dwrugby.co.uk/event/gill-burns-senior-womans-xv-div-2-pool-3/
LOCATION:Warminster RFC\, Folly Lane\, Warminster\, BA12 7RG
END:VEVENT
BEGIN:VEVENT
DTSTART;VALUE=DATE:20180429
DTEND;VALUE=DATE:20180430
DTSTAMP:20260422T214927
CREATED:20170717T190902Z
LAST-MODIFIED:20170717T190902Z
UID:8411-1524960000-1525046399@dwrugby.co.uk
SUMMARY:Under 11’s and Under 12’s  Premiership Land Rover Cup Festival
DESCRIPTION:
URL:https://dwrugby.co.uk/event/11s-12s-premiership-land-rover-cup-festival/
LOCATION:Trowbridge RFC
END:VEVENT
BEGIN:VEVENT
DTSTART;TZID=UTC:20180425T190000
DTEND;TZID=UTC:20180425T210000
DTSTAMP:20260422T214927
CREATED:20180208T144806Z
LAST-MODIFIED:20180208T144806Z
UID:10855-1524682800-1524690000@dwrugby.co.uk
SUMMARY:D&WRFU Senior Womans
DESCRIPTION:Training
URL:https://dwrugby.co.uk/event/dwrfu-senior-womans-3/
LOCATION:Warminster RFC\, Folly Lane\, Warminster\, BA12 7RG
END:VEVENT
BEGIN:VEVENT
DTSTART;TZID=UTC:20180424T190000
DTEND;TZID=UTC:20180424T213000
DTSTAMP:20260422T214927
CREATED:20170827T202120Z
LAST-MODIFIED:20170827T202120Z
UID:8771-1524596400-1524605400@dwrugby.co.uk
SUMMARY:D&WRFU Council
DESCRIPTION:
URL:https://dwrugby.co.uk/event/dwrfu-council-3/
LOCATION:Salisbury and South Wilts Sports Club\, Wilton Rd\, Salisbury \, SP2 9NY\, United Kingdom
END:VEVENT
BEGIN:VEVENT
DTSTART;TZID=Europe/Paris:20180417T190000
DTEND;TZID=Europe/Paris:20180417T213000
DTSTAMP:20260422T214927
CREATED:20180416T193235Z
LAST-MODIFIED:20180416T193235Z
UID:11288-1523991600-1524000600@dwrugby.co.uk
SUMMARY:Joint Youth Forum
DESCRIPTION:AGE GRADE RUGBY and HALF GAME PILOT Chris Sigsworth (RFU) and Ben Jones (University of Essex) \nSAFEGUARDING   Richard Smallbone (RFU) \nMINIS /MIDI           Julian Phelps \nGIRLS U13/U15      Rob Whitham \nJUNIOR/YOUTH COMPETITIONS 2018/19    Dave Wookey \nUPDATES:   YPDC / RFU Councillor / RFU Community Coach / Refereeing / GMS / DPP / County \nAOB
URL:https://dwrugby.co.uk/event/joint-youth-forum/
LOCATION:Salisbury RFC\, Castle Road\, Salisbury\, SP1 3SA
END:VEVENT
BEGIN:VEVENT
DTSTART;TZID=UTC:20180416T193000
DTEND;TZID=UTC:20180416T213000
DTSTAMP:20260422T214927
CREATED:20170615T145205Z
LAST-MODIFIED:20170615T145303Z
UID:8228-1523907000-1523914200@dwrugby.co.uk
SUMMARY:WILTSHIRE YOUTH FORUM
DESCRIPTION:
URL:https://dwrugby.co.uk/event/wiltshire-youth-forum/
LOCATION:Devizes RFC\, The Sports Club London Road\, Devizes\, SN10 2DL
END:VEVENT
BEGIN:VEVENT
DTSTART;TZID=UTC:20180416T190000
DTEND;TZID=UTC:20180416T213000
DTSTAMP:20260422T214927
CREATED:20180110T112815Z
LAST-MODIFIED:20180123T151417Z
UID:10668-1523905200-1523914200@dwrugby.co.uk
SUMMARY:FINANCIAL COMMITTEE MEETING
DESCRIPTION:
URL:https://dwrugby.co.uk/event/financial-committe-meeting-3/
END:VEVENT
BEGIN:VEVENT
DTSTART;TZID=UTC:20180415T090000
DTEND;TZID=UTC:20180415T140000
DTSTAMP:20260422T214927
CREATED:20180208T144557Z
LAST-MODIFIED:20180208T144655Z
UID:10853-1523782800-1523800800@dwrugby.co.uk
SUMMARY:D&WRFU Senior Womans
DESCRIPTION:Trials
URL:https://dwrugby.co.uk/event/dwrfu-senior-womans-2/
LOCATION:Warminster RFC\, Folly Lane\, Warminster\, BA12 7RG
END:VEVENT
BEGIN:VEVENT
DTSTART;TZID=UTC:20180415T080000
DTEND;TZID=UTC:20180415T170000
DTSTAMP:20260422T214927
CREATED:20180208T144117Z
LAST-MODIFIED:20180208T144117Z
UID:10848-1523779200-1523811600@dwrugby.co.uk
SUMMARY:D&WRFU Under 15's (M)
DESCRIPTION:Dorset & Wilts RFU vs Berkshire RFU
URL:https://dwrugby.co.uk/event/dwrfu-15s-m-2/
LOCATION:Trowbridge RFC
END:VEVENT
BEGIN:VEVENT
DTSTART;VALUE=DATE:20180415
DTEND;VALUE=DATE:20180416
DTSTAMP:20260422T214927
CREATED:20170827T192355Z
LAST-MODIFIED:20170827T192355Z
UID:8712-1523750400-1523836799@dwrugby.co.uk
SUMMARY:Jason Leonard Div 1 - Under 20's
DESCRIPTION:Semi-final
URL:https://dwrugby.co.uk/event/jason-leonard-div-1-20s/
LOCATION:TBC
END:VEVENT
BEGIN:VEVENT
DTSTART;TZID=UTC:20180401T080000
DTEND;TZID=UTC:20180401T170000
DTSTAMP:20260422T214927
CREATED:20170827T192205Z
LAST-MODIFIED:20170827T192512Z
UID:8710-1522569600-1522602000@dwrugby.co.uk
SUMMARY:Jason Leonard Div 1 - Under 20's (Pool 4)
DESCRIPTION:Quarter Final
URL:https://dwrugby.co.uk/event/jason-leonard-div-1-pool-4-4/
LOCATION:TBC
END:VEVENT
BEGIN:VEVENT
DTSTART;VALUE=DATE:20180325
DTEND;VALUE=DATE:20180326
DTSTAMP:20260422T214927
CREATED:20170827T164617Z
LAST-MODIFIED:20170827T165252Z
UID:8661-1521936000-1522022399@dwrugby.co.uk
SUMMARY:D&WRFU Under 15's (M)
DESCRIPTION:Dorset & Wilts RFU vs Somerset RFU
URL:https://dwrugby.co.uk/event/under-15s-m-2/
LOCATION:Trowbridge RFC
END:VEVENT
BEGIN:VEVENT
DTSTART;TZID=UTC:20180321T190000
DTEND;TZID=UTC:20180321T213000
DTSTAMP:20260422T214927
CREATED:20180110T112716Z
LAST-MODIFIED:20180110T195604Z
UID:10666-1521658800-1521667800@dwrugby.co.uk
SUMMARY:FINANCIAL COMMITTEE MEETING
DESCRIPTION:
URL:https://dwrugby.co.uk/event/financial-committe-meeting-2/
LOCATION:North Dorset RFC Gillingham Dorset\, Longbury Hill Lane\, Gillingham\, SP8 5SY
END:VEVENT
BEGIN:VEVENT
DTSTART;TZID=UTC:20180318T140000
DTEND;TZID=UTC:20180318T170000
DTSTAMP:20260422T214927
CREATED:20170827T191957Z
LAST-MODIFIED:20180208T143111Z
UID:8708-1521381600-1521392400@dwrugby.co.uk
SUMMARY:D&WRFU Under 20's
DESCRIPTION:Dorset & Wilts RFU vs Cornwall RFU
URL:https://dwrugby.co.uk/event/jason-leonard-div-1-pool-4-3/
LOCATION:Dorchester RFC
END:VEVENT
BEGIN:VEVENT
DTSTART;TZID=UTC:20180318T080000
DTEND;TZID=UTC:20180318T170000
DTSTAMP:20260422T214927
CREATED:20170827T171342Z
LAST-MODIFIED:20170827T171342Z
UID:8687-1521360000-1521392400@dwrugby.co.uk
SUMMARY:D&WRFU Under 17's (M)
DESCRIPTION:Dorset & Wilts RFU vs Somerset RFU & Cornwall RFU \n 
URL:https://dwrugby.co.uk/event/dwrfu-17s-m-2/
LOCATION:TBC
END:VEVENT
BEGIN:VEVENT
DTSTART;TZID=UTC:20180314T190000
DTEND;TZID=UTC:20180314T210000
DTSTAMP:20260422T214927
CREATED:20180123T090004Z
LAST-MODIFIED:20180123T090004Z
UID:10741-1521054000-1521061200@dwrugby.co.uk
SUMMARY:D&WRFU Senior XV vs The Infantry
DESCRIPTION:
URL:https://dwrugby.co.uk/event/dwrfu-senior-xv-vs-infantry/
LOCATION:Melksham RFC
END:VEVENT
BEGIN:VEVENT
DTSTART;TZID=UTC:20180313T190000
DTEND;TZID=UTC:20180313T213000
DTSTAMP:20260422T214927
CREATED:20170827T201715Z
LAST-MODIFIED:20170827T202355Z
UID:8763-1520967600-1520976600@dwrugby.co.uk
SUMMARY:D&WRFU Management Board
DESCRIPTION:
URL:https://dwrugby.co.uk/event/management-board-4/
LOCATION:Salisbury and South Wilts Sports Club\, Wilton Rd\, Salisbury \, SP2 9NY\, United Kingdom
END:VEVENT
END:VCALENDAR