BEGIN:VCALENDAR
VERSION:2.0
PRODID:-//Dorset Wiltshire Rugby Football Union - ECPv6.15.20//NONSGML v1.0//EN
CALSCALE:GREGORIAN
METHOD:PUBLISH
X-WR-CALNAME:Dorset Wiltshire Rugby Football Union
X-ORIGINAL-URL:https://dwrugby.co.uk
X-WR-CALDESC:Events for Dorset Wiltshire Rugby Football Union
REFRESH-INTERVAL;VALUE=DURATION:PT1H
X-Robots-Tag:noindex
X-PUBLISHED-TTL:PT1H
BEGIN:VTIMEZONE
TZID:UTC
BEGIN:STANDARD
TZOFFSETFROM:+0000
TZOFFSETTO:+0000
TZNAME:UTC
DTSTART:20160101T000000
END:STANDARD
END:VTIMEZONE
BEGIN:VEVENT
DTSTART;VALUE=DATE:20180310
DTEND;VALUE=DATE:20180311
DTSTAMP:20260423T031417
CREATED:20180208T143736Z
LAST-MODIFIED:20180208T143736Z
UID:10845-1520640000-1520726399@dwrugby.co.uk
SUMMARY:D&WRFU Under 15's (M)
DESCRIPTION:Millford vs Dorset & Wilts RFU
URL:https://dwrugby.co.uk/event/dwrfu-15s-m/
LOCATION:Millford School\, Street
END:VEVENT
BEGIN:VEVENT
DTSTART;VALUE=DATE:20180304
DTEND;VALUE=DATE:20180305
DTSTAMP:20260423T031417
CREATED:20180208T142244Z
LAST-MODIFIED:20180208T142415Z
UID:10840-1520121600-1520207999@dwrugby.co.uk
SUMMARY:D&WRFU Under 20's Training
DESCRIPTION:
URL:https://dwrugby.co.uk/event/dwrfu-20s-training/
LOCATION:Bryanston School\, Blandford Fourm\, DT11 0PX
END:VEVENT
BEGIN:VEVENT
DTSTART;TZID=UTC:20180225T090000
DTEND;TZID=UTC:20180225T140000
DTSTAMP:20260423T031417
CREATED:20180208T144418Z
LAST-MODIFIED:20180208T144418Z
UID:10850-1519549200-1519567200@dwrugby.co.uk
SUMMARY:D&WRFU Senior Womans
DESCRIPTION:Training
URL:https://dwrugby.co.uk/event/dwrfu-senior-womans/
LOCATION:Warminster RFC\, Folly Lane\, Warminster\, BA12 7RG
END:VEVENT
BEGIN:VEVENT
DTSTART;VALUE=DATE:20180225
DTEND;VALUE=DATE:20180226
DTSTAMP:20260423T031417
CREATED:20170827T191810Z
LAST-MODIFIED:20180208T142116Z
UID:8706-1519516800-1519603199@dwrugby.co.uk
SUMMARY:D&WRFU Under 20's
DESCRIPTION:Gloucestershire RFU vs Dorset & Wilts RFU
URL:https://dwrugby.co.uk/event/jason-leonard-div-1-pool-4-2/
LOCATION:TBC
END:VEVENT
BEGIN:VEVENT
DTSTART;VALUE=DATE:20180224
DTEND;VALUE=DATE:20180225
DTSTAMP:20260423T031417
CREATED:20170615T084802Z
LAST-MODIFIED:20170615T084802Z
UID:8212-1519430400-1519516799@dwrugby.co.uk
SUMMARY:D&WRFU SENIOR XV COMPETITIONS
DESCRIPTION:3rd XV Cup\nFINAL \nTBC
URL:https://dwrugby.co.uk/event/dwrfu-senior-xv-competitions-2/
END:VEVENT
BEGIN:VEVENT
DTSTART;TZID=UTC:20180221T190000
DTEND;TZID=UTC:20180221T213000
DTSTAMP:20260423T031417
CREATED:20180110T112507Z
LAST-MODIFIED:20180110T112507Z
UID:10663-1519239600-1519248600@dwrugby.co.uk
SUMMARY:Financial Committee Meeting
DESCRIPTION:
URL:https://dwrugby.co.uk/event/financial-committee-meeting/
LOCATION:North Dorset RFC Gillingham Dorset\, Longbury Hill Lane\, Gillingham\, SP8 5SY
END:VEVENT
BEGIN:VEVENT
DTSTART;VALUE=DATE:20180218
DTEND;VALUE=DATE:20180219
DTSTAMP:20260423T031417
CREATED:20170827T191643Z
LAST-MODIFIED:20180208T141718Z
UID:8704-1518912000-1518998399@dwrugby.co.uk
SUMMARY:D&WRFU Under 20's Training
DESCRIPTION:
URL:https://dwrugby.co.uk/event/jason-leonard-div-1-pool-4/
LOCATION:Bryanston School\, Blandford Fourm\, DT11 0PX
END:VEVENT
BEGIN:VEVENT
DTSTART;VALUE=DATE:20180218
DTEND;VALUE=DATE:20180219
DTSTAMP:20260423T031417
CREATED:20170827T171016Z
LAST-MODIFIED:20170827T171425Z
UID:8682-1518912000-1518998399@dwrugby.co.uk
SUMMARY:D&WRFU Under 17's (M)
DESCRIPTION:Dorset & Wilts RFU vs Cornwall RFU & Somerset RFU
URL:https://dwrugby.co.uk/event/dwrfu-17s-m/
LOCATION:Dorchester RFC
END:VEVENT
BEGIN:VEVENT
DTSTART;VALUE=DATE:20180218
DTEND;VALUE=DATE:20180219
DTSTAMP:20260423T031417
CREATED:20170827T170815Z
LAST-MODIFIED:20170827T170815Z
UID:8680-1518912000-1518998399@dwrugby.co.uk
SUMMARY:D&WRFU Under 16's (M)
DESCRIPTION:Dorset & Wilts RFU vs Devon RFU
URL:https://dwrugby.co.uk/event/dwrfu-16s-m/
LOCATION:Trowbridge RFC
END:VEVENT
BEGIN:VEVENT
DTSTART;TZID=UTC:20180211T143000
DTEND;TZID=UTC:20180211T170000
DTSTAMP:20260423T031417
CREATED:20180208T141411Z
LAST-MODIFIED:20180208T141411Z
UID:10833-1518359400-1518368400@dwrugby.co.uk
SUMMARY:D&WRFU Under 20's
DESCRIPTION:Jason Leonard Div 1 (Pool 4) \nHampshire vs Dorset & Wilts RFU
URL:https://dwrugby.co.uk/event/dwrfu-under-20s/
LOCATION:Overton RFC\, RG28 7QS
END:VEVENT
BEGIN:VEVENT
DTSTART;VALUE=DATE:20180204
DTEND;VALUE=DATE:20180205
DTSTAMP:20260423T031417
CREATED:20170827T170505Z
LAST-MODIFIED:20170827T192741Z
UID:8677-1517702400-1517788799@dwrugby.co.uk
SUMMARY:D&WRFU Under 16's (M)
DESCRIPTION:Dorset & Wilts RFU vs Somerset RFU
URL:https://dwrugby.co.uk/event/dwrfu-unser-16s-m/
LOCATION:Trowbridge RFC
END:VEVENT
BEGIN:VEVENT
DTSTART;TZID=UTC:20180130T190000
DTEND;TZID=UTC:20180130T213000
DTSTAMP:20260423T031417
CREATED:20180110T110908Z
LAST-MODIFIED:20180110T110908Z
UID:10648-1517338800-1517347800@dwrugby.co.uk
SUMMARY:Club Representative Meeting
DESCRIPTION:
URL:https://dwrugby.co.uk/event/club-representative-meeting/
LOCATION:Salisbury and South Wilts Sports Club\, Wilton Rd\, Salisbury \, SP2 9NY\, United Kingdom
END:VEVENT
BEGIN:VEVENT
DTSTART;TZID=UTC:20180128T140000
DTEND;TZID=UTC:20180128T170000
DTSTAMP:20260423T031417
CREATED:20180110T110654Z
LAST-MODIFIED:20180110T110654Z
UID:10645-1517148000-1517158800@dwrugby.co.uk
SUMMARY:Under 18's Cup Final
DESCRIPTION:Wimborne RFC Un18's vs Trowbridge RFC Un18's
URL:https://dwrugby.co.uk/event/18s-cup-final/
LOCATION:Blandford RFC
END:VEVENT
BEGIN:VEVENT
DTSTART;TZID=UTC:20180124T190000
DTEND;TZID=UTC:20180124T213000
DTSTAMP:20260423T031417
CREATED:20180110T111208Z
LAST-MODIFIED:20180110T112603Z
UID:10650-1516820400-1516829400@dwrugby.co.uk
SUMMARY:Financial Committee Meeting
DESCRIPTION:
URL:https://dwrugby.co.uk/event/financial-committe-meeting/
LOCATION:North Dorset RFC Gillingham Dorset\, Longbury Hill Lane\, Gillingham\, SP8 5SY
END:VEVENT
BEGIN:VEVENT
DTSTART;TZID=UTC:20180123T190000
DTEND;TZID=UTC:20180123T213000
DTSTAMP:20260423T031417
CREATED:20170827T202014Z
LAST-MODIFIED:20170827T202014Z
UID:8769-1516734000-1516743000@dwrugby.co.uk
SUMMARY:D&WRFU Council
DESCRIPTION:
URL:https://dwrugby.co.uk/event/dwrfu-council-2/
LOCATION:Salisbury and South Wilts Sports Club\, Wilton Rd\, Salisbury \, SP2 9NY\, United Kingdom
END:VEVENT
BEGIN:VEVENT
DTSTART;TZID=UTC:20180122T193000
DTEND;TZID=UTC:20180122T213000
DTSTAMP:20260423T031417
CREATED:20180110T111420Z
LAST-MODIFIED:20180110T111420Z
UID:10652-1516649400-1516656600@dwrugby.co.uk
SUMMARY:West Wilts Cluster Meeting
DESCRIPTION:
URL:https://dwrugby.co.uk/event/west-wilts-cluster-meeting/
LOCATION:Colerne RFC
END:VEVENT
BEGIN:VEVENT
DTSTART;VALUE=DATE:20180121
DTEND;VALUE=DATE:20180122
DTSTAMP:20260423T031417
CREATED:20170827T170321Z
LAST-MODIFIED:20170827T170620Z
UID:8673-1516492800-1516579199@dwrugby.co.uk
SUMMARY:D&WRFU Under 16's (M)
DESCRIPTION:Dorset & Wilts RFU vs Cornwall RFU
URL:https://dwrugby.co.uk/event/dwrfu-under-16s/
LOCATION:Trowbridge RFC
END:VEVENT
BEGIN:VEVENT
DTSTART;TZID=UTC:20180115T193000
DTEND;TZID=UTC:20180115T213000
DTSTAMP:20260423T031417
CREATED:20170615T145822Z
LAST-MODIFIED:20180110T105207Z
UID:8234-1516044600-1516051800@dwrugby.co.uk
SUMMARY:WILTSHIRE YOUTH FORUM
DESCRIPTION:
URL:https://dwrugby.co.uk/event/wiltshire-youth-forum-3/
LOCATION:Devizes RFC\, The Sports Club London Road\, Devizes\, SN10 2DL
END:VEVENT
BEGIN:VEVENT
DTSTART;TZID=UTC:20180114T140000
DTEND;TZID=UTC:20180114T170000
DTSTAMP:20260423T031417
CREATED:20180110T111959Z
LAST-MODIFIED:20180110T112112Z
UID:10659-1515938400-1515949200@dwrugby.co.uk
SUMMARY:Under 18's Final - Royal Wootton Bassett
DESCRIPTION:Royal Wooton Bassett Un18's vs North Dorset Un 18's
URL:https://dwrugby.co.uk/event/18s-cup-final-royal-wootton-bassett/
LOCATION:Royal Wootton Bassett RFC
END:VEVENT
BEGIN:VEVENT
DTSTART;TZID=UTC:20180114T140000
DTEND;TZID=UTC:20180114T170000
DTSTAMP:20260423T031417
CREATED:20180110T111619Z
LAST-MODIFIED:20180110T111804Z
UID:10655-1515938400-1515949200@dwrugby.co.uk
SUMMARY:Under 18's Final - Sherborne
DESCRIPTION:Sherborne RFC Un18's vs Chippenham RFC Un18's
URL:https://dwrugby.co.uk/event/under-18s-finals/
LOCATION:Sherborne RFC
END:VEVENT
BEGIN:VEVENT
DTSTART;VALUE=DATE:20180107
DTEND;VALUE=DATE:20180108
DTSTAMP:20260423T031417
CREATED:20170827T164935Z
LAST-MODIFIED:20170827T170226Z
UID:8664-1515283200-1515369599@dwrugby.co.uk
SUMMARY:D&WRFU Under 16's (M)
DESCRIPTION:Dorset & Wilts RFU vs Berkshire RFU
URL:https://dwrugby.co.uk/event/undewr-16s-m/
LOCATION:Maidenhead RFC
END:VEVENT
BEGIN:VEVENT
DTSTART;VALUE=DATE:20180106
DTEND;VALUE=DATE:20180107
DTSTAMP:20260423T031417
CREATED:20170615T084301Z
LAST-MODIFIED:20170615T084422Z
UID:8208-1515196800-1515283199@dwrugby.co.uk
SUMMARY:D&WRFU SENIOR XV COMPETITIONS
DESCRIPTION:2nd XV Cup\nFINAL \nTBC \n2nd XV Shield\nFINAL \nTBC \n3rd XV Cup\nSEMI-FINAL \nTBC
URL:https://dwrugby.co.uk/event/dwrfu-senior-competitons/
END:VEVENT
BEGIN:VEVENT
DTSTART;VALUE=DATE:20171217
DTEND;VALUE=DATE:20171218
DTSTAMP:20260423T031417
CREATED:20170827T190603Z
LAST-MODIFIED:20170827T190626Z
UID:8694-1513468800-1513555199@dwrugby.co.uk
SUMMARY:D&WRFU Under 18's (M)
DESCRIPTION:Dorset & Wilts RFU vs Gloucestershire RFU
URL:https://dwrugby.co.uk/event/dwrfu-18s-m/
LOCATION:TBC
END:VEVENT
BEGIN:VEVENT
DTSTART;VALUE=DATE:20171212
DTEND;VALUE=DATE:20171213
DTSTAMP:20260423T031417
CREATED:20170827T191448Z
LAST-MODIFIED:20170827T191448Z
UID:8702-1513036800-1513123199@dwrugby.co.uk
SUMMARY:D&WRFU Under 20's (M)
DESCRIPTION:Dorset & Wilts RFU vs Berkshire RFU
URL:https://dwrugby.co.uk/event/dwrfu-20s-m-2/
LOCATION:Trowbridge RFC
END:VEVENT
BEGIN:VEVENT
DTSTART;TZID=UTC:20171205T190000
DTEND;TZID=UTC:20171205T213000
DTSTAMP:20260423T031417
CREATED:20170827T201618Z
LAST-MODIFIED:20170827T202435Z
UID:8761-1512500400-1512509400@dwrugby.co.uk
SUMMARY:D&WRFU Management Board
DESCRIPTION:
URL:https://dwrugby.co.uk/event/management-board-3/
LOCATION:Salisbury and South Wilts Sports Club\, Wilton Rd\, Salisbury \, SP2 9NY\, United Kingdom
END:VEVENT
BEGIN:VEVENT
DTSTART;TZID=UTC:20171203T080000
DTEND;TZID=UTC:20171203T170000
DTSTAMP:20260423T031417
CREATED:20170827T194439Z
LAST-MODIFIED:20170827T195135Z
UID:8730-1512288000-1512320400@dwrugby.co.uk
SUMMARY:D&WRFU Under 15's (F)
DESCRIPTION:Round Three - Dorset & Wilts RFU vs Oxfordshire / Host - Gloucestershire
URL:https://dwrugby.co.uk/event/dwrfu-15s-f-3/
LOCATION:TBC
END:VEVENT
BEGIN:VEVENT
DTSTART;VALUE=DATE:20171203
DTEND;VALUE=DATE:20171204
DTSTAMP:20260423T031417
CREATED:20170827T195734Z
LAST-MODIFIED:20170827T195822Z
UID:8744-1512259200-1512345599@dwrugby.co.uk
SUMMARY:D&WRFU Under 18's (F)
DESCRIPTION:Round Three Dorset & Wilts RFU vs Oxfordshire RFU / Host -  Gloucestershire
URL:https://dwrugby.co.uk/event/8744/
LOCATION:TBC
END:VEVENT
BEGIN:VEVENT
DTSTART;VALUE=DATE:20171203
DTEND;VALUE=DATE:20171204
DTSTAMP:20260423T031417
CREATED:20170827T171638Z
LAST-MODIFIED:20170827T191223Z
UID:8691-1512259200-1512345599@dwrugby.co.uk
SUMMARY:D&WRFU Under 18's (M)
DESCRIPTION:Dorset & Wilts RFU vs Devon RFU
URL:https://dwrugby.co.uk/event/under-18s-m/
LOCATION:TBC
END:VEVENT
BEGIN:VEVENT
DTSTART;VALUE=DATE:20171202
DTEND;VALUE=DATE:20171203
DTSTAMP:20260423T031417
CREATED:20170614T212932Z
LAST-MODIFIED:20170614T213118Z
UID:8206-1512172800-1512259199@dwrugby.co.uk
SUMMARY:D&WRFU SENIOR XV COMPETITIONS
DESCRIPTION:1st XV Cup\nFINAL \nTBC \n1st XV Vase\nFINAL \nTBC \n1st XV Plate\nFINAL \nTBC \n2nd XV Shield\nSEMI-FINAL \nTBC \n3rd XV Cup\nQUARTER FINAL \nMelksham or Swindon vs Salisbury \nDevizes or Trowbridge vs Chippenham \nSwanage & Wareham vs North Dorset \nWimborne vs Bournemouth
URL:https://dwrugby.co.uk/event/dwrfu-senior-xv-competitions/
END:VEVENT
BEGIN:VEVENT
DTSTART;VALUE=DATE:20171119
DTEND;VALUE=DATE:20171120
DTSTAMP:20260423T031417
CREATED:20170827T195534Z
LAST-MODIFIED:20170827T203126Z
UID:8742-1511049600-1511135999@dwrugby.co.uk
SUMMARY:D&WRFU UNDER 18’S (F)
DESCRIPTION:Round Two Dorset & Wilts RFU vs Gloucestershire RFU / Host - Cornwall
URL:https://dwrugby.co.uk/event/8742/
LOCATION:TBC
END:VEVENT
END:VCALENDAR