BEGIN:VCALENDAR
VERSION:2.0
PRODID:-//Dorset Wiltshire Rugby Football Union - ECPv6.15.20//NONSGML v1.0//EN
CALSCALE:GREGORIAN
METHOD:PUBLISH
X-WR-CALNAME:Dorset Wiltshire Rugby Football Union
X-ORIGINAL-URL:https://dwrugby.co.uk
X-WR-CALDESC:Events for Dorset Wiltshire Rugby Football Union
REFRESH-INTERVAL;VALUE=DURATION:PT1H
X-Robots-Tag:noindex
X-PUBLISHED-TTL:PT1H
BEGIN:VTIMEZONE
TZID:UTC
BEGIN:STANDARD
TZOFFSETFROM:+0000
TZOFFSETTO:+0000
TZNAME:UTC
DTSTART:20160101T000000
END:STANDARD
END:VTIMEZONE
BEGIN:VEVENT
DTSTART;VALUE=DATE:20170923
DTEND;VALUE=DATE:20170924
DTSTAMP:20260423T115037
CREATED:20170614T203901Z
LAST-MODIFIED:20170614T205349Z
UID:8191-1506124800-1506211199@dwrugby.co.uk
SUMMARY:D&WRFU Senior XV Competitions
DESCRIPTION: 1st XV Cup\nFIRST ROUND \n23rd September – KO at 2.30 pm \nNorth Dorset vs Trowbridge \nQUARTER FINAL \n23rd September – KO at 2.30 pm \nCorsham vs Marlborough \nDevizes vs Blandford \nSwanage & Wareham vs Sherborne \n1st XV Vase\nFIRST ROUND \nPewsey Vale vs Dorchester \nBridport vs Melksham \n1st XV Plate\nFIRST ROUND \nPoole vs Puddletown \nAmesbury vs Calne \n2nd XV Cup\nQUARTER FINAL \nTrowbridge vs Swanage & Wareham \nBournemouth vs Wimborne \nChippenham vs Swindon \nNorth Dorset vs Salisbury \n2nd XV Shield\nFIRST ROUND \nOakmeadians vs Lytchett Minster \nSherborne vs Blandford \nSupermarine vs Corsham \nSwindon Collage OB vs Devizes \nMelksham vs Marlborough \nWarminster vs Bradford on Avon \n 
URL:https://dwrugby.co.uk/event/dwrfu-senior-cup-competitions/
END:VEVENT
BEGIN:VEVENT
DTSTART;TZID=UTC:20170922T183000
DTEND;TZID=UTC:20170923T160000
DTSTAMP:20260423T115037
CREATED:20170827T203455Z
LAST-MODIFIED:20170827T203455Z
UID:8780-1506105000-1506182400@dwrugby.co.uk
SUMMARY:D&WRFU MANAGEMENT BOARD
DESCRIPTION:Workshop
URL:https://dwrugby.co.uk/event/dwrfu-management-board/
LOCATION:Milford Hotel Salisbury
END:VEVENT
BEGIN:VEVENT
DTSTART;TZID=UTC:20170918T193000
DTEND;TZID=UTC:20170918T213000
DTSTAMP:20260423T115037
CREATED:20170615T145654Z
LAST-MODIFIED:20170615T145654Z
UID:8232-1505763000-1505770200@dwrugby.co.uk
SUMMARY:WILTSHIRE YOUTH FORUM
DESCRIPTION:
URL:https://dwrugby.co.uk/event/wiltshire-youth-forum-2/
LOCATION:Devizes RFC\, The Sports Club London Road\, Devizes\, SN10 2DL
END:VEVENT
BEGIN:VEVENT
DTSTART;TZID=UTC:20170903T100000
DTEND;TZID=UTC:20170903T150000
DTSTAMP:20260423T115037
CREATED:20170828T072115Z
LAST-MODIFIED:20170828T072115Z
UID:8801-1504432800-1504450800@dwrugby.co.uk
SUMMARY:Dorset & Wilts RFU U20s Assessment Day
DESCRIPTION:
URL:https://dwrugby.co.uk/event/dorset-wilts-rfu-u20s-assessment-day/
LOCATION:Bryanston School\, Blandford Fourm\, DT11 0PX
END:VEVENT
BEGIN:VEVENT
DTSTART;TZID=UTC:20170829T190000
DTEND;TZID=UTC:20170829T213000
DTSTAMP:20260423T115037
CREATED:20170827T201500Z
LAST-MODIFIED:20170827T203228Z
UID:8759-1504033200-1504042200@dwrugby.co.uk
SUMMARY:D&WRFU Management Board
DESCRIPTION:
URL:https://dwrugby.co.uk/event/management-board-2/
LOCATION:Salisbury and South Wilts Sports Club\, Wilton Rd\, Salisbury \, SP2 9NY\, United Kingdom
END:VEVENT
BEGIN:VEVENT
DTSTART;TZID=UTC:20170726T193000
DTEND;TZID=UTC:20170726T193000
DTSTAMP:20260423T115037
CREATED:20170411T125036Z
LAST-MODIFIED:20170411T125036Z
UID:7050-1501097400-1501097400@dwrugby.co.uk
SUMMARY:D&WRFU AGM
DESCRIPTION:
URL:https://dwrugby.co.uk/event/dwrfu-agm/
LOCATION:Salisbury RFC\, Castle Road\, Salisbury\, SP1 3SA
END:VEVENT
BEGIN:VEVENT
DTSTART;VALUE=DATE:20170630
DTEND;VALUE=DATE:20170701
DTSTAMP:20260423T115037
CREATED:20170411T124955Z
LAST-MODIFIED:20170411T124955Z
UID:7047-1498780800-1498867199@dwrugby.co.uk
SUMMARY:Committee Dinner
DESCRIPTION:
URL:https://dwrugby.co.uk/event/committee-dinner/
LOCATION:The Wardrode Salisbury
END:VEVENT
BEGIN:VEVENT
DTSTART;TZID=UTC:20170620T190000
DTEND;TZID=UTC:20170620T210000
DTSTAMP:20260423T115037
CREATED:20170615T090236Z
LAST-MODIFIED:20170615T090236Z
UID:8216-1497985200-1497992400@dwrugby.co.uk
SUMMARY:MANAGEMENT BOARD MEETING
DESCRIPTION:
URL:https://dwrugby.co.uk/event/management-board-meeting/
LOCATION:Salisbury and South Wilts Sports Club\, Wilton Rd\, Salisbury \, SP2 9NY\, United Kingdom
END:VEVENT
BEGIN:VEVENT
DTSTART;TZID=UTC:20170619T110000
DTEND;TZID=UTC:20170619T153000
DTSTAMP:20260423T115037
CREATED:20170615T085800Z
LAST-MODIFIED:20170615T085800Z
UID:8214-1497870000-1497886200@dwrugby.co.uk
SUMMARY:PFR MEETING
DESCRIPTION:
URL:https://dwrugby.co.uk/event/pfr-meeting/
LOCATION:The Coppleridge Inn – Motcombe Dorset
END:VEVENT
BEGIN:VEVENT
DTSTART;VALUE=DATE:20170612
DTEND;VALUE=DATE:20170613
DTSTAMP:20260423T115037
CREATED:20170411T124921Z
LAST-MODIFIED:20170411T124921Z
UID:7044-1497225600-1497311999@dwrugby.co.uk
SUMMARY:D&WRFU Competitions Meeting
DESCRIPTION:
URL:https://dwrugby.co.uk/event/dwrfu-competitions-meeting-2/
LOCATION:North Dorset RFC Gillingham Dorset
END:VEVENT
BEGIN:VEVENT
DTSTART;VALUE=DATE:20170610
DTEND;VALUE=DATE:20170611
DTSTAMP:20260423T115037
CREATED:20170411T124844Z
LAST-MODIFIED:20170411T124844Z
UID:7041-1497052800-1497139199@dwrugby.co.uk
SUMMARY:Wiltshire Officers Conference
DESCRIPTION:
URL:https://dwrugby.co.uk/event/wiltshire-officers-conference/
LOCATION:Trowbridge RFC
END:VEVENT
BEGIN:VEVENT
DTSTART;VALUE=DATE:20170603
DTEND;VALUE=DATE:20170604
DTSTAMP:20260423T115037
CREATED:20170411T124817Z
LAST-MODIFIED:20170411T124817Z
UID:7038-1496448000-1496534399@dwrugby.co.uk
SUMMARY:Dorset Officers Conference
DESCRIPTION:
URL:https://dwrugby.co.uk/event/dorset-officers-conference/
LOCATION:Swanage & Wareham RFC
END:VEVENT
BEGIN:VEVENT
DTSTART;TZID=UTC:20170528T080000
DTEND;TZID=UTC:20170528T170000
DTSTAMP:20260423T115037
CREATED:20170411T124749Z
LAST-MODIFIED:20170411T124749Z
UID:7036-1495958400-1495990800@dwrugby.co.uk
SUMMARY:Seniors County Championship
DESCRIPTION:Tier 3 Final – Winner - Pool 1 vs Winner – Pool 2
URL:https://dwrugby.co.uk/event/seniors-county-championship/
END:VEVENT
BEGIN:VEVENT
DTSTART;VALUE=DATE:20170528
DTEND;VALUE=DATE:20170529
DTSTAMP:20260423T115037
CREATED:20170419T134930Z
LAST-MODIFIED:20170419T134930Z
UID:7407-1495929600-1496015999@dwrugby.co.uk
SUMMARY:D&W vs Cornwall Women
DESCRIPTION:
URL:https://dwrugby.co.uk/event/dw-vs-cornwall-women/
END:VEVENT
BEGIN:VEVENT
DTSTART;TZID=UTC:20170521T080000
DTEND;TZID=UTC:20170521T170000
DTSTAMP:20260423T115037
CREATED:20170419T134859Z
LAST-MODIFIED:20170419T134859Z
UID:7405-1495353600-1495386000@dwrugby.co.uk
SUMMARY:Surrey Development vs D&W Women
DESCRIPTION:
URL:https://dwrugby.co.uk/event/surrey-development-vs-dw-women/
END:VEVENT
BEGIN:VEVENT
DTSTART;VALUE=DATE:20170520
DTEND;VALUE=DATE:20170521
DTSTAMP:20260423T115037
CREATED:20170411T124718Z
LAST-MODIFIED:20170411T124718Z
UID:7033-1495238400-1495324799@dwrugby.co.uk
SUMMARY:D&W Seniors vs Berkshire
DESCRIPTION:
URL:https://dwrugby.co.uk/event/dw-seniors-vs-berkshire/
LOCATION:Royal Wootton Bassett RFC
END:VEVENT
BEGIN:VEVENT
DTSTART;TZID=UTC:20170516T193000
DTEND;TZID=UTC:20170516T193000
DTSTAMP:20260423T115037
CREATED:20170411T124640Z
LAST-MODIFIED:20170411T124640Z
UID:7031-1494963000-1494963000@dwrugby.co.uk
SUMMARY:Management Board
DESCRIPTION:
URL:https://dwrugby.co.uk/event/management-board/
LOCATION:Royal British Legion Salisbury
END:VEVENT
BEGIN:VEVENT
DTSTART;TZID=UTC:20170514T080000
DTEND;TZID=UTC:20170514T170000
DTSTAMP:20260423T115037
CREATED:20170419T134733Z
LAST-MODIFIED:20170419T134733Z
UID:7403-1494748800-1494781200@dwrugby.co.uk
SUMMARY:D&W vs Army Corps Women
DESCRIPTION:
URL:https://dwrugby.co.uk/event/dw-vs-army-corps-women/
END:VEVENT
BEGIN:VEVENT
DTSTART;VALUE=DATE:20170507
DTEND;VALUE=DATE:20170508
DTSTAMP:20260423T115037
CREATED:20170419T134713Z
LAST-MODIFIED:20170419T134713Z
UID:7401-1494115200-1494201599@dwrugby.co.uk
SUMMARY:Cornwall vs D&W Women
DESCRIPTION:
URL:https://dwrugby.co.uk/event/cornwall-vs-dw-women/
END:VEVENT
BEGIN:VEVENT
DTSTART;VALUE=DATE:20170507
DTEND;VALUE=DATE:20170508
DTSTAMP:20260423T115037
CREATED:20170411T124602Z
LAST-MODIFIED:20170411T124602Z
UID:7029-1494115200-1494201599@dwrugby.co.uk
SUMMARY:Under 20’s Final
DESCRIPTION:
URL:https://dwrugby.co.uk/event/under-20s-final/
END:VEVENT
BEGIN:VEVENT
DTSTART;TZID=UTC:20170506T080000
DTEND;TZID=UTC:20170506T170000
DTSTAMP:20260423T115037
CREATED:20170411T124545Z
LAST-MODIFIED:20170411T124545Z
UID:7026-1494057600-1494090000@dwrugby.co.uk
SUMMARY:Sussex vs D&W Seniors
DESCRIPTION:
URL:https://dwrugby.co.uk/event/sussex-vs-dw-seniors/
LOCATION:Crawley RFC
END:VEVENT
BEGIN:VEVENT
DTSTART;VALUE=DATE:20170505
DTEND;VALUE=DATE:20170506
DTSTAMP:20260423T115037
CREATED:20170411T124509Z
LAST-MODIFIED:20170411T124509Z
UID:7023-1493942400-1494028799@dwrugby.co.uk
SUMMARY:Volunteers Evening
DESCRIPTION:
URL:https://dwrugby.co.uk/event/volunteers-evening/
LOCATION:The Coppleridge Inn – Motcombe Dorset
END:VEVENT
BEGIN:VEVENT
DTSTART;VALUE=DATE:20170502
DTEND;VALUE=DATE:20170503
DTSTAMP:20260423T115037
CREATED:20170411T124427Z
LAST-MODIFIED:20170411T124427Z
UID:7020-1493683200-1493769599@dwrugby.co.uk
SUMMARY:D&WRFU Competitions Meeting
DESCRIPTION:
URL:https://dwrugby.co.uk/event/dwrfu-competitions-meeting/
LOCATION:North Dorset RFC Gillingham Dorset
END:VEVENT
BEGIN:VEVENT
DTSTART;VALUE=DATE:20170430
DTEND;VALUE=DATE:20170501
DTSTAMP:20260423T115037
CREATED:20170419T134650Z
LAST-MODIFIED:20170419T134650Z
UID:7399-1493510400-1493596799@dwrugby.co.uk
SUMMARY:D&W Women's trials
DESCRIPTION:
URL:https://dwrugby.co.uk/event/dw-womens-trials/
END:VEVENT
BEGIN:VEVENT
DTSTART;VALUE=DATE:20170430
DTEND;VALUE=DATE:20170501
DTSTAMP:20260423T115037
CREATED:20170411T124348Z
LAST-MODIFIED:20170411T124348Z
UID:7017-1493510400-1493596799@dwrugby.co.uk
SUMMARY:D&W Seniors vs Somerset
DESCRIPTION:
URL:https://dwrugby.co.uk/event/dw-seniors-vs-somerset/
LOCATION:North Dorset RFC Gillingham Dorset\, Longbury Hill Lane\, Gillingham\, SP8 5SY
END:VEVENT
BEGIN:VEVENT
DTSTART;TZID=UTC:20170424T193000
DTEND;TZID=UTC:20170424T193000
DTSTAMP:20260423T115037
CREATED:20170419T134523Z
LAST-MODIFIED:20170419T134618Z
UID:7396-1493062200-1493062200@dwrugby.co.uk
SUMMARY:D&W Joint Youth Forum
DESCRIPTION:Guest Speakers Mark Saltmarsh and Chris Sigsworth from RFU Education and Age Grade Rugby and Andy Rock from Bath DPP
URL:https://dwrugby.co.uk/event/dw-joint-youth-forum/
LOCATION:Salisbury RFC\, Castle Road\, Salisbury\, SP1 3SA
END:VEVENT
BEGIN:VEVENT
DTSTART;VALUE=DATE:20170416
DTEND;VALUE=DATE:20170417
DTSTAMP:20260423T115037
CREATED:20170411T124314Z
LAST-MODIFIED:20170411T124314Z
UID:7014-1492300800-1492387199@dwrugby.co.uk
SUMMARY:D&W Under 20’s vs Middlesex
DESCRIPTION:
URL:https://dwrugby.co.uk/event/dw-20s-vs-middlesex/
LOCATION:Bournemouth RFC
END:VEVENT
BEGIN:VEVENT
DTSTART;VALUE=DATE:20170412
DTEND;VALUE=DATE:20170413
DTSTAMP:20260423T115037
CREATED:20170411T124230Z
LAST-MODIFIED:20170411T124230Z
UID:7011-1491955200-1492041599@dwrugby.co.uk
SUMMARY:Nat West Rugby Force workshop
DESCRIPTION:
URL:https://dwrugby.co.uk/event/nat-west-rugby-force-workshop/
LOCATION:The Coppleridge Inn – Motcombe Dorset
END:VEVENT
BEGIN:VEVENT
DTSTART;TZID=UTC:20170411T193000
DTEND;TZID=UTC:20170411T193000
DTSTAMP:20260423T115037
CREATED:20170411T124118Z
LAST-MODIFIED:20170411T124118Z
UID:7008-1491939000-1491939000@dwrugby.co.uk
SUMMARY:Council meeting
DESCRIPTION:
URL:https://dwrugby.co.uk/event/council-meeting/
LOCATION:Royal British Legion Salisbury
END:VEVENT
END:VCALENDAR