BEGIN:VCALENDAR
VERSION:2.0
PRODID:-//Dorset Wiltshire Rugby Football Union - ECPv6.15.20//NONSGML v1.0//EN
CALSCALE:GREGORIAN
METHOD:PUBLISH
X-WR-CALNAME:Dorset Wiltshire Rugby Football Union
X-ORIGINAL-URL:https://dwrugby.co.uk
X-WR-CALDESC:Events for Dorset Wiltshire Rugby Football Union
REFRESH-INTERVAL;VALUE=DURATION:PT1H
X-Robots-Tag:noindex
X-PUBLISHED-TTL:PT1H
BEGIN:VTIMEZONE
TZID:UTC
BEGIN:STANDARD
TZOFFSETFROM:+0000
TZOFFSETTO:+0000
TZNAME:UTC
DTSTART:20200101T000000
END:STANDARD
END:VTIMEZONE
BEGIN:VEVENT
DTSTART;TZID=UTC:20220314T190000
DTEND;TZID=UTC:20220314T200000
DTSTAMP:20260420T082419
CREATED:20220224T105047Z
LAST-MODIFIED:20220224T105510Z
UID:32596-1647284400-1647288000@dwrugby.co.uk
SUMMARY:Volunteer Roles Workshop
DESCRIPTION:he RFU have a series of short volunteer webinars coming up\, focusing on specific roles and how to structure and recruit for the role.  They are 45 mins – 1 hour long and are suitable for clubs who are looking to recruit for their role\, and those with someone already in post – the aim is to spark discussion around the role and how to get the best out of your volunteers. \nEach sign up page has more info on the specific session\, each meeting is at 7pm and will run for approx. 45 mins to an hour: \n\nWomen & Girls contact
URL:https://dwrugby.co.uk/event/volunteer-roles-workshop-2/
LOCATION:Online
END:VEVENT
BEGIN:VEVENT
DTSTART;TZID=UTC:20220314T183000
DTEND;TZID=UTC:20220314T193000
DTSTAMP:20260420T082419
CREATED:20220224T112222Z
LAST-MODIFIED:20220224T112222Z
UID:32620-1647282600-1647286200@dwrugby.co.uk
SUMMARY:Youth Leadership Academy
DESCRIPTION:
URL:https://dwrugby.co.uk/event/youth-leadership-academy-2/
LOCATION:Zoom
END:VEVENT
BEGIN:VEVENT
DTSTART;TZID=UTC:20220310T180000
DTEND;TZID=UTC:20220310T190000
DTSTAMP:20260420T082419
CREATED:20220308T214038Z
LAST-MODIFIED:20220308T214038Z
UID:32737-1646935200-1646938800@dwrugby.co.uk
SUMMARY:CB National Call
DESCRIPTION:
URL:https://dwrugby.co.uk/event/cb-national-call/
LOCATION:Online
END:VEVENT
BEGIN:VEVENT
DTSTART;TZID=UTC:20220308T190000
DTEND;TZID=UTC:20220308T200000
DTSTAMP:20260420T082419
CREATED:20220216T094938Z
LAST-MODIFIED:20220216T094954Z
UID:32444-1646766000-1646769600@dwrugby.co.uk
SUMMARY:Women in Sport webinar – Reframing Sport for Teenage Girls
DESCRIPTION:Explore how you can reengage and make sport appealing and relevant to the lives of teenage girls
URL:https://dwrugby.co.uk/event/women-in-sport-webinar-reframing-sport-for-teenage-girls/
LOCATION:Zoom
END:VEVENT
BEGIN:VEVENT
DTSTART;TZID=UTC:20220307T190000
DTEND;TZID=UTC:20220307T200000
DTSTAMP:20260420T082419
CREATED:20220307T093614Z
LAST-MODIFIED:20220307T093614Z
UID:32705-1646679600-1646683200@dwrugby.co.uk
SUMMARY:Safeguarding Zoom Meeting
DESCRIPTION:
URL:https://dwrugby.co.uk/event/safeguarding-zoom-meeting-3/
LOCATION:Zoom
END:VEVENT
BEGIN:VEVENT
DTSTART;TZID=UTC:20220307T190000
DTEND;TZID=UTC:20220307T200000
DTSTAMP:20260420T082419
CREATED:20220224T104850Z
LAST-MODIFIED:20220224T105420Z
UID:32593-1646679600-1646683200@dwrugby.co.uk
SUMMARY:Volunteer Roles Workshop
DESCRIPTION:The RFU have a series of short volunteer webinars coming up\, focusing on specific roles and how to structure and recruit for the role.  They are 45 mins – 1 hour long and are suitable for clubs who are looking to recruit for their role\, and those with someone already in post – the aim is to spark discussion around the role and how to get the best out of your volunteers. \nEach sign up page has more info on the specific session\, each meeting is at 7pm and will run for approx. 45 mins to an hour: \n\nCommercial Manager (i.e. external bookings\, bar hire etc)
URL:https://dwrugby.co.uk/event/volunteer-roles-workshop/
LOCATION:Online
END:VEVENT
BEGIN:VEVENT
DTSTART;TZID=UTC:20220307T180000
DTEND;TZID=UTC:20220307T190000
DTSTAMP:20260420T082419
CREATED:20220307T092956Z
LAST-MODIFIED:20220307T092956Z
UID:32700-1646676000-1646679600@dwrugby.co.uk
SUMMARY:CB Discipline Drop-in call
DESCRIPTION:
URL:https://dwrugby.co.uk/event/cb-discipline-drop-in-call-2/
LOCATION:Zoom
END:VEVENT
BEGIN:VEVENT
DTSTART;VALUE=DATE:20220305
DTEND;VALUE=DATE:20220306
DTSTAMP:20260420T082419
CREATED:20220217T133129Z
LAST-MODIFIED:20220217T133129Z
UID:32475-1646438400-1646524799@dwrugby.co.uk
SUMMARY:D&WRFU Senior Woman's Trial
DESCRIPTION:
URL:https://dwrugby.co.uk/event/dwrfu-senior-womans-trial-2/
LOCATION:North Dorset RFC Gillingham Dorset\, Longbury Hill Lane\, Gillingham\, SP8 5SY
END:VEVENT
BEGIN:VEVENT
DTSTART;TZID=UTC:20220303T190000
DTEND;TZID=UTC:20220303T200000
DTSTAMP:20260420T082419
CREATED:20220224T112825Z
LAST-MODIFIED:20220224T112825Z
UID:32624-1646334000-1646337600@dwrugby.co.uk
SUMMARY:Competitions Group meeting
DESCRIPTION:
URL:https://dwrugby.co.uk/event/competitions-group-meeting/
LOCATION:Online
END:VEVENT
BEGIN:VEVENT
DTSTART;TZID=UTC:20220302T190000
DTEND;TZID=UTC:20220302T213000
DTSTAMP:20260420T082419
CREATED:20220224T111244Z
LAST-MODIFIED:20220224T111244Z
UID:32610-1646247600-1646256600@dwrugby.co.uk
SUMMARY:RFU "In Touch" Virtual Safeguarding Courses
DESCRIPTION:Safeguarding Virtual Learning \n\nThis Course is aimed at those leading on Safeguarding in their organisation and/or have a responsibility for a Volunteer Workforce.\nBy the end of the workshop participants will be able to define and explain the role and responsibility of an RFU Club Safeguarding Officer.\nThe session will also identify the roles of club members and officers to promote best safeguarding practice.\nIt will help identify best practice when recruiting in the club\, & how to apply the RFU Safeguarding Children Policy Guidance & Procedures and Safeguarding Toolkit. Finally\, it will assist in managing concerns\n\nTo register Click here
URL:https://dwrugby.co.uk/event/rfu-in-touch-virtual-safeguarding-courses/
LOCATION:Online
END:VEVENT
BEGIN:VEVENT
DTSTART;TZID=UTC:20220301T193000
DTEND;TZID=UTC:20220301T203000
DTSTAMP:20260420T082419
CREATED:20220216T100109Z
LAST-MODIFIED:20220216T100109Z
UID:32462-1646163000-1646166600@dwrugby.co.uk
SUMMARY:Council
DESCRIPTION:
URL:https://dwrugby.co.uk/event/council-8/
END:VEVENT
BEGIN:VEVENT
DTSTART;TZID=UTC:20220228T193000
DTEND;TZID=UTC:20220228T203000
DTSTAMP:20260420T082419
CREATED:20220223T210645Z
LAST-MODIFIED:20220223T210645Z
UID:32586-1646076600-1646080200@dwrugby.co.uk
SUMMARY:West Dorset Huddle
DESCRIPTION:
URL:https://dwrugby.co.uk/event/west-dorset-huddle-6/
LOCATION:Zoom
END:VEVENT
BEGIN:VEVENT
DTSTART;TZID=UTC:20220228T183000
DTEND;TZID=UTC:20220228T203000
DTSTAMP:20260420T082419
CREATED:20220216T100705Z
LAST-MODIFIED:20220216T100705Z
UID:32464-1646073000-1646080200@dwrugby.co.uk
SUMMARY:Inclusive Influencers Virtual workshops
DESCRIPTION:The Inclusive Influencers Workshop will include: \n\nEstablish shared understanding of Equality\, Diversity & Inclusion (EDI) principles and terminology\nDevelop confidence in articulating why EDI matters to you personally and to rugby\nBegin to build your own Inclusive Influencer action plan\nBegin to build a community of inclusive influencers for inspiration and support post workshop (post workshop you will be put into groups with other CBs colleagues to support each other with being inclusive influencers).\n\n 
URL:https://dwrugby.co.uk/event/inclusive-influencers-virtual-workshops/
LOCATION:Eventbrite
END:VEVENT
BEGIN:VEVENT
DTSTART;TZID=UTC:20220228T183000
DTEND;TZID=UTC:20220228T193000
DTSTAMP:20260420T082419
CREATED:20220224T112144Z
LAST-MODIFIED:20220224T112144Z
UID:32618-1646073000-1646076600@dwrugby.co.uk
SUMMARY:Youth Leadership Academy
DESCRIPTION:
URL:https://dwrugby.co.uk/event/youth-leadership-academy/
LOCATION:Zoom
END:VEVENT
BEGIN:VEVENT
DTSTART;TZID=UTC:20220227T140000
DTEND;TZID=UTC:20220227T170000
DTSTAMP:20260420T082419
CREATED:20220119T151623Z
LAST-MODIFIED:20220216T100008Z
UID:32293-1645970400-1645981200@dwrugby.co.uk
SUMMARY:Devon RFU Under 20's vs D&WRFU Under 20's
DESCRIPTION:For more information please email by Clicking here 
URL:https://dwrugby.co.uk/event/devon-rfu-under-20s-vs-dwrfu-under-20s/
LOCATION:Ivybridge RFC – PL21 0LR
END:VEVENT
BEGIN:VEVENT
DTSTART;VALUE=DATE:20220226
DTEND;VALUE=DATE:20220227
DTSTAMP:20260420T082419
CREATED:20220217T133034Z
LAST-MODIFIED:20220217T133034Z
UID:32473-1645833600-1645919999@dwrugby.co.uk
SUMMARY:D&WRFU Senior Woman's Trial
DESCRIPTION:
URL:https://dwrugby.co.uk/event/dwrfu-senior-womans-trial/
LOCATION:Warminster RFC\, Folly Lane\, Warminster\, BA12 7RG
END:VEVENT
BEGIN:VEVENT
DTSTART;TZID=UTC:20220225T180000
DTEND;TZID=UTC:20220225T200000
DTSTAMP:20260420T082419
CREATED:20220224T120108Z
LAST-MODIFIED:20220224T120108Z
UID:32626-1645812000-1645819200@dwrugby.co.uk
SUMMARY:Under 20's Male Training
DESCRIPTION:
URL:https://dwrugby.co.uk/event/under-20s-male-training/
LOCATION:Salisbury RFC\, Castle Road\, Salisbury\, SP1 3SA
END:VEVENT
BEGIN:VEVENT
DTSTART;TZID=UTC:20220223T193000
DTEND;TZID=UTC:20220223T203000
DTSTAMP:20260420T082419
CREATED:20220223T210854Z
LAST-MODIFIED:20220223T210854Z
UID:32590-1645644600-1645648200@dwrugby.co.uk
SUMMARY:East Dorset Huddle
DESCRIPTION:
URL:https://dwrugby.co.uk/event/east-dorset-huddle-4/
LOCATION:Zoom
END:VEVENT
BEGIN:VEVENT
DTSTART;TZID=UTC:20220223T190000
DTEND;TZID=UTC:20220223T200000
DTSTAMP:20260420T082419
CREATED:20220216T094825Z
LAST-MODIFIED:20220216T094825Z
UID:32442-1645642800-1645646400@dwrugby.co.uk
SUMMARY:The Touch Union Official Launch – New Club Information Session
DESCRIPTION:An education and informational session for clubs who currently aren’t affiliated with The Touch Union but would like to learn more about the format and how it can be delivered. Resources will also be made available.
URL:https://dwrugby.co.uk/event/the-touch-union-official-launch-new-club-information-session/
LOCATION:Zoom
END:VEVENT
BEGIN:VEVENT
DTSTART;TZID=UTC:20220223T130000
DTEND;TZID=UTC:20220223T140000
DTSTAMP:20260420T082419
CREATED:20220216T100956Z
LAST-MODIFIED:20220216T100956Z
UID:32466-1645621200-1645624800@dwrugby.co.uk
SUMMARY:CB Networking Session
DESCRIPTION:CB structures\nConstitutions/Terms of reference and\nVolunteer recruitment and succession planning\n\nSession one: 23/02/2022 at 1pm \nSession two: 23/02/2022 at 7pm
URL:https://dwrugby.co.uk/event/cb-networking-session/
LOCATION:Zoom
END:VEVENT
BEGIN:VEVENT
DTSTART;TZID=UTC:20220221T193000
DTEND;TZID=UTC:20220221T203000
DTSTAMP:20260420T082419
CREATED:20211217T080821Z
LAST-MODIFIED:20220223T210818Z
UID:32131-1645471800-1645475400@dwrugby.co.uk
SUMMARY:West Wiltshire Huddle
DESCRIPTION:
URL:https://dwrugby.co.uk/event/west-wiltshire-huddle-4/
END:VEVENT
BEGIN:VEVENT
DTSTART;TZID=UTC:20220207T190000
DTEND;TZID=UTC:20220207T200000
DTSTAMP:20260420T082419
CREATED:20211217T080745Z
LAST-MODIFIED:20211217T080745Z
UID:32129-1644260400-1644264000@dwrugby.co.uk
SUMMARY:South Wilts Huddle
DESCRIPTION:
URL:https://dwrugby.co.uk/event/south-wilts-huddle-2/
LOCATION:Zoom
END:VEVENT
BEGIN:VEVENT
DTSTART;TZID=UTC:20220206T130000
DTEND;TZID=UTC:20220206T170000
DTSTAMP:20260420T082419
CREATED:20220119T145636Z
LAST-MODIFIED:20220119T192220Z
UID:32279-1644152400-1644166800@dwrugby.co.uk
SUMMARY:D&WRFU Under 20's vs Cornwall Under 20's
DESCRIPTION:For more information please email by Clicking here 
URL:https://dwrugby.co.uk/event/dwrfu-under-20s-vs-cornwall-un-20s/
LOCATION:TBC
END:VEVENT
BEGIN:VEVENT
DTSTART;TZID=UTC:20220124T190000
DTEND;TZID=UTC:20220124T200000
DTSTAMP:20260420T082419
CREATED:20211217T080648Z
LAST-MODIFIED:20211217T080648Z
UID:32127-1643050800-1643054400@dwrugby.co.uk
SUMMARY:Safeguarding meeting
DESCRIPTION:
URL:https://dwrugby.co.uk/event/safeguarding-meeting-4/
LOCATION:Zoom
END:VEVENT
BEGIN:VEVENT
DTSTART;VALUE=DATE:20220123
DTEND;VALUE=DATE:20220124
DTSTAMP:20260420T082419
CREATED:20220104T170640Z
LAST-MODIFIED:20220107T132223Z
UID:32165-1642896000-1642982399@dwrugby.co.uk
SUMMARY:D&W Girls U15 and U18 Trials
DESCRIPTION:Dorset & Wilts RFU would like to invite you to nominate any Under 15 / Under 18 girls\, that fit the criteria below\, to attend a Player Assessment Day / County Trials on Sunday January 23rd 2022 at Sherborne RFC [DT9 5NS]. \nAll players must arrive dressed ready for the assessment. Registration is at 11am for a 11:30 start\, it is due to finish at approximately 15:00 - please do not send girls to the trials without having sent through their details on a nomination form\n \nUnder 15's - School years 9 and 10\nUnder 18's - School years 11 - 13\n \nPlease nominate players that : \n\n\nyou feel are capable of playing at a high standard\, if they are reasonably new but capable - please nominate\nhave a good working knowledge / experience of tackling\n\nPlease ensure that:\n\n\nthe nomination form is correctly completed - especially the parent/guardian email address for each girl\nforms should be emailed to dwgirlsrugby@gmail.com by  Monday 17th January 2022.\nany late nominations will only be accepted in exceptional circumstances in consultation with the coaching and management team.\nthe girls know that they MUST bring the signed Player Contact and Consent form with them to the trials (It will be emailed to the parent / guardian on receipt of the nomination form\, hence the importance of the correct email) \n\nIf you have any questions about the trials\, or if any girls you wish to nominate cannot make the selection day of 23rd January 2022\, PLEASE contact us (dwgirlsrugby@gmail.com)\n \nIf you have girls that are not ready for trials or need more opportunities to play / train in larger groups\, please come along to one of our "D&W Super Clusters"\, details will be sent to clubs / schools - or contact us for more information.\n\nNomination forms: Under 15's Nominations  |  Under 18's Nominations
URL:https://dwrugby.co.uk/event/dw-girls-u15-and-u18-trials/
LOCATION:Sherborne RFC
END:VEVENT
BEGIN:VEVENT
DTSTART;TZID=UTC:20220118T193000
DTEND;TZID=UTC:20220118T203000
DTSTAMP:20260420T082419
CREATED:20210412T094519Z
LAST-MODIFIED:20210730T093026Z
UID:29782-1642534200-1642537800@dwrugby.co.uk
SUMMARY:Council meeting
DESCRIPTION:
URL:https://dwrugby.co.uk/event/council-meeting-4/
LOCATION:Zoom
END:VEVENT
BEGIN:VEVENT
DTSTART;TZID=UTC:20220111T193000
DTEND;TZID=UTC:20220111T203000
DTSTAMP:20260420T082419
CREATED:20210412T100103Z
LAST-MODIFIED:20210730T093131Z
UID:29794-1641929400-1641933000@dwrugby.co.uk
SUMMARY:Management Board
DESCRIPTION:
URL:https://dwrugby.co.uk/event/management-board-25/
LOCATION:Zoom
END:VEVENT
BEGIN:VEVENT
DTSTART;TZID=UTC:20220110T193000
DTEND;TZID=UTC:20220110T203000
DTSTAMP:20260420T082419
CREATED:20211217T080548Z
LAST-MODIFIED:20211217T080548Z
UID:32125-1641843000-1641846600@dwrugby.co.uk
SUMMARY:West Dorset Huddle
DESCRIPTION:
URL:https://dwrugby.co.uk/event/west-dorset-huddle-5/
LOCATION:Zoom
END:VEVENT
BEGIN:VEVENT
DTSTART;TZID=UTC:20220105T180000
DTEND;TZID=UTC:20220105T190000
DTSTAMP:20260420T082419
CREATED:20210809T091652Z
LAST-MODIFIED:20210809T091658Z
UID:30693-1641405600-1641409200@dwrugby.co.uk
SUMMARY:RFU & CB Comms liaison meeting
DESCRIPTION:
URL:https://dwrugby.co.uk/event/rfu-cb-comms-liaison-meeting-5/
LOCATION:Zoom
END:VEVENT
BEGIN:VEVENT
DTSTART;TZID=UTC:20211201T180000
DTEND;TZID=UTC:20211201T190000
DTSTAMP:20260420T082419
CREATED:20210809T091611Z
LAST-MODIFIED:20210809T091611Z
UID:30691-1638381600-1638385200@dwrugby.co.uk
SUMMARY:RFU & CB Comms liaison meeting
DESCRIPTION:
URL:https://dwrugby.co.uk/event/rfu-cb-comms-liaison-meeting-4/
LOCATION:Zoom
END:VEVENT
END:VCALENDAR