BEGIN:VCALENDAR
VERSION:2.0
PRODID:-//Dorset Wiltshire Rugby Football Union - ECPv6.15.20//NONSGML v1.0//EN
CALSCALE:GREGORIAN
METHOD:PUBLISH
X-ORIGINAL-URL:https://dwrugby.co.uk
X-WR-CALDESC:Events for Dorset Wiltshire Rugby Football Union
REFRESH-INTERVAL;VALUE=DURATION:PT1H
X-Robots-Tag:noindex
X-PUBLISHED-TTL:PT1H
BEGIN:VTIMEZONE
TZID:UTC
BEGIN:STANDARD
TZOFFSETFROM:+0000
TZOFFSETTO:+0000
TZNAME:UTC
DTSTART:20210101T000000
END:STANDARD
END:VTIMEZONE
BEGIN:VEVENT
DTSTART;TZID=UTC:20220404T190000
DTEND;TZID=UTC:20220404T200000
DTSTAMP:20260426T033019
CREATED:20220315T172759Z
LAST-MODIFIED:20220315T172759Z
UID:32814-1649098800-1649102400@dwrugby.co.uk
SUMMARY:RFU Transition Workshop (Part 2)
DESCRIPTION:Club are invited to attend the RFU Transition Workshop (Part 2) aimed at providing further advice and guidance around Player Transition. The workshop will follow on from the 'Back in the Game' campaign launch; targeting club volunteers linked to U17s through to Senior Rugby. \nTitle: Transition 2 \nDate: Monday 4th April 2022 \nTime: 7pm to 8pm \nPresenters: RFU Professional Staff \nWorkshop Aims: \n\nPlayers Feedback from Back in the Game campaign and how we can relate to the findings.\nOpportunity to share ideas and best practice\, what has worked\, what hasn’t and what would you like to try next?\nDiscussions around what a good playing offer looks like (on & off field)?\nNext steps?\n\nTo registration your interest please click HERE. After registering\, you will receive a confirmation email containing information about joining the meeting.
URL:https://dwrugby.co.uk/event/rfu-transition-workshop-part-2/
LOCATION:Online
END:VEVENT
BEGIN:VEVENT
DTSTART;TZID=UTC:20220404T193000
DTEND;TZID=UTC:20220404T203000
DTSTAMP:20260426T033019
CREATED:20220307T093937Z
LAST-MODIFIED:20220307T093937Z
UID:32709-1649100600-1649104200@dwrugby.co.uk
SUMMARY:West Dorset Huddle
DESCRIPTION:
URL:https://dwrugby.co.uk/event/west-dorset-huddle-7/
LOCATION:Zoom
END:VEVENT
BEGIN:VEVENT
DTSTART;TZID=UTC:20220405T190000
DTEND;TZID=UTC:20220405T200000
DTSTAMP:20260426T033019
CREATED:20220216T095703Z
LAST-MODIFIED:20220216T095703Z
UID:32457-1649185200-1649188800@dwrugby.co.uk
SUMMARY:Rugby Grounds Connected
DESCRIPTION:TBC - maybe held on the 6th April.
URL:https://dwrugby.co.uk/event/rugby-grounds-connected/
END:VEVENT
BEGIN:VEVENT
DTSTART;TZID=UTC:20220407T190000
DTEND;TZID=UTC:20220407T200000
DTSTAMP:20260426T033019
CREATED:20220216T095536Z
LAST-MODIFIED:20220216T095536Z
UID:32455-1649358000-1649361600@dwrugby.co.uk
SUMMARY:Employment Law webinar series with Irwin Mitchell
DESCRIPTION:
URL:https://dwrugby.co.uk/event/employment-law-webinar-series-with-irwin-mitchell-3/
END:VEVENT
BEGIN:VEVENT
DTSTART;TZID=UTC:20220411T180000
DTEND;TZID=UTC:20220411T190000
DTSTAMP:20260426T033019
CREATED:20220316T085012Z
LAST-MODIFIED:20220316T085012Z
UID:32817-1649700000-1649703600@dwrugby.co.uk
SUMMARY:CB Discipline Drop-in call
DESCRIPTION:
URL:https://dwrugby.co.uk/event/cb-discipline-drop-in-call-3/
LOCATION:Zoom
END:VEVENT
BEGIN:VEVENT
DTSTART;TZID=UTC:20220419T193000
DTEND;TZID=UTC:20220419T203000
DTSTAMP:20260426T033019
CREATED:20220307T094405Z
LAST-MODIFIED:20220307T094405Z
UID:32711-1650396600-1650400200@dwrugby.co.uk
SUMMARY:Council Meeting
DESCRIPTION:
URL:https://dwrugby.co.uk/event/council-meeting-6/
LOCATION:Zoom
END:VEVENT
BEGIN:VEVENT
DTSTART;TZID=UTC:20220427T190000
DTEND;TZID=UTC:20220427T213000
DTSTAMP:20260426T033019
CREATED:20220224T111735Z
LAST-MODIFIED:20220224T111735Z
UID:32616-1651086000-1651095000@dwrugby.co.uk
SUMMARY:RFU "In Touch" Virtual Safeguarding Courses
DESCRIPTION:Safeguarding Virtual Learning \n\nThis Course is aimed at those leading on Safeguarding in their organisation and/or have a responsibility for a Volunteer Workforce.\nBy the end of the workshop participants will be able to define and explain the role and responsibility of an RFU Club Safeguarding Officer.\nThe session will also identify the roles of club members and officers to promote best safeguarding practice.\nIt will help identify best practice when recruiting in the club\, & how to apply the RFU Safeguarding Children Policy Guidance & Procedures and Safeguarding Toolkit. Finally\, it will assist in managing concerns\n\nTo register Click here
URL:https://dwrugby.co.uk/event/rfu-in-touch-virtual-safeguarding-courses-4/
LOCATION:Online
END:VEVENT
BEGIN:VEVENT
DTSTART;TZID=UTC:20220428T183000
DTEND;TZID=UTC:20220428T203000
DTSTAMP:20260426T033019
CREATED:20220216T095814Z
LAST-MODIFIED:20220216T095814Z
UID:32459-1651170600-1651177800@dwrugby.co.uk
SUMMARY:Engaging your Community
DESCRIPTION:By the end of this workshop participants will be able to: \n\nAn understanding of the principles of community engagement\nExplored the benefits of community engagement for both the club and the community\nExplored how their club can meet the needs of the local community and identified how to engage with their community\n\nIdentified actions to improve your club’s community engagement and increase participation
URL:https://dwrugby.co.uk/event/engaging-your-community/
LOCATION:Eventbrite
END:VEVENT
END:VCALENDAR