BEGIN:VCALENDAR
VERSION:2.0
PRODID:-//Dorset Wiltshire Rugby Football Union - ECPv6.15.20//NONSGML v1.0//EN
CALSCALE:GREGORIAN
METHOD:PUBLISH
X-ORIGINAL-URL:https://dwrugby.co.uk
X-WR-CALDESC:Events for Dorset Wiltshire Rugby Football Union
REFRESH-INTERVAL;VALUE=DURATION:PT1H
X-Robots-Tag:noindex
X-PUBLISHED-TTL:PT1H
BEGIN:VTIMEZONE
TZID:UTC
BEGIN:STANDARD
TZOFFSETFROM:+0000
TZOFFSETTO:+0000
TZNAME:UTC
DTSTART:20210101T000000
END:STANDARD
END:VTIMEZONE
BEGIN:VEVENT
DTSTART;TZID=UTC:20220505T190000
DTEND;TZID=UTC:20220505T200000
DTSTAMP:20260426T014210
CREATED:20220419T124322Z
LAST-MODIFIED:20220419T124322Z
UID:32944-1651777200-1651780800@dwrugby.co.uk
SUMMARY:Woman's & Girls Forum
DESCRIPTION:For more information\, please email Chris Burton
URL:https://dwrugby.co.uk/event/womans-girls-forum/
LOCATION:Zoom
END:VEVENT
BEGIN:VEVENT
DTSTART;TZID=UTC:20220507T140000
DTEND;TZID=UTC:20220507T170000
DTSTAMP:20260426T014210
CREATED:20220307T100347Z
LAST-MODIFIED:20220405T071927Z
UID:32720-1651932000-1651942800@dwrugby.co.uk
SUMMARY:Dorset & Wilts Senior Men's XV vs. Eastern Counties Senior Men's XV
DESCRIPTION:Kick off - 15.00 hrs.
URL:https://dwrugby.co.uk/event/dorset-wilts-senior-mens-xv-vs-eastern-counties-senior-mens-xv/
LOCATION:Royal Wootton Bassett RFC
END:VEVENT
BEGIN:VEVENT
DTSTART;TZID=UTC:20220508T140000
DTEND;TZID=UTC:20220508T170000
DTSTAMP:20260426T014210
CREATED:20220119T150536Z
LAST-MODIFIED:20220405T072646Z
UID:32287-1652018400-1652029200@dwrugby.co.uk
SUMMARY:Cornwall Senior Woman's XV vs D&WRFU Senior Woman's XV
DESCRIPTION:
URL:https://dwrugby.co.uk/event/cornwall-senior-womans-xv-vs-dwrfu-senior-womans-xv/
LOCATION:Launceston RFC
END:VEVENT
BEGIN:VEVENT
DTSTART;TZID=UTC:20220509T183000
DTEND;TZID=UTC:20220509T193000
DTSTAMP:20260426T014210
CREATED:20220315T082217Z
LAST-MODIFIED:20220425T180940Z
UID:32810-1652121000-1652124600@dwrugby.co.uk
SUMMARY:YOUTH LEADERSHIP ACADEMY
DESCRIPTION:
URL:https://dwrugby.co.uk/event/youth-leadership-academy-4/
LOCATION:Zoom
END:VEVENT
BEGIN:VEVENT
DTSTART;TZID=UTC:20220509T193000
DTEND;TZID=UTC:20220509T203000
DTSTAMP:20260426T014210
CREATED:20220307T094853Z
LAST-MODIFIED:20220307T094927Z
UID:32713-1652124600-1652128200@dwrugby.co.uk
SUMMARY:South Wiltshire Huddle
DESCRIPTION:
URL:https://dwrugby.co.uk/event/south-wiltshire-huddle-5/
LOCATION:Zoom
END:VEVENT
BEGIN:VEVENT
DTSTART;TZID=UTC:20220514T143000
DTEND;TZID=UTC:20220514T170000
DTSTAMP:20260426T014210
CREATED:20220119T150712Z
LAST-MODIFIED:20220405T072427Z
UID:32289-1652538600-1652547600@dwrugby.co.uk
SUMMARY:D&WRFU Senior Woman's XV vs Somerset Senior Woman's XV
DESCRIPTION:
URL:https://dwrugby.co.uk/event/dwrfu-senior-womans-xv-vs-somerset-senior-womans-xv/
LOCATION:TBC
END:VEVENT
BEGIN:VEVENT
DTSTART;TZID=UTC:20220515T140000
DTEND;TZID=UTC:20220515T170000
DTSTAMP:20260426T014210
CREATED:20220119T150059Z
LAST-MODIFIED:20220405T072759Z
UID:32282-1652623200-1652634000@dwrugby.co.uk
SUMMARY:Somerset Senior XV vs D&WRFU Senior XV
DESCRIPTION:
URL:https://dwrugby.co.uk/event/somerset-senior-xv-vs-dwrfu-senior-xv/
LOCATION:TBC
END:VEVENT
BEGIN:VEVENT
DTSTART;TZID=UTC:20220516T193000
DTEND;TZID=UTC:20220516T203000
DTSTAMP:20260426T014210
CREATED:20220307T095227Z
LAST-MODIFIED:20220307T095227Z
UID:32715-1652729400-1652733000@dwrugby.co.uk
SUMMARY:West Wiltshire Huddle
DESCRIPTION:
URL:https://dwrugby.co.uk/event/west-wiltshire-huddle-5/
LOCATION:Zoom
END:VEVENT
BEGIN:VEVENT
DTSTART;TZID=UTC:20220521T150000
DTEND;TZID=UTC:20220521T170000
DTSTAMP:20260426T014210
CREATED:20220119T150236Z
LAST-MODIFIED:20220405T072058Z
UID:32285-1653145200-1653152400@dwrugby.co.uk
SUMMARY:D&WRFU Senior XV vs Essex RFU Senior XV
DESCRIPTION:For more information please email by Clicking here 
URL:https://dwrugby.co.uk/event/dwrfu-senior-xv-vs-essex-rfu-senior-xv/
LOCATION:Swanage & Wareham RFC
END:VEVENT
BEGIN:VEVENT
DTSTART;TZID=UTC:20220522T130000
DTEND;TZID=UTC:20220522T170000
DTSTAMP:20260426T014210
CREATED:20220405T073150Z
LAST-MODIFIED:20220405T073150Z
UID:32901-1653224400-1653238800@dwrugby.co.uk
SUMMARY:D&WRFU Under 15's Girls vs Buckinghamshire RFU Under 15's Girls
DESCRIPTION:
URL:https://dwrugby.co.uk/event/dwrfu-under-15s-girls-vs-buckinghamshire-rfu-under-15s-girls/
LOCATION:Royal Wootton Bassett RFC
END:VEVENT
BEGIN:VEVENT
DTSTART;TZID=UTC:20220522T140000
DTEND;TZID=UTC:20220522T170000
DTSTAMP:20260426T014210
CREATED:20220119T150838Z
LAST-MODIFIED:20220405T072923Z
UID:32291-1653228000-1653238800@dwrugby.co.uk
SUMMARY:D&WRFU Senior Woman's XV vs Middlesex Senior Woman's XV
DESCRIPTION:
URL:https://dwrugby.co.uk/event/swrfu-senior-womans-xv-vs-middlesex-senior-womans-xv/
LOCATION:Royal Wootton Bassett RFC
END:VEVENT
BEGIN:VEVENT
DTSTART;TZID=UTC:20220523T193000
DTEND;TZID=UTC:20220523T203000
DTSTAMP:20260426T014210
CREATED:20220307T095323Z
LAST-MODIFIED:20220307T095336Z
UID:32717-1653334200-1653337800@dwrugby.co.uk
SUMMARY:East Dorset Huddle
DESCRIPTION:
URL:https://dwrugby.co.uk/event/east-dorset-huddle-5/
LOCATION:Zoom
END:VEVENT
BEGIN:VEVENT
DTSTART;TZID=UTC:20220524T193000
DTEND;TZID=UTC:20220524T203000
DTSTAMP:20260426T014210
CREATED:20220315T082524Z
LAST-MODIFIED:20220425T091236Z
UID:32812-1653420600-1653424200@dwrugby.co.uk
SUMMARY:Swindon & North Wiltshire Huddle
DESCRIPTION:
URL:https://dwrugby.co.uk/event/swindon-north-wiltshire-huddle-3/
LOCATION:Zoom
END:VEVENT
BEGIN:VEVENT
DTSTART;TZID=UTC:20220531T193000
DTEND;TZID=UTC:20220531T203000
DTSTAMP:20260426T014210
CREATED:20210412T094709Z
LAST-MODIFIED:20220307T100142Z
UID:29784-1654025400-1654029000@dwrugby.co.uk
SUMMARY:Council meeting
DESCRIPTION:
URL:https://dwrugby.co.uk/event/council-meeting-5/
LOCATION:Zoom
END:VEVENT
END:VCALENDAR