BEGIN:VCALENDAR
VERSION:2.0
PRODID:-//Dorset Wiltshire Rugby Football Union - ECPv6.15.20//NONSGML v1.0//EN
CALSCALE:GREGORIAN
METHOD:PUBLISH
X-ORIGINAL-URL:https://dwrugby.co.uk
X-WR-CALDESC:Events for Dorset Wiltshire Rugby Football Union
REFRESH-INTERVAL;VALUE=DURATION:PT1H
X-Robots-Tag:noindex
X-PUBLISHED-TTL:PT1H
BEGIN:VTIMEZONE
TZID:UTC
BEGIN:STANDARD
TZOFFSETFROM:+0000
TZOFFSETTO:+0000
TZNAME:UTC
DTSTART:20210101T000000
END:STANDARD
END:VTIMEZONE
BEGIN:VEVENT
DTSTART;TZID=UTC:20220801T193000
DTEND;TZID=UTC:20220801T193000
DTSTAMP:20260425T164601
CREATED:20220628T085947Z
LAST-MODIFIED:20220628T085947Z
UID:33134-1659382200-1659382200@dwrugby.co.uk
SUMMARY:West Dorset Huddle
DESCRIPTION:
URL:https://dwrugby.co.uk/event/west-dorset-huddle-8/
LOCATION:Zoom
END:VEVENT
BEGIN:VEVENT
DTSTART;TZID=UTC:20220809T193000
DTEND;TZID=UTC:20220809T203000
DTSTAMP:20260425T164601
CREATED:20220729T085504Z
LAST-MODIFIED:20220729T085504Z
UID:33207-1660073400-1660077000@dwrugby.co.uk
SUMMARY:Council
DESCRIPTION:
URL:https://dwrugby.co.uk/event/council-9/
LOCATION:Zoom
END:VEVENT
BEGIN:VEVENT
DTSTART;TZID=UTC:20220810T193000
DTEND;TZID=UTC:20220810T203000
DTSTAMP:20260425T164601
CREATED:20220729T085239Z
LAST-MODIFIED:20220729T085239Z
UID:33205-1660159800-1660163400@dwrugby.co.uk
SUMMARY:East Dorset Huddle
DESCRIPTION:
URL:https://dwrugby.co.uk/event/east-dorset-huddle-6/
LOCATION:Oakmeadians RFC\, United Kingdom
END:VEVENT
END:VCALENDAR