BEGIN:VCALENDAR
VERSION:2.0
PRODID:-//Dorset Wiltshire Rugby Football Union - ECPv6.15.20//NONSGML v1.0//EN
CALSCALE:GREGORIAN
METHOD:PUBLISH
X-WR-CALNAME:Dorset Wiltshire Rugby Football Union
X-ORIGINAL-URL:https://dwrugby.co.uk
X-WR-CALDESC:Events for Dorset Wiltshire Rugby Football Union
REFRESH-INTERVAL;VALUE=DURATION:PT1H
X-Robots-Tag:noindex
X-PUBLISHED-TTL:PT1H
BEGIN:VTIMEZONE
TZID:UTC
BEGIN:STANDARD
TZOFFSETFROM:+0000
TZOFFSETTO:+0000
TZNAME:UTC
DTSTART:20210101T000000
END:STANDARD
END:VTIMEZONE
BEGIN:VEVENT
DTSTART;TZID=UTC:20220912T193000
DTEND;TZID=UTC:20220912T203000
DTSTAMP:20260425T113032
CREATED:20220908T101218Z
LAST-MODIFIED:20220908T101218Z
UID:33467-1663011000-1663014600@dwrugby.co.uk
SUMMARY:West Dorset Huddle
DESCRIPTION:
URL:https://dwrugby.co.uk/event/west-dorset-huddle-9/
LOCATION:Zoom
END:VEVENT
BEGIN:VEVENT
DTSTART;TZID=UTC:20220913T193000
DTEND;TZID=UTC:20220913T210000
DTSTAMP:20260425T113032
CREATED:20220908T101054Z
LAST-MODIFIED:20220908T101054Z
UID:33465-1663097400-1663102800@dwrugby.co.uk
SUMMARY:Council
DESCRIPTION:
URL:https://dwrugby.co.uk/event/council-10/
LOCATION:Zoom
END:VEVENT
BEGIN:VEVENT
DTSTART;TZID=UTC:20220919T193000
DTEND;TZID=UTC:20220919T203000
DTSTAMP:20260425T113032
CREATED:20220908T104421Z
LAST-MODIFIED:20220912T091331Z
UID:33469-1663615800-1663619400@dwrugby.co.uk
SUMMARY:South Wiltshire Huddle
DESCRIPTION:CANCELLED
URL:https://dwrugby.co.uk/event/south-wiltshire-huddle-7/
LOCATION:Pewsey Vale RFC
END:VEVENT
BEGIN:VEVENT
DTSTART;TZID=UTC:20220920T193000
DTEND;TZID=UTC:20220920T203000
DTSTAMP:20260425T113032
CREATED:20220908T101406Z
LAST-MODIFIED:20220912T091445Z
UID:33472-1663702200-1663705800@dwrugby.co.uk
SUMMARY:Rugby Safe Meeting
DESCRIPTION:
URL:https://dwrugby.co.uk/event/rugby-safe-meeting/
LOCATION:Zoom
END:VEVENT
BEGIN:VEVENT
DTSTART;TZID=UTC:20220921T193000
DTEND;TZID=UTC:20220921T200000
DTSTAMP:20260425T113032
CREATED:20220908T101509Z
LAST-MODIFIED:20220908T101509Z
UID:33474-1663788600-1663790400@dwrugby.co.uk
SUMMARY:D&W RFU AGM
DESCRIPTION:
URL:https://dwrugby.co.uk/event/dw-rfu-agm/
LOCATION:Salisbury RFC\, Castle Road\, Salisbury\, SP1 3SA
END:VEVENT
BEGIN:VEVENT
DTSTART;TZID=UTC:20220926T193000
DTEND;TZID=UTC:20220926T203000
DTSTAMP:20260425T113032
CREATED:20220908T102722Z
LAST-MODIFIED:20220912T091404Z
UID:33493-1664220600-1664224200@dwrugby.co.uk
SUMMARY:South Wiltshire Huddle
DESCRIPTION:
URL:https://dwrugby.co.uk/event/south-wiltshire-huddle-6/
LOCATION:Pewsey Vale RFC
END:VEVENT
END:VCALENDAR